BEGIN:VCALENDAR
VERSION:2.0
PRODID:-//wp-events-plugin.com//7.2.3.1//EN
TZID:Europe/Rome
X-WR-TIMEZONE:Europe/Rome
BEGIN:VEVENT
UID:15220@milanoindiscoteca.it
DTSTART:20150116T010000Z
DTEND:20150116T010000Z
DTSTAMP:20150114T175631Z
URL:https://www.milanoindiscoteca.it/eventi-milano/venerdi-the-club-milano
 -2015-01-16/
SUMMARY:Venerdi The Club Milano
DESCRIPTION:[pinkbox]Prezzi Venerdi The Club Milano\nIngresso in lista Mila
 noindiscoteca (23.30 -01:00): \n15€ uomo / Omaggio Donna fino le 00.30 d
 opo 10€\n(senza lista Uomo / Donna 20€)\n\nTavoli:\nPista: a partire d
 a 200€ con 6 ingressi e Bottiglia (bottiglie successive 160€ cadauna)\
 nPrive Gold: a partire da 200€ con 6 ingressi e Bottiglia\nPrive White: 
 a partire da 250€ con 5 ingressi e Bottigli \n&nbsp\;\nPer essere inseri
 ti nella lista NOMINALE di MILANOINDISCOTECA:\nscrivere sms (anche whatsap
 p) al +39 328 2345620 con: Venerdi The Club + nome e cognome + numero pers
 one\n\nes: in 8 persone scrivere: Venerdi The Club Francesco Verdi\, 8 per
 sone\n\nSi ricorda che è sempre vigente la selezione all’ingresso. abbi
 gliamento curato e ingresso a coppie è sempre gradito.\n[/pinkbox]\n[vide
 o id="JudtWvIlttk" type="youtube" width="" height="420"]\n&nbsp\;\n&nbsp\;
 \n[midbox]Organizza la tua festa Venerdi The Club Milano\nFesta di complea
 nno\, festa di laurea\, festa di addio al nubilato\, festa di addio al cel
 ibato... Qualsiasi festa tu abbia in mente The Club Milano è la location 
 ideale per la tua festa. \nGrazie ai suoi tre prive siamo in grado di sodd
 isfare ogni tuo esigenza. \n\nChiamaci al +39 328 2345620 per un preventiv
 o gratuito oppure contattaci tramite l'apposito form sottostante\n[/midbox
 ]\n&nbsp\;\nSerata THE MOOD:\n“Mood è atmosfera\, umore\, animo e vogli
 a di fare festa. Un’atmosfera che nascerà ogni venerdì al The Club di 
 Milano”.\nThis is the Mood\, This is The Club.\n\nIn console a farvi sca
 tenare ci saranno ALE BUCCI & MARCO COCCIA\nOgni serata è adatta ad un pu
 bblico selezionato ed elegante\, quindi si consiglia fortemente di present
 arsi con un abbigliamento adeguato e per i gruppi di uomini venire accompa
 gnati da donne per evitare fastidiosi “rimbalzi”.
ATTACH;FMTTYPE=image/jpeg:https://www.milanoindiscoteca.it/wp-content/uplo
 ads/2014/09/Venerdi-The-Club-Milano.jpg
CATEGORIES:Evento con ingresso omaggio,Evento in homepage
LOCATION:The Club Milano\, Largo La Foppa - Corso Garibaldi\, 97\, Milano\,
  Italia
GEO:45.465454;9.186516
X-APPLE-STRUCTURED-LOCATION;VALUE=URI;X-ADDRESS=Largo La Foppa - Corso Gari
 baldi\, 97\, Milano\, Italia;X-APPLE-RADIUS=100;X-TITLE=The Club Milano:ge
 o:45.465454,9.186516
END:VEVENT
END:VCALENDAR