BEGIN:VCALENDAR
VERSION:2.0
PRODID:-//wp-events-plugin.com//7.2.3.1//EN
TZID:Europe/Rome
X-WR-TIMEZONE:Europe/Rome
BEGIN:VEVENT
UID:55775@milanoindiscoteca.it
DTSTART:20180713T190000Z
DTEND:20180713T223000Z
DTSTAMP:20180710T112413Z
URL:https://www.milanoindiscoteca.it/eventi-milano/venerdi-just-cavalli-mi
 lano-2018-07-13/
SUMMARY:Alesso Just Cavalli Milano - Just Cavalli Club Milano
DESCRIPTION:[pinkbox]\n\nvenerdI 13 luglio Special guest dj ALESSO JUST CAV
 ALLI MILANO\nAlesso Just Cavalli Milano! venerdi 13 luglio ospite eccezion
 ale al just cavalli Milano: uno dei top dj mondiali!\n\nPrevendite\, ovvia
 mente in lista Milano in Discoteca: a € 25\n\nSe non vuoi perderti l'esc
 lusivo evento pronta la tua prevendita con messaggio whatsapp al +39 328 
 2345620 scrivendo prevendite Alesso just cavalli + n persone ( vm18)\nAPER
 ITIVO [dalle 20.00]\nIngresso agevolato su prenotazione: 20€ (drink inc
 luso) su prenotazione\nTavoli in aperitivo: Bottiglia di spumante 55€\
 nBottiglia di superalcolico 100€\nInfo e prenotazioni al +393282345620\n
 [vc_separator width="80%" align="none"]\n\nSERATA [dalle 23.00]\nEsclusiva
 mente in prevendita\nUomo/Donna  30€ senza drink\nL'ingresso agevolato
  sarà esclusivamente in prevendita o con la prenotazione del tavolo.\n\n
 Tavoli \n\nper venerdi 13 luglio Alesso Just Cavalli Milano\nPista € 600
  max 10 persone\nbalconata € 3000 massimo 10 persone\nBranca minimo € 
 900 per 10 persone\n\nInfo e prenotazioni al +393282345620\n[vc_separator 
 width="80%" align="none"]\nPRENOTA\nPer essere inseriti nella lista NOMINA
 LE di MILANOINDISCOTECA:\nscrivere sms (anche whatsapp) al +39 328 2345620
  con: Giorno + Nome Locale + nome e cognome + numero persone\nes: in 8 per
 sone scrivere: Venerdì Just Cavalli Francesco Verdi\, 8 persone\nSi ricor
 da che è sempre vigente la selezione all’ingresso. Abbigliamento curato
  è sempre gradito.\nAttenzione: Ricordiamo che ovviamente il locale si ri
 serva l'accesso in forza dell'art 3 della legge 94 del 15 luglio 2009.\nAn
 cora non sai chi è ALESSO? se vuoi iscriverti alla newsletter o avere  u
 lteriori info clicca qui\n\nresta sempre aggiornato sulle nostre serate i
 scrivendoti alla nostra PAGINA FACEBOOK\n[/pinkbox]
ATTACH;FMTTYPE=image/jpeg:https://www.milanoindiscoteca.it/wp-content/uplo
 ads/2017/08/alesso-just-cavalli-milano-venerdi-13-luglio-.jpeg
CATEGORIES:Evento in homepage,Evento con prevendita
LOCATION:Just Cavalli Milano\, Via Luigi Camoens\, Milano\, 20121\, Italia
GEO:45.47297;9.172896
X-APPLE-STRUCTURED-LOCATION;VALUE=URI;X-ADDRESS=Via Luigi Camoens\, Milano\
 , 20121\, Italia;X-APPLE-RADIUS=100;X-TITLE=Just Cavalli Milano:geo:45.472
 97,9.172896
END:VEVENT
END:VCALENDAR