BEGIN:VCALENDAR
VERSION:2.0
PRODID:-//wp-events-plugin.com//7.2.3.1//EN
TZID:Europe/Rome
X-WR-TIMEZONE:Europe/Rome
BEGIN:VEVENT
UID:14787@milanoindiscoteca.it
DTSTART:20141113T230000Z
DTEND:20141113T230000Z
DTSTAMP:20141106T161932Z
URL:https://www.milanoindiscoteca.it/eventi-milano/venerdi-14-novembre-jef
 f-mills-magazzini-generali-milano/
SUMMARY:Venerdì 14 Novembre Jeff Mills Magazzini Generali Milano
DESCRIPTION:[pinkbox]Prezzi Venerdì 14 Novembre Jeff Mills Magazzini Gener
 ali Milano:\nRidotto 12€(fino a mezzanotte)\nRidotto 15€(liste fino al
 le 1.00)\nAccrediti 15€(validi tutta la notte con ingresso privilegiato)
 \n\n&nbsp\;\nTavoli:\nPrivè Consolle 400€ x 12 persone con 2 bottiglie(
 Champagne o alcolico superior)\nPista 160€ x 6 persone con 1 bottiglia\n
 N.B. I tavoli per essere prenotati devono essere prepagati al 50%\n[/pinkb
 ox]\n&nbsp\;\nPer essere inseriti nella lista NOMINALE di MILANOINDISCOTEC
 A:\nscrivere sms (anche whatsapp) al +39 328 2345620 con: Magazzini Mills 
 + nome e cognome + numero persone\n\nes: in 8 persone scrivere: Magazzini 
 Mills Francesco Verdi\, 8 persone\n\nSi ricorda che è sempre vigente la s
 elezione all’ingresso. Abbigliamento curato è sempre gradito.\n&nbsp\;\
 nInfo line / Info tavoli amnesia milano: + 39 3282345620  (anche whatsapp)
 \n&nbsp\;\nInfo Serata Venerdì 14 Novembre Jeff Mills Magazzini Generali 
 Milano:\n&nbsp\;\nMain Room:\nJEFF MILLS\n(3 HRS DJ SET + TR 909)\nTOMMASO
  MARASMA(Intellighenzia Elettronica)\nwarm up\nM23\n\n&nbsp\;\n14 novembre
  2014 Jeff Mills presenta Into The Space. Un evento organizzato da Amnesia
  Milano\, Intellighenzia Electronica\, Sincronie e Magazzini Generali.\n\n
 Quale il confine tra realtà e futuro? Una domanda alla quale pochi sciama
 ni possono provare a rispondere: tra i pochi geni autorizzati dagli dei de
 lla musica\, il dj Jeff Mills\, uno degli autentici padri fondatori della 
 techno\, venerdì 14 novembre pronto a suonare per 3 ore con la sua consol
 le composta da 4 cdj e da una Roland Tr-909 (drum machine semi-analogica) 
 ai Magazzini Generali di Milano.\n \nCavaliere delle Arti e delle Lettere 
 in Francia\, autore di colonne sonore composte dal vivo per film di Fritz 
 Lang e Buste Keaton\, creatore di installazioni ispirate da “2001 Odisse
 a nello Spazio” di Stanley Kubrik\, Jeff Mills si è esibito insieme ad 
 orchestre filarmoniche\, così come i suoi macchinari sono oggetto di aste
  frenetiche sul sito e-Bay. In una ideale Hall of Fame per i djs\, il suo 
 posto sarebbe decisamente in primissima fila.\n\nVenerdì 14 novembre la p
 erfomance di Jeff Mills è preceduta dai dj set di Marasma e M23. Marasma\
 , classe 1987\, è uno sostenitore convintissimo della techno di Detroit\,
  anima e mente della label Intellighenzia Electronica e dei progetti di So
 cial Art Center\; M23\, dj e musicista\, sodale di Marasma in Intellighenz
 ia Elettronica\, si prende cura nel caso specifico del cosiddetto warm-up\
 , la musica di inizio serata fondamentale per creare la giusta atmosfera. 
 \n
ATTACH;FMTTYPE=image/jpeg:https://www.milanoindiscoteca.it/wp-content/uplo
 ads/2014/11/Venerdì-14-Novembre-Jeff-Mills-Magazzini-Generali-Milano.jpg
CATEGORIES:Evento in homepage,Serate Elettroniche
LOCATION:Magazzini Generali\, Via Pietrasanta 14\, Milano\, Italia
GEO:45.44406;9.194945
X-APPLE-STRUCTURED-LOCATION;VALUE=URI;X-ADDRESS=Via Pietrasanta 14\, Milano
 \, Italia;X-APPLE-RADIUS=100;X-TITLE=Magazzini Generali:geo:45.44406,9.194
 945
END:VEVENT
END:VCALENDAR