BEGIN:VCALENDAR
VERSION:2.0
PRODID:-//wp-events-plugin.com//7.2.3.1//EN
TZID:Europe/Rome
X-WR-TIMEZONE:Europe/Rome
BEGIN:VEVENT
UID:21132@milanoindiscoteca.it
DTSTART:20150611T230000Z
DTEND:20150611T230000Z
DTSTAMP:20150611T161652Z
URL:https://www.milanoindiscoteca.it/eventi-milano/summer-festival-milano/
SUMMARY:Summer Festival Milano
DESCRIPTION:[pinkbox]\nPrezzi Summer Festival Milano\n[14.00 - 05.00]\nIngr
 esso in prevendita: 10€\nTavoli:\nChiamare al +393282345620 per informaz
 ioni sui prezzi\nPrivè con una bottiglia di superalcolico\, pass backstag
 e e maglietta evento\nPrivè Sex On The Beach con una bottiglia di spumant
 e a persona\n[vc_separator width="80%" align="none"]\nPer informazioni e p
 renotazioni contattare il +393282345620 (anche whatsapp)\nPRENOTA\n[/pinkb
 ox]\n\nENTERTAINMENT AREAs:\nMain Stage: \nLa nuova location estiva di Mil
 ano\, in grado di ospitare fino a 5000 persone\, suddivisa in due aree all
 'aperto\, più una spiaggia con piscina per dare vita alla follia a quale 
 Milano non è abituata.\nI generi musicali accontenteranno tutti quanto: D
 eep\, dance\, commerciale\, techno\, hip &amp\; hop\, house ed Edm.\n\n&nb
 sp\;\n\nStage 2: youBEAT Reunion\nIl Blog/Community youBEAT si riunisce e 
 propone un festival con più di 15 giovani djs italiani\n\nStage 3: Pool 
 Party - Schiuma Party \nUn'Area Dedicata con piscina e getto continuo di 
 Schiuma per difenderci dal caldo di questa estate.\nLOGISTIC AREAs:\n\n	PA
 RK AREA:\nparcheggio disponibile fino a 500 autovetture\n	ENTRANCE AREA:\n
 cancelli d'ingresso e casse multiple (strappo prevendita pre-acquistata / 
 pagamento del biglietto)\n	FOOD AREA:\nForno a legna o grigliata di carne 
 food area tutta da gustare !\n	STAGE AREA:\nArea Disabili\, Area Privè la
 terale con parte centrale accessibile a tutti\n	BAR :\n4 Postazioni\n	POOL
  PARTY:\nArea con la piscina e la spiaggia dove rilassarsi con un drink a 
 bordo piscina o prendere due gettate di schiuma\n	Disponibile guardaroba i
 n serata per riporre oggetti e vestiti bagnati.\n
ATTACH;FMTTYPE=image/jpeg:https://www.milanoindiscoteca.it/wp-content/uplo
 ads/2015/06/Summer-Festival-Domus-Corelli-Milano.jpg
CATEGORIES:Evento con prevendita,Evento in homepage,Serate Elettroniche
LOCATION:Domus Club Milano\, Via Corelli 40\, Milano\, Italia
GEO:45.4710715;9.253100700000005
X-APPLE-STRUCTURED-LOCATION;VALUE=URI;X-ADDRESS=Via Corelli 40\, Milano\, I
 talia;X-APPLE-RADIUS=100;X-TITLE=Domus Club Milano:geo:45.4710715,9.253100
 700000005
END:VEVENT
END:VCALENDAR