BEGIN:VCALENDAR
VERSION:2.0
PRODID:-//wp-events-plugin.com//7.2.3.1//EN
TZID:Europe/Rome
X-WR-TIMEZONE:Europe/Rome
BEGIN:VEVENT
UID:16478@milanoindiscoteca.it
DTSTART:20150508T230000Z
DTEND:20150508T230000Z
DTSTAMP:20150504T131858Z
URL:https://www.milanoindiscoteca.it/eventi-milano/social-music-city-after
 show-amnesia-milano/
SUMMARY:Social Music City Aftershow Amnesia Milano
DESCRIPTION:[pinkbox]\nPrezzi Social Music City Aftershow Amnesia Milano:\n
 Prevendite 17€+d.d.p. (validi tutta la notte con ingresso privilegiato)
 \nRidotto*:\n-  15€ (fino a mezzanotte)\n-  20€ (dalle 00.00 alle 0
 1.15)\n*Ingresso Ridotto in lista milanoindiscoteca\nTavoli:\nPrivè Conso
 lle su richiesta\nPrivè 700€ x 10 persone con 2 bottiglie(Champagne o a
 lcolico superior)\nPrivè pista 500€ x 10 persone con 2 bottiglie\nPista
  200€ x 5 persone con 1 bottiglia\n[button style='1' caption='PRENOTA' l
 ink='#prenota'][/button]\nPer essere inseriti nella lista NOMINALE di MILA
 NOINDISCOTECA:\nscrivere sms (anche whatsapp) al +39 328 2345620 con: Soci
 al Music City Aftershow Amnesia + nome e cognome + numero persone\nes: in 
 8 persone scrivere: Social Music City Aftershow Francesco Verdi\, 8 person
 e\nSi ricorda che è sempre vigente la selezione all’ingresso. Abbigliam
 ento curato è sempre gradito.\nInfo line / Info tavoli amnesia milano: + 
 39 3282345620 (anche whatsapp)\n[button style='1' caption='PRENOTA' link='
 #prenota'][/button]\nPer maggiori informazioni e prenotazioni chiama il +3
 93282345620 (anche whatsapp)\n[/pinkbox]\nSabato 9 Maggio 2015 - dalle ore
  23.00 alle ...\n\nSOCIAL MUSIC CITY AFTERSHOW\nMain Room:\n\nLUCIANO\nERN
 ESTO FERREYRA\nARGY\nwarm up:\nDjena\n2nd Room\, A.Lab\nGAME OVER: RAVING
  IN THE DARKNESS\nMANUEL V - ERMAN &amp\; YASS - THE HUMMERS\nROBY VOBIS b
 2b ALESSIO OLDANI - PYPIS\nSabato 09 maggio 2015 tutti sull’attenti\, al
 l’Amnesia Milano\, per il ritorno di una delle sue esclusive più assolu
 te: Lucien Nicolet\, meglio noto come Luciano. Artefice del fenomeno Caden
 za e delle serate Vagabundos e Origins\, Luciano propone una musica che mi
 xa ed esalta le sue origini svizzero-cilene\, un concentrato di deep\, tec
 hno ed electro che sfugge a qualsiasi catalogazione e ad astratti inquadra
 menti. Il suo stile è assolutamente unico\, un vero e proprio prototipo d
 i categoria\, al  cospetto del quale ispirarsi e porsi sempre con la gius
 ta dose di devozione. La sua label Cadenza\, creata nel 2003\, lo scorso f
 ebbraio ha festeggiato la sua centesima release\, “Grace Of An Art”\, 
 firmata da Luciano medesimo. Il 9 maggio Luciano è accompagnato dai compa
 gni di label Argy ed Ernesto Ferreyra\, mentre il warm-up è affidato a Dj
 ena.\n\nSabato 09 maggio 2015 A.Lab (Amnesia second room) diventa Raving I
 n The Darkness. Djs Manuel V\, Erman &amp\; Yass\, The Hummers\, Roby Vobi
 s b2b Alessio Oldani e Pypis.\n\nLa serata di sabato 09 maggio è sponsori
 zza Cîroc\, vodka assai sofisticata realizzata con uve di prima qualità
  e che viene distillata ben cinque volte. La parola Cîroc nasce dalla co
 mbinazione di due parole francesi\, cime (cima) e roche (roccia) ed evoca 
 la regione di Gaillac\, sede dei vitigni francesi più alti: un prodotto 
 esclusivo\, questa stagione capace di rendere ancora più esclusive le ser
 ate dell’Amnesia.\n\nPer maggiori informazioni e prenotazioni chiama il 
 +393282345620 (anche whatsapp)
ATTACH;FMTTYPE=image/jpeg:https://www.milanoindiscoteca.it/wp-content/uplo
 ads/2015/04/Social-Music-City-Aftershow-Amnesia-Milano-Milanoindiscoteca.j
 pg
CATEGORIES:Evento con prevendita,Serate Elettroniche
LOCATION:Amnesia Milano\, Via Alfonso Gatto (angolo Forlanini)\, Milano\, I
 talia
GEO:45.465454;9.186516
X-APPLE-STRUCTURED-LOCATION;VALUE=URI;X-ADDRESS=Via Alfonso Gatto (angolo F
 orlanini)\, Milano\, Italia;X-APPLE-RADIUS=100;X-TITLE=Amnesia Milano:geo:
 45.465454,9.186516
END:VEVENT
END:VCALENDAR