BEGIN:VCALENDAR
VERSION:2.0
PRODID:-//wp-events-plugin.com//7.2.3.1//EN
TZID:Europe/Rome
X-WR-TIMEZONE:Europe/Rome
BEGIN:VEVENT
UID:15856@milanoindiscoteca.it
DTSTART:20150226T230000Z
DTEND:20150226T230000Z
DTSTAMP:20150217T155354Z
URL:https://www.milanoindiscoteca.it/eventi-milano/skin-the-club-milano-wo
 men-fashion-week-2015/
SUMMARY:Skin The Club Milano Women Fashion Week 2015
DESCRIPTION:\n[pinkbox]\n\nModalità d'ingresso Skin The Club Milano:\nIng
 resso esclusivamente in accredito nominale: 10€ Donna / 15€ Uomo\nPoss
 ibilità di prenotare tavoli a partire da 200€:\n- Tavoli The Club Milan
 o Pista: 200€ per 6 ingressi\n- Tavoli The Club Milano Privè Gold: 20
 0€ per 6 ingressi\n- Tavoli The Club Milano Exclusive Privè: 250€ p
 er 5 ingressi con due bottiglie\nCome esser inseriti in lista Nominale?\nM
 andando un SMS / Whatsapp al +3932823456 con Nome Cognome + numero persone
  + Skin\nes: Francesco Rossi + 6 Skin\nPRENOTA\nInfo\, tavoli e prenotazio
 ni: +393282345620\nReservation and More Info: +393282345620\n[/pinkbox]\n&
 nbsp\;
ATTACH;FMTTYPE=image/jpeg:https://www.milanoindiscoteca.it/wp-content/uplo
 ads/2015/02/Skin-a-Milano-Milanoindiscoteca-info-prenotazioni-3282345620.j
 pg
CATEGORIES:Evento in homepage,Serate Elettroniche
LOCATION:The Club Milano\, Largo La Foppa - Corso Garibaldi\, 97\, Milano\,
  Italia
GEO:45.465454;9.186516
X-APPLE-STRUCTURED-LOCATION;VALUE=URI;X-ADDRESS=Largo La Foppa - Corso Gari
 baldi\, 97\, Milano\, Italia;X-APPLE-RADIUS=100;X-TITLE=The Club Milano:ge
 o:45.465454,9.186516
END:VEVENT
END:VCALENDAR