BEGIN:VCALENDAR
VERSION:2.0
PRODID:-//wp-events-plugin.com//7.2.3.1//EN
TZID:Europe/Rome
X-WR-TIMEZONE:Europe/Rome
BEGIN:VEVENT
UID:13798@milanoindiscoteca.it
DTSTART:20150228T030000Z
DTEND:20150228T030000Z
DTSTAMP:20150224T114249Z
URL:https://www.milanoindiscoteca.it/eventi-milano/sabato-women-fashion-ju
 st-cavalli-just-cavalli-milano/
SUMMARY:Sabato Women Fashion Week Just Cavalli Milano
DESCRIPTION:[pinkbox]\nPrezzi Sabato Just Cavalli Milano\nCene: a partire 
 da 80€\nprenotare al 328 2345620 (anche whatsapp)\nSerata (dalle 23.00 a
 lle 01.00):\nIngresso in lista Milanoindiscoteca 25€ con un drink\nTavol
 i in Serata: a partire da 300€ per 5 ingressi\nPRENOTA\nPer essere inser
 iti nella lista NOMINALE di MILANOINDISCOTECA:\nscrivere sms (anche whatsa
 pp) al +39 328 2345620 con: Sabato Just + nome e cognome + numero persone\
 nes: in 8 persone scrivere: Sabato Just Francesco Verdi\, 8 persone\nSi ri
 corda che è sempre vigente la selezione all’ingresso. abbigliamento cur
 ato e ingresso a coppie è sempre gradito.\n[/pinkbox]\n\n\n\n[midbox]\nOr
 ganizza la tua festa Sabato Just Cavalli Milano\nFesta di compleanno\, fes
 ta di laurea\, festa di addio al nubilato\, festa di addio al celibato... 
 Qualsiasi festa tu abbia in mente il Just Cavalli Milano è la location id
 eale per la tua festa.\n\nChiamaci al +39 328 2345620 per un preventivo gr
 atuito oppure contattaci tramite l'apposito form sottostante\nPRENOTA\n[/m
 idbox]\n\nOgni serata è adatta ad un pubblico selezionato ed elegante\, q
 uindi si consiglia fortemente di presentarsi con un abbigliamento adeguato
  e per i gruppi di uomini venire accompagnati da donne per evitare fastidi
 osi “rimbalzi”.
ATTACH;FMTTYPE=image/jpeg:https://www.milanoindiscoteca.it/wp-content/uplo
 ads/2014/09/Sabato-Just-Cavalli-Milano.jpg
CATEGORIES:Evento in homepage,Exclusive Club
LOCATION:Just Cavalli Milano\, Via Luigi Camoens\, Milano\, 20121\, Italia
GEO:45.47297;9.172896
X-APPLE-STRUCTURED-LOCATION;VALUE=URI;X-ADDRESS=Via Luigi Camoens\, Milano\
 , 20121\, Italia;X-APPLE-RADIUS=100;X-TITLE=Just Cavalli Milano:geo:45.472
 97,9.172896
END:VEVENT
END:VCALENDAR