BEGIN:VCALENDAR
VERSION:2.0
PRODID:-//wp-events-plugin.com//7.2.3.1//EN
TZID:Europe/Rome
X-WR-TIMEZONE:Europe/Rome
BEGIN:VEVENT
UID:19037@milanoindiscoteca.it
DTSTART:20150515T230000Z
DTEND:20150515T230000Z
DTSTAMP:20150513T090021Z
URL:https://www.milanoindiscoteca.it/eventi-milano/sabato-tini-carola-pisa
 turo-amnesia-milano/
SUMMARY:Sabato tINI Carola Pisaturo Amnesia Milano
DESCRIPTION:[pinkbox]\nPrezzi Sabato tINI Carola Pisaturo Amnesia Milano:\n
 SERATA [dalle 23.00]\nAccrediti 20€ (validi tutta la notte con ingresso 
 privilegiato)\nRidotto 15€ (entro 00.00)\nRidotto 20€ (entro l'01.00)\
 n\nTavoli:\nPrivè Consolle 500€ x 5 persone con 1 bottiglia(Champagne o
  alcolico superior)\nPrivè 200€ x 5 persone con 1 bottiglia\nPista 160
 € x 5 persone con 1 bottiglia\n[vc_separator width="80%" align="none"]\n
 [button style='1' caption='PRENOTA' link='#prenota'][/button]\nPer essere 
 inseriti nella lista NOMINALE di MILANOINDISCOTECA:\nscrivere sms (anche w
 hatsapp) al +39 328 2345620 con: Sabato tINI Carola Amnesia + nome e cogno
 me + numero persone\nes: in 8 persone scrivere: Sabato tINI Carola Amnesia
  Francesco Verdi\, 8 persone\nSi ricorda che è sempre vigente la selezion
 e all’ingresso. Abbigliamento curato è sempre gradito.\nPer maggiori in
 formazioni e prenotazioni chiama il +393282345620 (anche whatsapp)\n[/pink
 box]\nSabato 16 Maggio 2015 - dalle ore 23.00 alle ...\nMain Room:\n\ntINI
 \n(Desolat)\n\nCAROLA PISATURO\n(Claque Musique)\n2nd Room\, A.Lab:\nWHISK
 ER'S HOME\nRICKYBOX D b2b STE SCIARRA - ALE BARBAZZA\nALEX MARLETTA - VALE
 RIO CASAMASSIMA\nSabato 16 maggio 2015 l’Amnesia Milano presenta due aut
 entiche amazzoni della consolle: tINI e Carola Pisaturo. tINI dal 2008 fa 
 parte della crew di Loco Dice (Desolat e Artist Life)\, mentre il suo albu
 m d’esordio è datato 2011\; arriva all’Amnesia dopo aver suonato in f
 estival assoluti quali Ultra\, Coachella\, Timewarp e dopo una recentissim
 a tournèe in Giappone. Assai seguiti i suoi set a Ibiza\, dove il suo moo
 d berlinese sa esaltarsi come non mai\, soprattutto con il suo party tINI 
 and The Gang. Niente affatto male\, per un artista che da giovanissima era
  appassionata di dei gruppi new romantics e grunge e che ha iniziato la ca
 rriera di dj suonando hip hop. Carola Pisaturo è Amnesia guest resident\,
  sempre più lanciata con la sua etichetta musicale Clacque Music\, così 
 come è appena entrata a far parte del cast di Cocoon\, il pluricelebrato 
 gruppo capitanato da Sven Väth. Il suo sound è in continua evoluzione\, 
 sfugge ad ogni facile etichettatura e sa sempre come risultare godibile\, 
 sensuale e persino spirituale. Sempre e comunque meditterraneo\, sempre e 
 comunque metropolitano.\n\nSabato 16 maggio A.Lab (Amnesia second room) di
 venta Whisker's Home. Djs Rickbox D B2b Ste Sciarra\, Ale Barbazza\, Alex 
 Marletta E Valerio Casamassima. \n\nPer maggiori informazioni e prenotazi
 oni chiama il +393282345620 (anche whatsapp)
ATTACH;FMTTYPE=image/jpeg:https://www.milanoindiscoteca.it/wp-content/uplo
 ads/2015/05/Sabato-tINI-Carola-Pisaturo-Amnesia-Milano-Milanoindiscoteca.j
 pg
CATEGORIES:Evento con prevendita,Serate Elettroniche
LOCATION:Amnesia Milano\, Via Alfonso Gatto (angolo Forlanini)\, Milano\, I
 talia
GEO:45.465454;9.186516
X-APPLE-STRUCTURED-LOCATION;VALUE=URI;X-ADDRESS=Via Alfonso Gatto (angolo F
 orlanini)\, Milano\, Italia;X-APPLE-RADIUS=100;X-TITLE=Amnesia Milano:geo:
 45.465454,9.186516
END:VEVENT
END:VCALENDAR