BEGIN:VCALENDAR
VERSION:2.0
PRODID:-//wp-events-plugin.com//7.2.3.1//EN
TZID:Europe/Rome
X-WR-TIMEZONE:Europe/Rome
BEGIN:VEVENT
UID:16077@milanoindiscoteca.it
DTSTART:20150410T230000Z
DTEND:20150410T230000Z
DTSTAMP:20150401T090814Z
URL:https://www.milanoindiscoteca.it/eventi-milano/sabato-patrick-topping-
 amnesia-milano/
SUMMARY:Sabato Patrick Topping Amnesia Milano
DESCRIPTION:[pinkbox]\nPrezzi Patrick Topping Amnesia Milano:\nAccrediti 15
 € (validi tutta la notte con ingresso privilegiato)\nRidotto 15€ (list
 e fino alla 1.00)\nIntero 20€\nTavoli:\nPrivè Consolle 250€ x 5 perso
 ne con 1 bottiglia(Champagne o alcolico superior)\nPrivè 180€ x 5 perso
 ne con 1 bottiglia\nPista 150€ x 5 persone con 1 bottiglia\n[button styl
 e='1' caption='PRENOTA' link='#prenota'][/button]\nPer essere inseriti nel
 la lista NOMINALE di MILANOINDISCOTECA:\nscrivere sms (anche whatsapp) al 
 +39 328 2345620 con: Patrick Topping Amnesia + nome e cognome + numero per
 sone\nes: in 8 persone scrivere: Patrick Topping Francesco Verdi\, 8 pers
 one\nSi ricorda che è sempre vigente la selezione all’ingresso. Abbigli
 amento curato è sempre gradito.\nInfo line / Info tavoli amnesia milano: 
 + 39 3282345620 (anche whatsapp)\n[button style='1' caption='PRENOTA' link
 ='#prenota'][/button]\nPer maggiori informazioni e prenotazioni chiama il 
 +393282345620 (anche whatsapp)\n[/pinkbox]\nSabato 11 Aprile - ore 23.00 a
 lle ...\nMain Room:\nPATRICK TOPPING\n(Hot Creations\, Paradise)\nB.CONVER
 SO\n(Flash\, Sincronie)\n2nd Room\, A.Lab: ALIBI\nANDREA GERONZI b2b MATTI
 A DI MODICA - STEVE WAHREND\nGIOVANNI OCCHIPINTI - GIANLUCA DE LUNA\nMai c
 ome in questa stagione l’Amnesia Milano ha proposto una serie di ospiti 
 assolutamente inediti\, merito di un tempismo e di una lungimiranza che fa
 nno comprendere come ogni sua scelta sia ponderata e soppesata in ogni det
 taglio. Sabato 11 aprile la sua line-up propone per la prima volta un nome
  che sta spadroneggiando in tutto il mondo: Patrick Topping\, autentico in
 discusso re dell’estate 2014 ad Ibiza\, grazie alle sue serate al Dc 10\
 , in particolare i party Paradise del mercoledì sera con la crew Hot Crea
 tions di Jamie Jones. Topping ha spopolato ad Ibiza anche e soprattutto pe
 r merito della sua hit “Forget”\, che compare in tutte le più importa
 nti compilation dance di questa stagione\, una su tutte quella che celebra
  il 25esimo anniversario dello Space. Il suggello definitivo ad una stagio
 ne magistrale gli è stato conferito dalla vittoria all’ultima edizione 
 dei Dj Awards\, che si sono svolti al Pacha lo scorso settembre e che da a
 nni rappresentano uno degli appuntamenti più imperdibili per tutti gli ad
 detti ai lavori. Due le sue vittorie\,  in particolare nelle categorie be
 st newcomer and best track of the season.\n\nSabato 11 aprile Topping è a
 ffiancato da B. Converso\, Amnesia Milano resident da questa stagione\, do
 ve propone i suoi set trasversali\, che alternano con sapienza house e tec
 hno\, talvolta sconfinando persino nel funk. Sabato 11 aprile A.Lab (Amnes
 ia second room) sarà di scena Alibi show case. In consolle Andrea Geronz
 i b2b Mattia Di Modica\, Giovanni Occhipinti\, Steve Wahrend e Gianluca De
  Luna.\n\nPer maggiori informazioni e prenotazioni chiama il +393282345620
  (anche whatsapp)
ATTACH;FMTTYPE=image/jpeg:https://www.milanoindiscoteca.it/wp-content/uplo
 ads/2015/04/Sabato-Patrick-Topping-Amnesia-Milano-Milanoindiscoteca.jpg
CATEGORIES:Evento con prevendita,Serate Elettroniche
LOCATION:Amnesia Milano\, Via Alfonso Gatto (angolo Forlanini)\, Milano\, I
 talia
GEO:45.465454;9.186516
X-APPLE-STRUCTURED-LOCATION;VALUE=URI;X-ADDRESS=Via Alfonso Gatto (angolo F
 orlanini)\, Milano\, Italia;X-APPLE-RADIUS=100;X-TITLE=Amnesia Milano:geo:
 45.465454,9.186516
END:VEVENT
END:VCALENDAR