BEGIN:VCALENDAR
VERSION:2.0
PRODID:-//wp-events-plugin.com//7.2.3.1//EN
TZID:Europe/Rome
X-WR-TIMEZONE:Europe/Rome
BEGIN:VEVENT
UID:16085@milanoindiscoteca.it
DTSTART:20150424T230000Z
DTEND:20150424T230000Z
DTSTAMP:20150418T111828Z
URL:https://www.milanoindiscoteca.it/eventi-milano/sabato-enzo-siragusa-da
 -vid-amnesia-milano/
SUMMARY:Sabato Enzo Siragusa - Da Vid Amnesia Milano
DESCRIPTION:[pinkbox]\nPrezzi Enzo Siragusa - Da Vid Amnesia Milano:\nAccre
 diti 10€ (validi tutta la notte con ingresso privilegiato)\nRidotto 10
 € (liste fino alla 1.00)\nIntero 15€\nTavoli:\nPrivè Consolle 250€ 
 x 5 persone con 1 bottiglia(Champagne o alcolico superior)\nPrivè 180€ 
 x 6 persone con 1 bottiglia\nPista 150€ x 6 persone con 1 bottiglia\n[bu
 tton style='1' caption='PRENOTA' link='#prenota'][/button]\nPer essere ins
 eriti nella lista NOMINALE di MILANOINDISCOTECA:\nscrivere sms (anche what
 sapp) al +39 328 2345620 con: Enzo Siragusa Amnesia + nome e cognome + num
 ero persone\nes: in 8 persone scrivere: Enzo Siragusa Francesco Verdi\, 8 
 persone\nSi ricorda che è sempre vigente la selezione all’ingresso. Abb
 igliamento curato è sempre gradito.\nInfo line / Info tavoli amnesia mila
 no: + 39 3282345620 (anche whatsapp)\n[button style='1' caption='PRENOTA' 
 link='#prenota'][/button]\nPer maggiori informazioni e prenotazioni chiama
  il +393282345620 (anche whatsapp)\n[/pinkbox]\nSabato 25 Aprile - ore 23.
 00 alle ...\nMain Room:\nENZO SIRAGUSA\n(Hot Creations\, Paradise)\nDA VID
 \n(Cocoricò)\n2nd Room\, A.Lab\nMATTEO MANUALI - MAT VANNELLI\nRICKY RODR
 IGUEZ - MATTEO GIANCANE\nSabato 25 aprile 2015 l’Amnesia Milano assapora
  le atmosfere e le sonorità londinesi e ibizenche grazie ad Enzo Siragusa
 \, dj e produttore autore di una degli appuntamenti britannici più ricerc
 ati degli ultimi anni\, il Fuse\, in programma tutte le domeniche nella ca
 pitale inglese. Siragusa è ben conosciuto ed apprezzato anche e soprattut
 to ad Ibiza\, grazie ai suoi set che propone allo Space\, in particolare d
 urante il party Enter di Richie Hawtin e al Circo Loco al DC10: suona spes
 so in compagnia di Loco Dice e Marco Carola\, così come sono rinomati ed 
 apprezzati i suoi b2b insieme a tINI. D’estate è atteso in diversi fest
 ival\, Cocoon In The Park a Leeds su tutti\, così come a breve si avranno
  notizie sul suo nuovo album. Sabato 25 aprile Enzo Siragusa è affiancato
  da Da Vid\, dj resident del Cocoricò\, che torna all’Amnesia dopo la p
 recedente esibizione al fianco di Adam Beyer.\nIn A.Lab (Amnesia Second Ro
 om) suonano Matteo Manuali\, Mat Vannelli\, Ricky Rodriguez e Matteo Gian
 cane.\nPer maggiori informazioni e prenotazioni chiama il +393282345620 (a
 nche whatsapp)
ATTACH;FMTTYPE=image/jpeg:https://www.milanoindiscoteca.it/wp-content/uplo
 ads/2015/04/Sabato-Enzo-Siragusa-Amnesia-Milano-Milanoindiscoteca.jpg
CATEGORIES:Evento con prevendita,Serate Elettroniche
LOCATION:Amnesia Milano\, Via Alfonso Gatto (angolo Forlanini)\, Milano\, I
 talia
GEO:45.465454;9.186516
X-APPLE-STRUCTURED-LOCATION;VALUE=URI;X-ADDRESS=Via Alfonso Gatto (angolo F
 orlanini)\, Milano\, Italia;X-APPLE-RADIUS=100;X-TITLE=Amnesia Milano:geo:
 45.465454,9.186516
END:VEVENT
END:VCALENDAR