BEGIN:VCALENDAR
VERSION:2.0
PRODID:-//wp-events-plugin.com//7.2.3.1//EN
TZID:Europe/Rome
X-WR-TIMEZONE:Europe/Rome
BEGIN:VEVENT
UID:13796@milanoindiscoteca.it
DTSTART:20150214T030000Z
DTEND:20150214T030000Z
DTSTAMP:20150209T210236Z
URL:https://www.milanoindiscoteca.it/eventi-milano/sabato-chuckie-just-cav
 alli-milano/
SUMMARY:Sabato Chuckie Just Cavalli Milano
DESCRIPTION:[pinkbox]\n\n\nPrezzi Sabato Chuckie Just Cavalli Milano\nAperi
 tivo (dalle 20.00 alle 22.30):\nIngresso in lista Milanoindiscoteca 15€ 
 (zona interna o dehor in base alla disponibilità)\nTavoli in aperitivo: 7
 0€ spumante / 150€ super alcolico\nSerata (dalle 23.00 alle 01.00):\nI
 ngresso in prevendita 20€ con un drink\nIngresso Ridotto in lista Milano
 indiscoteca 20€ (con un flute di spumante)\nTavoli in Serata: a partire 
 da 300€ per 5 ingressi\nPrenota ORA\n&nbsp\;\n\nPer essere inseriti nell
 a lista NOMINALE di MILANOINDISCOTECA:\nscrivere sms (anche whatsapp) al +
 39 328 2345620 con: Sabato Just + nome e cognome + numero persone\n\nes: i
 n 8 persone scrivere: Sabato Just Francesco Verdi\, 8 persone\n\nSi ricord
 a che è sempre vigente la selezione all’ingresso. abbigliamento curato 
 e ingresso a coppie è sempre gradito.\n\n[/pinkbox]\n\n\n\n[midbox]\nOrga
 nizza la tua festa Sabato Just Cavalli Milano\nFesta di compleanno\, festa
  di laurea\, festa di addio al nubilato\, festa di addio al celibato... Qu
 alsiasi festa tu abbia in mente il Just Cavalli Milano è la location idea
 le per la tua festa.\n\nChiamaci al +39 328 2345620 per un preventivo grat
 uito oppure contattaci tramite l'apposito form sottostante\n\nContattaci\n
 [/midbox]\n\nSabato 17 gennaio 2015  ti aspetto al  Just Cavalli Café (
 in viale al Parco Luigi Camoens 4\, Milano).\nIn occasione della settimana
  della Moda Maschile Milanese\, suonerà per noi una dee-jay d'eccezione:
  CHUCKIE\n\nVi sarà la possibilità di cenare nel magnifico ristorante e
  dalle 23.30 daremo il via alle danze con la migliore musica house commerc
 iale e revival di tutti i tempi\, a seguire Chuckie!\n\nPer Chi \nAdatto a
 d un pubblico adulto (dai 25 anni in su).\nSe l'abbigliamento non è molto
  curato non può essere garantito l' ingresso (che a prescindere dalla lis
 ta è sempre e comunque a discrezione della direzione del locale).\n\nProg
 ramma \n- Aperitivo dalle 20.30 con royal buffet e tavoli d’appoggio su 
 prenotazione\n- Possibilità di cenare alla carta con tavolo riservato fin
 o alle ore 24.00.\n- Dalle 24.00 musica special vip/guest dee-jay\n\nTavol
 i \nPer informazioni relative al prezzo dei tavoli: +39 3282345620\nLa pr
 enotazione del tavolo rimane confermata fino alle ore 00.30.
ATTACH;FMTTYPE=image/jpeg:https://www.milanoindiscoteca.it/wp-content/uplo
 ads/2014/09/Dj-Chuckie-Milano-Milanoindiscoteca.jpg
CATEGORIES:Evento con prevendita,Evento in homepage,Exclusive Club
LOCATION:Just Cavalli Milano\, Via Luigi Camoens\, Milano\, 20121\, Italia
GEO:45.47297;9.172896
X-APPLE-STRUCTURED-LOCATION;VALUE=URI;X-ADDRESS=Via Luigi Camoens\, Milano\
 , 20121\, Italia;X-APPLE-RADIUS=100;X-TITLE=Just Cavalli Milano:geo:45.472
 97,9.172896
END:VEVENT
END:VCALENDAR