BEGIN:VCALENDAR
VERSION:2.0
PRODID:-//wp-events-plugin.com//7.2.3.1//EN
TZID:Europe/Rome
X-WR-TIMEZONE:Europe/Rome
BEGIN:VEVENT
UID:15988@milanoindiscoteca.it
DTSTART:20150313T230000Z
DTEND:20150313T230000Z
DTSTAMP:20150310T205316Z
URL:https://www.milanoindiscoteca.it/eventi-milano/sabato-carola-pisaturo-
 amnesia-milano-14-marzo/
SUMMARY:Sabato Carola Pisaturo Amnesia Milano 14 Marzo
DESCRIPTION:[pinkbox]\nPrezzi Sabato Carola Pisaturo Amnesia Milano 14 Marz
 o:\nINGRESSO OMAGGIO CON ACCREDITO NOMINALE ENTRO 1.30\nRidotto 10€(list
 a milanoindiscoteca fino alla 1.00)\nIntero 15€\nTavoli:\nPrivè Consoll
 e 250€ x 5 persone con 1 bottiglia(Champagne o alcolico superior)\nPriv
 è 180€ x 5 persone con 1 bottiglia\nPista 150€ x 5 persone con 1 bott
 iglia\n[button style='1' caption='PRENOTA' link='#prenota'][/button]\nPer 
 essere inseriti nella lista NOMINALE di MILANOINDISCOTECA:\nscrivere sms (
 anche whatsapp) al +39 328 2345620 con: Pisaturo Amnesia + nome e cognome 
 + numero persone\nes: in 8 persone scrivere: Pisaturo Amnesia Francesco V
 erdi\, 8 persone\nSi ricorda che è sempre vigente la selezione all’ingr
 esso. Abbigliamento curato è sempre gradito.\nInfo line / Info tavoli amn
 esia milano: + 39 3282345620 (anche whatsapp)\n[button style='1' caption='
 PRENOTA' link='#prenota'][/button]\nPer maggiori informazioni e prenotazio
 ni chiama il +393282345620 (anche whatsapp)\n[/pinkbox]\nSabato 28 Febbrai
 o 2015 - dalle ore 23.00 alle ...\nMain Room:\nCAROLA PISATURO\n(Claque Mu
 sique)\n\nB.CONVERSO\n(Flash\, Magazzini Generali)\nSTEFANO DI MICELI\n(Am
 nesia Milano Wats)\n\n2nd Room\, A.Lab: ALIBI\nANDREA GERONZI b2b MATTIA D
 I MODICA - STEVE WAHREND\nGIOVANNI OCCHIPINTI - GIANLUCA DE LUNA\n\nSabato
  14 marzo l’Amnesia Milanoregala ai suoi aficionados una serata per veri
  intenditori\, con tre djs che come pochi altri sanno interpretare lo spir
 ito\, l’essenza e la filosofia del club meneghino: Carola Pisaturo\, B. 
 Converso e Stefano Di Miceli.\nCarola Pisaturo si conferma sempre più una
  delle migliori deejays italiane\, se non la migliore in assoluto: la sua 
 musica la porta a confrontarsi sempre più con locali e etichette discogra
 fiche di riferimento\, tra le quali rientra a pieno titolo la sua label Cl
 aque Musique. Tra i suoi lavori più recenti\, spiccano sicuramente i remi
 x della traccia “Auberste” degli Ednic. B. Converso è Amnesia Milano 
 resident da questa stagione\, dove propone i suoi set trasversali\, che al
 ternano con sapienza house e techno\, talvolta sconfinando persino nel fun
 k. Stefano Di Miceliconferma serata dopo serata il suo indiscusso ed incon
 dizionato amore per i dischi in vinile: non potrebbe essere altrimenti\, c
 onsiderando che reputa Sven Väth il suo autentico maestro nonché eterna 
 fonte di ispirazione.\nSabato 14 marzo in A.Lab (Amnesia Milano second ro
 om) sarà di scena Alibi showcase. In consolle Andrea Geronzi b2b Mattia D
 i Modica\, Giovanni Occhipinti\, Steve Wahrend\, Gianluca De Luca.
ATTACH;FMTTYPE=image/jpeg:https://www.milanoindiscoteca.it/wp-content/uplo
 ads/2015/03/Sabato-Carola-Pisaturo-Amnesia-Milano-14-Marzo.jpg
CATEGORIES:Evento con ingresso omaggio,Evento con prevendita,Evento in
 homepage,Serate Elettroniche
LOCATION:Amnesia Milano\, Via Alfonso Gatto (angolo Forlanini)\, Milano\, I
 talia
GEO:45.465454;9.186516
X-APPLE-STRUCTURED-LOCATION;VALUE=URI;X-ADDRESS=Via Alfonso Gatto (angolo F
 orlanini)\, Milano\, Italia;X-APPLE-RADIUS=100;X-TITLE=Amnesia Milano:geo:
 45.465454,9.186516
END:VEVENT
END:VCALENDAR