BEGIN:VCALENDAR
VERSION:2.0
PRODID:-//wp-events-plugin.com//7.2.3.1//EN
TZID:Europe/Rome
X-WR-TIMEZONE:Europe/Rome
BEGIN:VEVENT
UID:15400@milanoindiscoteca.it
DTSTART:20150109T234500Z
DTEND:20150109T234500Z
DTSTAMP:20150104T164014Z
URL:https://www.milanoindiscoteca.it/eventi-milano/sabato-amnesia-milano-p
 res-sam-paganini/
SUMMARY:Sabato Amnesia Milano pres Sam Paganini
DESCRIPTION:[pinkbox]Prezzi Sabato Amnesia Milano pres Sam Paganini:\nAccre
 diti 15€ (validi  tutta la notte con ingresso privilegiato)\nRidotto 15
 €(liste fino alla 1.00)\nIntero 20€\n\n&nbsp\;\nTavoli:\nPrivè Consol
 le 250€ x 5 persone con 1 bottiglia(Champagne o alcolico superior)\nPriv
 è 180€ x 5 persone con 1 bottiglia\nPista 150€ x 5 persone con 1 bott
 iglia\n[/pinkbox]\n&nbsp\;\nPer essere inseriti nella lista NOMINALE di MI
 LANOINDISCOTECA:\nscrivere sms (anche whatsapp) al +39 328 2345620 con: Am
 nesia + nome e cognome + numero persone\n\nes: in 8 persone scrivere: Amne
 sia Francesco Verdi\, 8 persone\n\nSi ricorda che è sempre vigente la sel
 ezione all’ingresso. Abbigliamento curato è sempre gradito.\n&nbsp\;\nI
 nfo line / Info tavoli amnesia milano: + 39 3282345620  (anche whatsapp)\n
 &nbsp\;\nInfo Serata Sabato Amnesia Milano pres Sam Paganini:\n&nbsp\;\nMa
 in Room:\n'SATELLITE TOUR' \nSAM PAGANINI\n(Drumcode\, Cocoon Rec)\nSTEFAN
 O DI MICELI\n(Amnesia Milano\, Wats)\n\n2nd Room\, A.Lab\nGAME OVER: RAVIN
 G IN THE DARKNESS\nMANUEL V - LENSIS\nSTEPHAN:US b2b KLOVER HAZE - SIMON E
 FF\n\n&nbsp\;\nPer il suo primo sabato del 2015\, l’Amnesia Milano sfode
 ra subito un dj ed un produttore in grado di soddisfare i palati musicali 
 più esigenti. Sabato 10 gennaio è infatti ospite speciale Sam Paganini\,
  che ha scelto il locale milanese per una delle sue selezionatissime tappe
  del tour mondiale Satellite\, dal nome del suo omonimo album appena uscit
 o sulla label Drumcode di Adam Beyer (a sua volta ospite all’Amnesia sab
 ato 24 gennaio). Di origine veneta\, Paganini non ha impiegato molto tempo
  per affermarsi quale autentico fenomeno italiano da esportazione\; ha inf
 atti realizzato in breve tempo il sogno di tantissimi artisti\, ovvero usc
 ire con proprie produzioni su label assolute quali Cocoon (Sven Vath)\, Pl
 us8 (ovvero Richie Hawtin) e appunto Drumcode. Di casa in locali quali il 
 Berghain di Berlino ed il Cielo di New York\, Paganini è sempre più pron
 to per suonare quella è che è stata più volte definita “sexy groovy d
 ark techno”\, sempre all’insegna della massima trasversalità. Sabato 
 10 Paganini è affiancato da Stefano di Miceli\, Amnesia Milano resident\,
  sempre più cultore del vinile e sempre più a suo agio quale autentico p
 adrone di casa\, in grado come pochi altri nel saper mettere a proprio agi
 o i guests ed il pubblico. A.Lab (Amnesia second room) assume le fattezze 
 di Game Over\, con i suoi djs Manuel V\, Lensis e Stephan:Us b2b Klover Ha
 ze (Extreme) e Simon Eff (Milano Illinois).
ATTACH;FMTTYPE=image/jpeg:https://www.milanoindiscoteca.it/wp-content/uplo
 ads/2015/01/Sabato-Amnesia-Milano-Sam-Paganini.jpg
CATEGORIES:Evento con prevendita,Evento in homepage,Serate Elettroniche
LOCATION:Amnesia Milano\, Via Alfonso Gatto (angolo Forlanini)\, Milano\, I
 talia
GEO:45.465454;9.186516
X-APPLE-STRUCTURED-LOCATION;VALUE=URI;X-ADDRESS=Via Alfonso Gatto (angolo F
 orlanini)\, Milano\, Italia;X-APPLE-RADIUS=100;X-TITLE=Amnesia Milano:geo:
 45.465454,9.186516
END:VEVENT
END:VCALENDAR