BEGIN:VCALENDAR
VERSION:2.0
PRODID:-//wp-events-plugin.com//7.2.3.1//EN
TZID:Europe/Rome
X-WR-TIMEZONE:Europe/Rome
BEGIN:VEVENT
UID:14601@milanoindiscoteca.it
DTSTART:20141107T230000Z
DTEND:20141107T230000Z
DTSTAMP:20141030T110522Z
URL:https://www.milanoindiscoteca.it/eventi-milano/sabato-8-novembre-cocoo
 n-amnesia-milano/
SUMMARY:Sabato 8 Novembre Cocoon Amnesia Milano
DESCRIPTION:[pinkbox]Prezzi Sabato 8 Novembre Cocoon Amnesia Milano:\nRidot
 to 15€(liste fino alla 1.00)\nPrevendite 15€(validi tutta la notte con
  ingresso privilegiato)\nIntero 20€\n&nbsp\;\nTavoli:\nPrivè Consolle 2
 50€ x 5 persone con 1 bottiglia(Champagne o alcolico superior)\nPrivè 1
 80€ x 5 persone con 1 bottiglia\nPista 150€ x 5 persone con 1 bottigli
 a\nN.B. I tavoli per essere prenotati devono essere prepagati al 50%\n[/pi
 nkbox]\n&nbsp\;\nPer essere inseriti nella lista NOMINALE di MILANOINDISCO
 TECA:\nscrivere sms (anche whatsapp) al +39 328 2345620 con: Amnesia Cocoo
 n + nome e cognome + numero persone\n\nes: in 8 persone scrivere: Amnesia 
 Cocoon Francesco Verdi\, 8 persone\n\nSi ricorda che è sempre vigente la 
 selezione all’ingresso. Abbigliamento curato è sempre gradito.\n&nbsp\;
 \nInfo line / Info tavoli amnesia milano: + 39 3282345620  (anche whatsapp
 )\nInfo Serata Sabato 8 Novembre Cocoon Amnesia Milano:\n&nbsp\;\nMain Roo
 m:\nDANA RUH\n(Cocoon)\nJULIEN BRACHT live\n(Cocoon)\nSTEFANO DI MICELI\n(
 Amnesia Milano\, Wats)\n\n2nd Room\, A.Lab: FALL OUT\nFABIO CEEDZA - DANIE
 LE CERRI - MARK1\nALL FOR ONE - THE TWINSOUND - WES\n\n&nbsp\;\nSabato 08 
 novembre 2014 Amnesia Milano presenta Cocoon. Julien Bracht e Dana Ruh. Re
 sident dj Stefano Di Miceli.\n \nSabato 08 novembre l’onda lunga di Coco
 on approda anche in Italia\, e lo fa nel porto da sempre più sicuro: l’
 Amnesia Milano\, che da anni coltiva una partnership più che esclusiva co
 n il marchio creato da Sven Vath\, fresco reduce da festeggiamenti epocali
  per il suo 50esimo compleanno. Festeggiamenti ai quali lo stato maggiore 
 dell’Amnesia Milano è stato ovviamente invitato ed ha partecipato con t
 utti gli onori del caso.\n\nSabato 08 novembre sono infatti ospiti special
 i Julien Bracht (live) e Dana Ruh. Originario di Francoforte\, dal 2011 Br
 acht ha sviluppato un concetto tutto personale di performance dal vivo\, c
 on batterie e percussioni che gli consentono di proporre le sue tracce in 
 maniera ogni volta inedita. Dana Ruh ama ridefinire a modo suo la musica e
 lettronica\, oscillando magistralmente tra house e techno. Uno stile che s
 a riflettere alla perfezione anche nelle sue produzioni discografiche\, in
  particolare in quelle che realizza con la sua label Brouqade\, fondata ne
 l 2007 e distintasi rapidamente anche per una serie di videoclip di pregev
 ole fattura. Sabato 09 novembre Bracht e Ruh sono affiancati da Stefano Di
  Miceli\, Amnesia Milano resident\, autentico e irriducibile cultore dei d
 ischi in vinile. A.Lab (Amnesia second room) si trasforma in Fall Out. In 
 consolle Wes\, The Twinsound\, All For One\, Marck1\, Daniele Cerri\, Fabi
 o Ceedza.\n
ATTACH;FMTTYPE=image/jpeg:https://www.milanoindiscoteca.it/wp-content/uplo
 ads/2014/10/08-Novembre-Cocoon-Amnesia-Milano-Milanoindiscoteca.jpg
CATEGORIES:Evento in homepage,Serate Elettroniche
LOCATION:Amnesia Milano\, Via Alfonso Gatto (angolo Forlanini)\, Milano\, I
 talia
GEO:45.465454;9.186516
X-APPLE-STRUCTURED-LOCATION;VALUE=URI;X-ADDRESS=Via Alfonso Gatto (angolo F
 orlanini)\, Milano\, Italia;X-APPLE-RADIUS=100;X-TITLE=Amnesia Milano:geo:
 45.465454,9.186516
END:VEVENT
END:VCALENDAR