BEGIN:VCALENDAR
VERSION:2.0
PRODID:-//wp-events-plugin.com//7.2.3.1//EN
TZID:Europe/Rome
X-WR-TIMEZONE:Europe/Rome
BEGIN:VEVENT
UID:15983@milanoindiscoteca.it
DTSTART:20150306T230000Z
DTEND:20150306T230000Z
DTSTAMP:20150302T182253Z
URL:https://www.milanoindiscoteca.it/eventi-milano/sabato-7-marzo-ralf-amn
 esia-milano/
SUMMARY:Sabato 7 Marzo Ralf Amnesia Milano
DESCRIPTION:[pinkbox]\nPrezzi Sabato 7 Marzo Ralf Amnesia Milano:\nAccre
 diti 18€(validi tutta la notte con ingresso privilegiato)\nRidotto 15€
 (fino a mezzanotte)\nRidotto 18€(liste fino alle 1.15)\nTavoli:\nPrivè 
 Consolle 500€ x 10 persone con 2 bottiglie(Champagne o alcolico superior
 )\nPrivè 200€ x 5 persone con 1 bottiglia\nPista 160€ x 5 persone con
  1 bottiglia\n[button style='1' caption='PRENOTA' link='#prenota'][/button
 ]\nPer essere inseriti nella lista NOMINALE di MILANOINDISCOTECA:\nscriver
 e sms (anche whatsapp) al +39 328 2345620 con: Ralf Amnesia + nome e cogn
 ome + numero persone\nes: in 8 persone scrivere: Ralf Amnesia Francesco V
 erdi\, 8 persone\nSi ricorda che è sempre vigente la selezione all’ingr
 esso. Abbigliamento curato è sempre gradito.\nInfo line / Info tavoli amn
 esia milano: + 39 3282345620 (anche whatsapp)\n[button style='1' caption='
 PRENOTA' link='#prenota'][/button]\nPer maggiori informazioni e prenotazio
 ni chiama il +393282345620 (anche whatsapp)\n[/pinkbox]\n\n\n\n\nSabato 7 
 Marzo 201 - ore 23.00 alle ...\nMain Room:\nRALF\nTUCCILLO\nLAUREN LO SUNG
 \nMIKY J\n\n\n\n\n\n\n2nd Room\, A.Lab\nGAME OVER: RAVING IN THE DARKNESS
 \n\n\n\n\n\n\n\n\n\n\n\n\n\n\nMANUEL V\nCHRISTIAN WRONG - STEPHEN:US - NIC
 .O - RAKITIC\n\n\n\n\n\n\n\n\n\n\n\nSabato 07 marzo l’Amnesia Milano esa
 lta la sua vocazione internazionale\, merito di una serie di esclusive\, a
 nteprime e collaborazioni con realtà mondiali nel senso stretto della par
 ola\, siano esse club piuttosto che etichette discografiche. Sabato 07 mar
 zo l’Amnesia ospita infatti il party ufficiale del The Egg di Londra\, u
 na discoteca da anni punto di riferimento della nightlife britannica\, fam
 osa anche per la sua licenza che le consente teoricamente di restare apert
 a 24 ore al giorno. The Egg fa parte della Top 100 Clubs\, la classifica d
 ei cento migliori locali al mondo redatta ogni anno dalla rivista Dj Mag.\
 nSabato 07 la consolle dell’Amnesia presenta ben quattro djs: Ralf\, Tuc
 cillo\, Lauren Lo Sung e Miki J. Ralf è il classico dj italiano che non h
 a bisogno di presentazioni\, merito di un percorso artistico senza remore 
 né compromessi. Tuccillo è uno dei deejay italiani più prolifici degli 
 ultimi quindici anni\; deep\, chill out\, minimal\, R’n’B\, lounge: ne
 ssun genere musicale sa resistergli. Lauren Lo Sung\, resident del The Egg
 \, ama definire la sua musica dub techno\, caratterizzata da potenti groov
 e ed altrettanto potenti linee di basso. Miky J è di casa sia Londra che 
 a Ibiza\, per tacere di altre location planetarie: fa parte di quel ristre
 tto gruppo di italiani che hanno trovato casa\, onore e gloria oltremanica
 .\nSempre sabato 07 marzo in A.Lab (Amnesia Milano second room) suonano Ma
 nuel V\, Christian Wrong\, Stephan:Us\,Nic.O e Rakitic.\n\n\n\n
ATTACH;FMTTYPE=image/jpeg:https://www.milanoindiscoteca.it/wp-content/uplo
 ads/2015/03/Sabato-7-Marzo-Ralf-Amnesia-Milano.jpg
CATEGORIES:Evento con prevendita,Evento in homepage,Serate Elettroniche
LOCATION:Amnesia Milano\, Via Alfonso Gatto (angolo Forlanini)\, Milano\, I
 talia
GEO:45.465454;9.186516
X-APPLE-STRUCTURED-LOCATION;VALUE=URI;X-ADDRESS=Via Alfonso Gatto (angolo F
 orlanini)\, Milano\, Italia;X-APPLE-RADIUS=100;X-TITLE=Amnesia Milano:geo:
 45.465454,9.186516
END:VEVENT
END:VCALENDAR