BEGIN:VCALENDAR
VERSION:2.0
PRODID:-//wp-events-plugin.com//7.2.3.1//EN
TZID:Europe/Rome
X-WR-TIMEZONE:Europe/Rome
BEGIN:VEVENT
UID:14905@milanoindiscoteca.it
DTSTART:20141129T004500Z
DTEND:20141129T004500Z
DTSTAMP:20141125T162510Z
URL:https://www.milanoindiscoteca.it/eventi-milano/sabato-29-novembre-luig
 i-madonna-amnesia-milano/
SUMMARY:Sabato 29 Novembre Luigi Madonna Amnesia Milano
DESCRIPTION:[pinkbox]Prezzi Sabato 29 Novembre Luigi Madonna Amnesia Milano
 :\nAccrediti 15€ (validi tutta la notte con ingresso privilegiato)\nRido
 tto 15€(liste fino alla 1.00)\nIntero 20€\n&nbsp\;\nTavoli:\nPrivè Co
 nsolle 250€ x 5 persone con 1 bottiglia(Champagne o alcolico superior)\n
 Privè 180€ x 5 persone con 1 bottiglia\nPista 150€ x 5 persone con 1 
 bottiglia\nN.B. I tavoli per essere prenotati devono essere prepagati al 5
 0%\n[/pinkbox]\n&nbsp\;\nPer essere inseriti nella lista NOMINALE di MILAN
 OINDISCOTECA:\nscrivere sms (anche whatsapp) al +39 328 2345620 con: Amnes
 ia + nome e cognome + numero persone\n\nes: in 8 persone scrivere: Amnesia
  Francesco Verdi\, 8 persone\n\nSi ricorda che è sempre vigente la selezi
 one all’ingresso. Abbigliamento curato è sempre gradito.\n&nbsp\;\nInfo
  line / Info tavoli amnesia milano: + 39 3282345620  (anche whatsapp)\n&nb
 sp\;\nInfo Serata Sabato 29 Novembre Luigi Madonna Amnesia Milano:\n&nbsp\
 ;\nLONG PLAY WORLD TOUR\nMain Room:\n LUIGI MADONNA\n(Analytic Trail\, Dru
 mcode)\n\nTOMMASO MARASMA\n(I.E.R.\, Darkhouse Music\, Somewhere)\n\nwarm 
 up\nMANUEL V\n(Game Over)\n\n2nd Room\, A.Lab\nMATTEO MANUALI\nVictor Mark
  b2b Giacomo Gussoni\nAlex Mune - Giuliano Cagnazzo\n&nbsp\;\nSerata tutta
  italiana\, sabato 29 novembre all’Amnesia\, grazie al tridente composto
  da Luigi Madonna\, Tommaso Marasma e Manuel V. Luigi Madonna è originari
 o della Campania\, una regione che continua a sfornare fenomeni techno com
 e poche altre in Italia\; autentico talento precoce\, appena quattordicenn
 e Madonna era protagonista in diverse discoteche sul territorio. In breve 
 tempo è arrivato ad imporsi in ambito internazionale\, grazie ad una seri
 e di tracce uscite con label quali Drumcode\, Loose Records e Mkt. Ed il m
 eglio deve ancora venire\, a cominciare da questa serata nel club milanese
 . Tommaso Marasma\, classe 1987\, è un dj e produttore milanese da sempre
  fiero seguace della techno più pura quella di Detroit\, che omaggia rego
 larmente con i suoi dj set e le sue produzioni discografiche. Manuel V è 
 spesso in consolle in A.Lab\, la seconda sala dell’Amnesia. Sabato 29 si
  trasferisce in main room e si occupa del fondamentale compito di sovraint
 endere al warm-up\, come adesso viene definito l’inizio serata: il sound
  che crea l’atmosfera\, per parafrasare un celebre slogan pubblicitario 
 di tanti anni addietro.\n\nSabato 29 novembre A.Lab (Amnesia second room) 
 ospita Matteo Manuali\, Victor Mark b2b Giacomo Gussoni\, Alex Mune e Giul
 iano Cagnazzo.\n
ATTACH;FMTTYPE=image/jpeg:https://www.milanoindiscoteca.it/wp-content/uplo
 ads/2014/11/Luigi-Madonna-Amnesia-Milano.jpg
CATEGORIES:Evento con prevendita,Evento in homepage
LOCATION:Amnesia Milano\, Via Alfonso Gatto (angolo Forlanini)\, Milano\, I
 talia
GEO:45.465454;9.186516
X-APPLE-STRUCTURED-LOCATION;VALUE=URI;X-ADDRESS=Via Alfonso Gatto (angolo F
 orlanini)\, Milano\, Italia;X-APPLE-RADIUS=100;X-TITLE=Amnesia Milano:geo:
 45.465454,9.186516
END:VEVENT
END:VCALENDAR