BEGIN:VCALENDAR
VERSION:2.0
PRODID:-//wp-events-plugin.com//7.2.3.1//EN
TZID:Europe/Rome
X-WR-TIMEZONE:Europe/Rome
BEGIN:VEVENT
UID:15164@milanoindiscoteca.it
DTSTART:20141226T234500Z
DTEND:20141226T234500Z
DTSTAMP:20141222T130220Z
URL:https://www.milanoindiscoteca.it/eventi-milano/sabato-27-dicembre-amne
 sia-milano/
SUMMARY:Sabato 27 Dicembre Amnesia Milano
DESCRIPTION:[pinkbox]Prezzi Sabato 27 Dicembre Amnesia Milano:\nAccrediti 1
 0€ (validi tutta la notte con ingresso privilegiato)\nRidotto 10€(list
 e fino alla 1.00)\nIntero 15€\n&nbsp\;\nTavoli:\nPrivè Consolle 200€ 
 x 5 persone con 1 bottiglia(Champagne o alcolico superior)\nPista 150€ x
  5 persone con 1 bottiglia\n[/pinkbox]\n&nbsp\;\nPer essere inseriti nella
  lista NOMINALE di MILANOINDISCOTECA:\nscrivere sms (anche whatsapp) al +3
 9 328 2345620 con: Amnesia + nome e cognome + numero persone\n\nes: in 8 p
 ersone scrivere: Amnesia Francesco Verdi\, 8 persone\n\nSi ricorda che è 
 sempre vigente la selezione all’ingresso. Abbigliamento curato è sempre
  gradito.\n&nbsp\;\nInfo line / Info tavoli amnesia milano: + 39 328234562
 0  (anche whatsapp)\n&nbsp\;\nInfo Serata Sabato 27 Dicembre Amnesia Milan
 o:\n&nbsp\;\nMain Room:\nIDRISS D\n(Memento\, Amnesia Milano)\n\nROMANO AL
 FIERI\n(Noon Records\, Break New Soil)\n\nLUCA DOOBIE\n(Spades\, Highgrade
 \, Amnesia Milano)\n&nbsp\;\nUltimo sabato dell’anno per l’Amnesia Mil
 ano\, che saluta così il suo 2014 in grande\, grandissimo stile. Merito d
 ei tre djs che dominano la consolle sabato 27 dicembre: Idriss D\, Romano 
 Alfieri e Luca Doobie. Idriss D è Amnesia resident da otto anni\, un aute
 ntico primato di durata e di fedeltà\, in particolare in un mondo effimer
 o come quello dell’intrattenimento notturno. Protagonista di serate nei 
 club di tutto il mondo\, Idriss D è attivissimo anche sul fronte discogra
 fico\, grazie in particolare alla sua label Memento\; proprio su Memento\,
  nei giorni scorsi\, è uscito l’ep Dib001\, contenente la traccia Const
 antine\, sia in versione originale\, sia nella versione Gaetano Parisio Re
 work. Si tratta della prima release di un progetto destinato ad andare mol
 to lontano. Il pisano Romano Alfieri torna all’Amnesia pronto a proporre
  come sempre dj set carichi di groove\, caratterizzati da influenze funk\,
  con sonorità sia house che techno: ha suonato in club di riferimento qua
 li il Sankeys di Manchester ed il Cocoon di Francoforte. Luca Doobie\, Amn
 esia Milano resident\, sa sempre come stupire il suo pubblico\, grazie all
 a sua personalissima concenzione di musica elettronica\, ovvero un sapient
 e mix tra funk anni settanta\, house e techno. Uno stile che si ritrova al
 la perfezione nella sua ultima produzione discografica\, “Beaches Brew
 ” (etichetta Baile Musik). Con un tridente di djs di questo livello\, l
 ’Amnesia si congeda da questo anno solare nel migliore dei modi.
ATTACH;FMTTYPE=image/jpeg:https://www.milanoindiscoteca.it/wp-content/uplo
 ads/2014/12/Sabato-27-Dicembre-Amnesia-Milano.jpg
CATEGORIES:Evento con prevendita,Evento in homepage,Serate Elettroniche
LOCATION:Amnesia Milano\, Via Alfonso Gatto (angolo Forlanini)\, Milano\, I
 talia
GEO:45.465454;9.186516
X-APPLE-STRUCTURED-LOCATION;VALUE=URI;X-ADDRESS=Via Alfonso Gatto (angolo F
 orlanini)\, Milano\, Italia;X-APPLE-RADIUS=100;X-TITLE=Amnesia Milano:geo:
 45.465454,9.186516
END:VEVENT
END:VCALENDAR