BEGIN:VCALENDAR
VERSION:2.0
PRODID:-//wp-events-plugin.com//7.2.3.1//EN
TZID:Europe/Rome
X-WR-TIMEZONE:Europe/Rome
BEGIN:VEVENT
UID:13094@milanoindiscoteca.it
DTSTART:20141024T230000Z
DTEND:20141024T230000Z
DTSTAMP:20141020T145503Z
URL:https://www.milanoindiscoteca.it/eventi-milano/sabato-25-ottobre-leon-
 amnesia-milano/
SUMMARY:Sabato 25 Ottobre Leon Amnesia Milano
DESCRIPTION:[pinkbox]Prezzi Sabato 25 Ottobre Leon Amnesia Milano:\nRidotto
  15€(liste fino alla 1.00)\nAccrediti 15€(validi tutta la notte con in
 gresso privilegiato)\nIntero 20€\n&nbsp\;\nTavoli:\nPrivè Consolle 250
 € x 5 persone con 1 bottiglia(Champagne o alcolico superior)\nPrivè 180
 € x 5 persone con 1 bottiglia\nPista 150€ x 5 persone con 1 bottiglia\
 nN.B. I tavoli per essere prenotati devono essere prepagati al 50%\n[/pink
 box]\n&nbsp\;\nPer essere inseriti nella lista NOMINALE di MILANOINDISCOTE
 CA:\nscrivere sms (anche whatsapp) al +39 328 2345620 con: Amnesia Leon + 
 nome e cognome + numero persone\n\nes: in 8 persone scrivere: Amnesia Leon
  Francesco Verdi\, 8 persone\n\nSi ricorda che è sempre vigente la selezi
 one all’ingresso. Abbigliamento curato è sempre gradito.\n&nbsp\;\nInfo
  line / Info tavoli amnesia milano: + 39 3282345620  (anche whatsapp)\nInf
 o Serata Sabato 25 Ottobre Leon Amnesia Milano:\n&nbsp\;\nMain Room:\nLEON
 \n(Music On\, CHT Records)\nNEVERDOGS\n(Music On\, Decay\, Oblack)\nLUCA D
 OOBIE\n(Spades\, Highgrade\, Amnesia Milano)\n\n2nd Room\, A.Lab\nMATTEO M
 ANUALI - JOHN FLOWER b2b GIORGIO THAYDER\nONEHEART - FABIO CEEDZA\n\n&nbsp
 \;\nSabato 25 ottobre 2014 serata tutta italiana all’Amnesia Milano: mer
 ito della presenza di Leon e Neverdogs\, che quasi un mese fa sono stati g
 randi protagonisti del party di chiusura di Music On a Ibiza\, la one-nigh
 t di Marco Carola in programma dal 6 giugno al 26 settembre\, una delle mi
 gliori serate che da anni si svolgano sull’Isla blanca. Leon torna all
 ’Amnesia Milano dopo il suo esordio assoluto lo scorso maggio\; autentic
 o giramondo del clubbing\, da New York a Singapore\, da Mosca a Francofort
 e non esiste location che non l’abbia visto esibirsi. Alla stessa stregu
 a di Leon\, Tommy Paone e Marco De Gregorio aka Neverdogs sono da tre anni
  in consolle a Music On\; in India sono autentiche celebrità: i loro set 
 hanno infiammato le feste di compleanno di Naomi Campbell e gli after-part
 y di concerti di star quali Diana Ross\, Jamiroquai\, Brian Ferry. Leon e 
 Neverdogs: nomi che danno lustro all’Italia\, nomi che danno lustro all
 ’Amnesia.\n\nSabato 25 ottobre Leon e Neverdogs sono affiancati da Luca 
 Doobie\, resident all’Amnesia dalla stagione 2010/11\, dove propone le s
 ue selezioni musicali che è anche possibile ascoltare – un giovedì al 
 mese – su Radio Popolare\, dove è ospite del programma Guida nella Giun
 gla. In A.Lab (Amnesia Milano second room) evoluzioni musicali curate da M
 atteo Manuali\, John Flower b2b Giorgio Thayder\, Oneheart e Fabio Ceedza.
 \n
ATTACH;FMTTYPE=image/jpeg:https://www.milanoindiscoteca.it/wp-content/uplo
 ads/2014/10/Sabato-25-Ottobre-Leon-Amnesia-Milano.jpg
CATEGORIES:Evento in homepage,Serate Elettroniche
LOCATION:Amnesia Milano\, Via Alfonso Gatto (angolo Forlanini)\, Milano\, I
 talia
GEO:45.465454;9.186516
X-APPLE-STRUCTURED-LOCATION;VALUE=URI;X-ADDRESS=Via Alfonso Gatto (angolo F
 orlanini)\, Milano\, Italia;X-APPLE-RADIUS=100;X-TITLE=Amnesia Milano:geo:
 45.465454,9.186516
END:VEVENT
END:VCALENDAR