BEGIN:VCALENDAR
VERSION:2.0
PRODID:-//wp-events-plugin.com//7.2.3.1//EN
TZID:Europe/Rome
X-WR-TIMEZONE:Europe/Rome
BEGIN:VEVENT
UID:14902@milanoindiscoteca.it
DTSTART:20141121T230000Z
DTEND:20141121T230000Z
DTSTAMP:20141119T094422Z
URL:https://www.milanoindiscoteca.it/eventi-milano/sabato-22-novembre-paco
 -osuna-amnesia-milano/
SUMMARY:Sabato 22 Novembre Paco Osuna Amnesia Milano
DESCRIPTION:[pinkbox]Prezzi Sabato 22 Novembre Paco Osuna Amnesia Milano:\n
 Ridotto 15€(fino a mezzanotte)\nRidotto 20€(liste fino alle 1.15)\nAcc
 rediti 20€(validi tutta la notte con ingresso privilegiato)\n&nbsp\;\nTa
 voli:\nPrivè Consolle 500€ x 10 persone con 2 bottiglie(Champagne o alc
 olico superior)\nPrivè 200€ x 5 persone con 1 bottiglia\nPista 160€ x
  5 persone con 1 bottiglia\nN.B. I tavoli per essere prenotati devono esse
 re prepagati al 50%\n[/pinkbox]\n&nbsp\;\nPer essere inseriti nella lista 
 NOMINALE di MILANOINDISCOTECA:\nscrivere sms (anche whatsapp) al +39 328 2
 345620 con: Amnesia Osuna + nome e cognome + numero persone\n\nes: in 8 pe
 rsone scrivere: Amnesia Osuna Francesco Verdi\, 8 persone\n\nSi ricorda ch
 e è sempre vigente la selezione all’ingresso. Abbigliamento curato è s
 empre gradito.\n&nbsp\;\nInfo line / Info tavoli amnesia milano: + 39 3282
 345620  (anche whatsapp)\n&nbsp\;\nInfo Serata Sabato 22 Novembre Paco Osu
 na Amnesia Milano:\n&nbsp\;\nLONG PLAY WORLD TOUR\nMain Room:\nPACO OSUNA\
 nAll night long\n\n2nd Room\, A.Lab: CONFUSION\n\nGIAVA - FABIO MERLETTI b
 2b ROGER DARKO\nDOUBLE TRIP - CHRISTIAN WRONG - PONCH\n\n&nbsp\;\nNon lasc
 ia nulla al caso Paco Osuna\, il dj e produttore catalano impegnato nel to
 ur mondiale di lancio del suo nuovo album Long Play\, uscito su Minus\, l
 ’etichetta di Richie Hawtin\, con il quale condivide tante serate Enter\
 , la one-night ibizenca di Hawtin.\n\nSabato 22 novembre Paco Osuna è l
 ’ospite speciale dell’Amnesia Milano\, che sarà un suo dominio musica
 le esclusivo dal primo all’ultimo disco\, nonché una delle tappe europe
 e del sopracitato tour\, insieme a location di riferimento quali il Club4 
 di Barcellona e l’Electric di Brixton. Un set di Osuna è un costante pu
 nto di incontro tra passato e futuro\, un sapiente ed equilibrato mix tra 
 techno\, house\, minimal e tech\, con un unico comun denominatore: la line
 a di basso\, che l’interessato non esita a definire “un’autentica os
 sessione”. Sarà un’ossessione più che piacevole\, quella che si vivr
 à e si ascolterà sabato 22 all’Amnesia Milano.\n\nSabato 29 novembre A
 .Lab (Amnesia second room) diventa Confusion. In consolle Giava\, Fabio Me
 rletti b2b Roger Darko\, Double Trip\, Christian Wrong e Ponch. \n
ATTACH;FMTTYPE=image/jpeg:https://www.milanoindiscoteca.it/wp-content/uplo
 ads/2014/11/Sabato-22-Novembre-Paco-Osuna-Amnesia-Milano.jpg
CATEGORIES:Evento con prevendita,Evento in homepage,Serate Elettroniche
LOCATION:Amnesia Milano\, Via Alfonso Gatto (angolo Forlanini)\, Milano\, I
 talia
GEO:45.465454;9.186516
X-APPLE-STRUCTURED-LOCATION;VALUE=URI;X-ADDRESS=Via Alfonso Gatto (angolo F
 orlanini)\, Milano\, Italia;X-APPLE-RADIUS=100;X-TITLE=Amnesia Milano:geo:
 45.465454,9.186516
END:VEVENT
END:VCALENDAR