BEGIN:VCALENDAR
VERSION:2.0
PRODID:-//wp-events-plugin.com//7.2.3.1//EN
TZID:Europe/Rome
X-WR-TIMEZONE:Europe/Rome
BEGIN:VEVENT
UID:14788@milanoindiscoteca.it
DTSTART:20141121T230000Z
DTEND:20141121T230000Z
DTSTAMP:20141117T113407Z
URL:https://www.milanoindiscoteca.it/eventi-milano/sabato-22-novembre-fedd
 e-grand-fabrique-milano/
SUMMARY:Sabato 22 Novembre Fedde Le Grand Fabrique Milano
DESCRIPTION:Sabato 22 Novembre arriva Fedde Le Grand a Milano. Per l'esatte
 zza\, Fedde Le Grand si esibirà al Fabrique di Milano.\n&nbsp\;\n[video i
 d="vOM8oLBs_nk" type="youtube" width="" height="420"]\n&nbsp\;\n[pinkbox]P
 rezzi Sabato 22 Novembre Fedde Le Grand Fabrique Milano:\nTICKET: Disponib
 ili prevendite al costo di 15€ + ddp = 18€\nTAVOLI VIP RISERVATI:\nTra
 ttativa riservata\, contatta info tavoli.\nDisponibili bottiglie di tutti 
 i formati e brand (Per prenotare un tavolo è richiesto un acconto pari al
  50% dell’importo entro 24h dal momento della prenotazione. I tavoli dev
 ono essere saldati al 100% entro il 20 novembre).\n\nMaggiori info e preno
 tazioni: +39 328 2345620 (anche whatsapp)\n&nbsp\;\nPrenota ORA\n[/pinkbox
 ]\n&nbsp\;\n\n&nbsp\;\nInformazioni su Fedde Le Grand:\nFinalmente è giun
 to il momento di accogliere a Milano una delle figure più longeve ed impo
 rtanti del panorama elettronico internazionale: Fedde Le Grand (FLG). Sull
 a scena e tra i grandi nomi dai primi anni del nuovo millennio\, il dj-pro
 ducer di Utrecht e owner della Flamingo Recordings insieme a Funkerman\, h
 a distribuito al mercato discografico tracce immortali da “Put Your Hand
 s For Detroit”\, “Let Me Think About It”\, “Let Me Be Real”\, al
 le più recenti “Back & Forth”\, “Autosave”\, “Rockin’ High”
 \, “Metrum” e “So Much Love”\, senza dimenticare collaborazioni co
 n artisti dello spessore di Madonna\, Coldplay\, Michael Jackson\, Fatboy 
 Slim\, Robbie Williams\, Underworld\, Mariah Carey e molti altri. Una carr
 iera plasmata da date in tutto il mondo\, FLG può vantare di aver fatto b
 allare piste prestigiose\, per citarne alcune\, come quelle dell’Ultra M
 usic Festival Miami\, EDC Las Vegas\, Tomorrowland\, Street Parade Zurigo\
 , Sensation White Amsterdam e del Coachella.\n&nbsp\;\nLine Up serata Saba
 to 22 Novembre Fedde Le Grand Fabrique Milano:\nFEDDE LE GRAND\nElectro No
 ize\nFlatdisk\nMAD MIKE \nMarnik\nNarochan Djs \nSimon Navaei
ATTACH;FMTTYPE=image/jpeg:https://www.milanoindiscoteca.it/wp-content/uplo
 ads/2014/11/Sabato-22-Novembre-Fedde-Le-Grand-Fabrique-Milano-milanoindisc
 oteca-3282345620.jpg
CATEGORIES:Evento con prevendita,Evento in homepage,Serate Elettroniche
LOCATION:Fabrique Milano\, Via Fantoli 9\, Milano\, 20100\, Italia
GEO:45.452271;9.252526
X-APPLE-STRUCTURED-LOCATION;VALUE=URI;X-ADDRESS=Via Fantoli 9\, Milano\, 20
 100\, Italia;X-APPLE-RADIUS=100;X-TITLE=Fabrique Milano:geo:45.452271,9.25
 2526
END:VEVENT
END:VCALENDAR