BEGIN:VCALENDAR
VERSION:2.0
PRODID:-//wp-events-plugin.com//7.2.3.1//EN
TZID:Europe/Rome
X-WR-TIMEZONE:Europe/Rome
BEGIN:VEVENT
UID:15982@milanoindiscoteca.it
DTSTART:20150320T230000Z
DTEND:20150320T230000Z
DTSTAMP:20150302T180751Z
URL:https://www.milanoindiscoteca.it/eventi-milano/sabato-21-marzo-cocoon-
 sven-vath-amnesia-milano/
SUMMARY:Sabato 21 Marzo Cocoon Sven Vath Amnesia Milano
DESCRIPTION:[pinkbox]\nPrezzi Cocoon Sven Vath Amnesia Milano:\nAccrediti 
 30€ (validi tutta la notte con ingresso privilegiato)\nRidotto in lista 
 25€(fino a mezzanotte)\nRidotto in lista 30€(liste fino alle 1.15)\nTa
 voli:\nPrivè Consolle su richiesta\nPrivè 1000€ x 12 persone con 3 bot
 tiglie(Champagne o alcolico superior)\nPrivè Pista 600€ x 10 persone co
 n 2 bottiglie(Champagne o alcolico superior)\nPista 250€ x 5 persone con
  1 bottiglia\n[button style='1' caption='PRENOTA' link='#prenota'][/button
 ]\nPer essere inseriti nella lista NOMINALE di MILANOINDISCOTECA:\nscriver
 e sms (anche whatsapp) al +39 328 2345620 con: Sven Amnesia + nome e cogn
 ome + numero persone\nes: in 8 persone scrivere:Sven Amnesia Francesco Ve
 rdi\, 8 persone\nSi ricorda che è sempre vigente la selezione all’ingre
 sso. Abbigliamento curato è sempre gradito.\nInfo line / Info tavoli amne
 sia milano: + 39 3282345620 (anche whatsapp)\n[button style='1' caption='P
 RENOTA' link='#prenota'][/button]\nPer maggiori informazioni e prenotazion
 i chiama il +393282345620 (anche whatsapp)\n[/pinkbox]\nSabato 21 Marzo 20
 15 - dalle ore 23.00 alle 6.00\nMain Room:\n Sven Vath\n5h Set\n(Cocoon
 )\n MAURIZIO SCHMITZ\n(Cocoon)\n2nd Room\, A.Lab: FALL OUT\nDENIELE CERRI
  - FABIO CEEDZA - ANDREW PAVE\nLUCA TERZI - ALL FOR ONE\nSabato 21 marzo 
 2015 si festeggia l’equinozio di primavera\, e non potrebbe esserci modo
  migliore di salutare una nuova stagione con una delle esclusive più preg
 iate dell’Amnesia Milano: la Cocoon Night\, e che vede protagonisti Sven
  Väth e Maurizio Schmitz. Una serata per la quale si profila il canonic
 o tutto esaurito\, doveroso pertanto comunicarla con il dovuto anticipo.\n
  Sven Väth non finisce mai di stupire. Lo scorso ottobre ha festeggiat
 o il suo cinquantesimo compleanno con uno specialissimo party a Mannheim\,
  in Germania\, nella stessa location che ospita abitualmente il festival T
 imewarp\; 50 anni superati in grandissimo stile\, continuando a suonare in
  giro per il mondo\, ferma restando la sua residenza estiva all’Amnesia 
 di Ibiza con la one-night Cocoon. Ed è proprio di questi giorni la notizi
 a che Sven Väth curerà un intero palco del festival belga Tomorrowland\,
  in programma dal 24 al 26 luglio prossimi\, e dove si suoneranno esclusiv
 amente dischi in vinile. Chi meglio di una leggenda come il dj tedesco per
  curare un progetto artistico del genere?\nSabato 21 marzo Sven Väth vien
 e affiancato dal suo fiero sodale\, l’italo-tedesco Maurizio Schmitz: il
  suo stile alterna ambient alla deep per poi esaltarsi nella techno talvol
 ta minimal\, talvolta psichedelica. Sabato 21 marzo si riforma pertanto la
  stessa\, magica accoppiata che lo scorso anno aveva spadroneggiato durant
 e il Design Week Festival. Un’altra esclusiva Amnesia Milano\, naturalme
 nte. Sempre sabato 21 A.Lab (Amnesia second room) diventa Fall Out. In
  consolle Daniele Cerri\, Fabio Ceedza\, Andrew Pave\, All For One e Luca
  Terzi.
ATTACH;FMTTYPE=image/jpeg:https://www.milanoindiscoteca.it/wp-content/uplo
 ads/2015/03/Sabato-21-Marzo-Cocoon-Sven-Vath-Amnesia-Milano-Milanoindiscot
 eca-2015.jpg
CATEGORIES:Evento con prevendita,Evento in homepage,Serate Elettroniche
LOCATION:Amnesia Milano\, Via Alfonso Gatto (angolo Forlanini)\, Milano\, I
 talia
GEO:45.465454;9.186516
X-APPLE-STRUCTURED-LOCATION;VALUE=URI;X-ADDRESS=Via Alfonso Gatto (angolo F
 orlanini)\, Milano\, Italia;X-APPLE-RADIUS=100;X-TITLE=Amnesia Milano:geo:
 45.465454,9.186516
END:VEVENT
END:VCALENDAR