BEGIN:VCALENDAR
VERSION:2.0
PRODID:-//wp-events-plugin.com//7.2.3.1//EN
TZID:Europe/Rome
X-WR-TIMEZONE:Europe/Rome
BEGIN:VEVENT
UID:15081@milanoindiscoteca.it
DTSTART:20141220T001500Z
DTEND:20141220T001500Z
DTSTAMP:20141212T170043Z
URL:https://www.milanoindiscoteca.it/eventi-milano/sabato-20-dicembre-caro
 la-pisaturo-amnesia-milano/
SUMMARY:Sabato 20 Dicembre Carola Pisaturo Amnesia Milano
DESCRIPTION:[pinkbox]Prezzi Amnesia Xmas Party 25 Dicembre 2014 Serata di N
 atale Milano:\nAccrediti 12€(validi tutta la notte con ingresso privileg
 iato)\nRidotto 15€(liste fino alla 1.00)\nIntero 20€\n&nbsp\;\nTavoli:
 \nPrivè Consolle 250€ x 5 persone con 1 bottiglia(Champagne o alcolico 
 superior)\nPrivè 180€ x 5 persone con 1 bottiglia\nPista 150€ x 5 per
 sone con 1 bottiglia\n[/pinkbox]\n&nbsp\;\nPer essere inseriti nella lista
  NOMINALE di MILANOINDISCOTECA:\nscrivere sms (anche whatsapp) al +39 328 
 2345620 con: Amnesia + nome e cognome + numero persone\n\nes: in 8 persone
  scrivere: Amnesia Francesco Verdi\, 8 persone\n\nSi ricorda che è sempre
  vigente la selezione all’ingresso. Abbigliamento curato è sempre gradi
 to.\n&nbsp\;\nInfo line / Info tavoli amnesia milano: + 39 3282345620  (an
 che whatsapp)\n&nbsp\;\nInfo Serata Amnesia Xmas Party 25 Dicembre 2014 Se
 rata di Natale Milano:\n&nbsp\;\nMain Room:\nCAROLA PISATURO\n(Claque Musi
 que)\n\nB.CONVERSO\n(Flash\, Magazzini Generali)\n\nSTEFANO DI MICELI\n(Am
 nesia Milano Wats)\n\n2nd Room\, A.Lab: OLD FAMILY CREW\nVANNELLI BROS\nNI
 COLAS MEYER - SOUND TERAPY live\nCRISS KOREY - UTOPIA\n&nbsp\;\nTriangolo 
 equilatero musicale\, sabato 20 dicembre all’Amnesia Milano: tre lati co
 ngruenti\, ognuno con la propria prospettiva musicale\, corrispondenti ai 
 dj set di Carola Pisaturo\, B. Converso e Stefano Di Miceli\, tutti e tre 
 sicura garanzia di qualità sonora. Carola Pisaturo si sta confermando sem
 pre più una delle pochissime dj donne da esportazione\, come certificano 
 le sue performance alla Red Bull Music Academy e le sue performance al Mom
 à di New York e al Sonar di Barcellona. A dicembre suonerà a San Francis
 co e a Capodanno – in Toscana – dividerà la consolle con Sven Vath\; 
 nel frattempo la sua label Claque Music sforna produzioni che suscitano se
 mpre più attenzione da parte di tutti i djs.\n \nB.Converso da questa sta
 gione fa parte del team Amnesia\; da anni è protagonista nei più importa
 nti party e festival europei\, uno su tutti il Barrakud\, in Croazia. Le s
 ue produzioni ed i suoi remix house\, techno e funk escono sulle label Fla
 sh Recordings\, Hell Yeah e Lapsus. Stefano Di Miceli è Amnesia Milano re
 sident e già fondatore del progetto Wats / We Are The Show\, che spesso e
  volentieri si palesa in A.Lab\, Amnesia second room.\n \nE a proposito di
  A.Lab\, sabato 20 si trasforma in A.Lab by Old Family Crew. In consolle V
 annelli Bros\, Nicolas Meyer\, Sound Therapy (live)\, Criss Korey e Utopia
 .
ATTACH;FMTTYPE=image/jpeg:https://www.milanoindiscoteca.it/wp-content/uplo
 ads/2014/12/Sabato-20-Dicembre-Carola-Pisaturo-Amnesia-Milano.jpg
CATEGORIES:Evento con prevendita,Evento in homepage
LOCATION:Amnesia Milano\, Via Alfonso Gatto (angolo Forlanini)\, Milano\, I
 talia
GEO:45.465454;9.186516
X-APPLE-STRUCTURED-LOCATION;VALUE=URI;X-ADDRESS=Via Alfonso Gatto (angolo F
 orlanini)\, Milano\, Italia;X-APPLE-RADIUS=100;X-TITLE=Amnesia Milano:geo:
 45.465454,9.186516
END:VEVENT
END:VCALENDAR