BEGIN:VCALENDAR
VERSION:2.0
PRODID:-//wp-events-plugin.com//7.2.3.1//EN
TZID:Europe/Rome
X-WR-TIMEZONE:Europe/Rome
BEGIN:VEVENT
UID:13086@milanoindiscoteca.it
DTSTART:20141017T230000Z
DTEND:20141017T230000Z
DTSTAMP:20141014T123134Z
URL:https://www.milanoindiscoteca.it/eventi-milano/sabato-18-ottobre-karot
 te-amnesia-milano/
SUMMARY:Sabato 18 Ottobre Karotte Amnesia Milano
DESCRIPTION:[pinkbox]Prezzi Sabato 18 Ottobre Karotte Amnesia Milano:\nRido
 tto 15€(fino a mezzanotte)\nRidotto 20€(liste fino alle 1.15)\nAccredi
 ti 20€(validi tutta la notte con ingresso privilegiato)\n&nbsp\;\nTavoli
 :\nPrivè Consolle 500€ x 10 persone con 2 bottiglie(Champagne o alcolic
 o superior)\nPrivè 200€ x 5 persone con 1 bottiglia\nPista 160€ x 5 p
 ersone con 1 bottiglia\nN.B. I tavoli per essere prenotati devono essere p
 repagati al 50%\n[/pinkbox]\n&nbsp\;\nPer essere inseriti nella lista NOMI
 NALE di MILANOINDISCOTECA:\nscrivere sms (anche whatsapp) al +39 328 23456
 20 con: Amnesia Karotte + nome e cognome + numero persone\n\nes: in 8 pers
 one scrivere: Amnesia Karotte Francesco Verdi\, 8 persone\n\nSi ricorda ch
 e è sempre vigente la selezione all’ingresso. Abbigliamento curato è s
 empre gradito.\n&nbsp\;\nInfo line / Info tavoli amnesia milano: + 39 3282
 345620  (anche whatsapp)\nInfo Serata Sabato 18 Ottobre Karotte Amnesia Mi
 lano:\n&nbsp\;\nMain Room:\nKAROTTE\n(Break New Soil)\n\nIDRISS D\n(Mement
 o\, Amnesia Milano)\nLINO PUGLIESE\n(Memento)\n\n2nd Room\, A.Lab\nWATS me
 ets WE CAN\nSTEFANO DI MICELI\nLuca Spada - Matteo Trippi - Fulvio Ruffert
 \n\n&nbsp\;\nOgni sabato sera\, l’Amnesia Milano soppesa i suoi ingredie
 nti musicali con la perizia e la competenza del miglior scienziato\, del m
 iglior chef\, del miglior pittore. Il risultato è una consolle che ogni v
 olta regala il giusto equilibrio tra sperimentazione\, rinnovamento ed aut
 entiche certezze. Così si spiega\, in particolare\, la line-up di sabato 
 18 ottobre\, che vede protagonisti Karotte\, Idriss D e Lino Pugliese\; in
  A.Lab (Amnesia second room) Wats meets We Can. In consolle Stefano Di Mic
 eli\, Luca Spada\, Matteo Trippi\, Fulvio Ruffert.\n \nIdriss D è l’ide
 ale capitano dell’Amnesia Football Club\, data la sua lunghissima milita
 nza nel locale milanese\, dove è resident da oltre otto anni\; nessuno me
 glio di lui ne conosce le dinamiche e le atmosfere\, ogni angolo ed ogni a
 nfratto. Una conoscenza che è merito di una capacità musicale a 360 grad
 i\, che discograficamente esplica con la sua etichetta Memento\, fondata a
  Berlino nel 2006 e con la quale a novembre uscirà con il disco intitolat
 o Costantine (Dib 001) in onore della sua città natale. E sempre da Memen
 to approda per la prima volta all’Amnesia Lino Pugliese aka Linuz\, pron
 to ad un djset che alterni house\, minimal e techno. Peter Cor­nely aka K
 arotte è conosciuto in particolare per il suo radio-show “Karottes Kitc
 hen”\, una piattaforma aperta a qualsiasi deejays e produttore che abbia
  qualcosa da raccontare\, con tanto di conseguenti dibattiti ed approfondi
 menti che proseguono sul web… sino alla puntata successiva. Si ritiene u
 n dj al 100%\, di quelli da anni sanno entusiasmare e dominare le danceflo
 or\, frutto di una sana gavetta che dovrebbe poi portare i deejay a metter
 e piede in uno studio discografico\, esattamente il percorso inverso di ta
 nti produttori che\, folgorati e miracolati da una hit\, si scoprono d’i
 ncanto dj. Se poi la loro autonomia in consolle risulta la stessa di una b
 atteria di uno smartphone\, nessuno se ne osi dichiarare stupito. \n\n
ATTACH;FMTTYPE=image/jpeg:https://www.milanoindiscoteca.it/wp-content/uplo
 ads/2014/10/Sabato-18-Ottobre-Karotte-Milano.jpg
CATEGORIES:Evento in homepage,Serate Elettroniche
LOCATION:Amnesia Milano\, Via Alfonso Gatto (angolo Forlanini)\, Milano\, I
 talia
GEO:45.465454;9.186516
X-APPLE-STRUCTURED-LOCATION;VALUE=URI;X-ADDRESS=Via Alfonso Gatto (angolo F
 orlanini)\, Milano\, Italia;X-APPLE-RADIUS=100;X-TITLE=Amnesia Milano:geo:
 45.465454,9.186516
END:VEVENT
END:VCALENDAR