BEGIN:VCALENDAR
VERSION:2.0
PRODID:-//wp-events-plugin.com//7.2.3.1//EN
TZID:Europe/Rome
X-WR-TIMEZONE:Europe/Rome
BEGIN:VEVENT
UID:14789@milanoindiscoteca.it
DTSTART:20141115T010000Z
DTEND:20141115T010000Z
DTSTAMP:20141109T111514Z
URL:https://www.milanoindiscoteca.it/eventi-milano/sabato-15-novembre-luca
 -agnelli-amnesia-milano/
SUMMARY:Sabato 15 Novembre Luca Agnelli Amnesia Milano
DESCRIPTION:[pinkbox]Prezzi Sabato 15 Novembre Luca Agnelli Amnesia Milano:
 \nAccrediti 15€ (valide tutta la notte con ingresso privilegiato)\nRidot
 to 15€(liste fino alla 1.00)\nIntero 20€\n&nbsp\;\nTavoli:\nPrivè Con
 solle 250€ x 5 persone con 1 bottiglia(Champagne o alcolico superior)\nP
 rivè 180€ x 5 persone con 1 bottiglia\nPista 150€ x 5 persone con 1 b
 ottiglia\nN.B. I tavoli per essere prenotati devono essere prepagati al 50
 %\n[/pinkbox]\n&nbsp\;\nPer essere inseriti nella lista NOMINALE di MILANO
 INDISCOTECA:\nscrivere sms (anche whatsapp) al +39 328 2345620 con: Amnesi
 a Agnelli + nome e cognome + numero persone\n\nes: in 8 persone scrivere: 
 Amnesia Agnelli Francesco Verdi\, 8 persone\n\nSi ricorda che è sempre vi
 gente la selezione all’ingresso. Abbigliamento curato è sempre gradito.
 \n&nbsp\;\nInfo line / Info tavoli amnesia milano: + 39 3282345620  (anche
  whatsapp)\n&nbsp\;\nInfo Serata Sabato 15 Novembre Luca Agnelli Amnesia M
 ilano:\n&nbsp\;\nMain Room:\nLUCA AGNELLI\n(Etruria Beat\, Desolat)\nB. CO
 NVERSO\n(Flash\, Magazzini Generali)\n\n2nd Room\, A.Lab\nGAME OVER: RAVIN
 G IN THE DARKNESS\nMANUEL V\nErman & Yass - Paolo Moschini - Stefano Mad\n
 \n&nbsp\;\nSerata tutta italiana\, quella di sabato 15 novembre all’Amne
 sia Milano. Merito del dinamico duo composto da Luca Agnelli e B.Converso\
 , che si dividono la consolle del locale milanese\, all’insegna dell’e
 ccletismo più sfrenato. Luca Agnelli è un dj in costante evoluzione\, co
 me dimostrano le produzioni in uscita sulla sua label Etruria Beat Records
 : impossibile definire in astratto il suo sound\, che miscela la house del
 le origini con la techno più moderna\, senza per questo tralasciare acute
  contaminazioni deep. Per la prima volta all’Amnesia\, Agnelli vanta anc
 he uscite discografiche su etichette di riferimento quali Desolat\, Get Ph
 ysical e Laterra.\n\nB.Converso da questa stagione fa parte del team Amnes
 ia\; da anni è protagonista nei più importanti party e festival europei\
 , uno su tutti il Barrakud\, in Croazia. Le sue produzioni ed i suoi remix
  house\, techno e funk escono sulle label Flash Recordings\, Hell Yeah e L
 apsus.\n \nSabato 15 novembre A.Lab (Amnesia second room) si trasforma in 
 Game Over: Raving in the darkness. In consolle Manuel V\, Erman & Yass\, P
 aolo Moschini e Stefano Mad.  \n
ATTACH;FMTTYPE=image/jpeg:https://www.milanoindiscoteca.it/wp-content/uplo
 ads/2014/11/Sabato-15-Novembre-Luca-Agnelli-Amnesia-Milano.jpg
CATEGORIES:Evento in homepage,Serate Elettroniche
LOCATION:Amnesia Milano\, Via Alfonso Gatto (angolo Forlanini)\, Milano\, I
 talia
GEO:45.465454;9.186516
X-APPLE-STRUCTURED-LOCATION;VALUE=URI;X-ADDRESS=Via Alfonso Gatto (angolo F
 orlanini)\, Milano\, Italia;X-APPLE-RADIUS=100;X-TITLE=Amnesia Milano:geo:
 45.465454,9.186516
END:VEVENT
END:VCALENDAR