BEGIN:VCALENDAR
VERSION:2.0
PRODID:-//wp-events-plugin.com//7.2.3.1//EN
TZID:Europe/Rome
X-WR-TIMEZONE:Europe/Rome
BEGIN:VEVENT
UID:15079@milanoindiscoteca.it
DTSTART:20141213T003000Z
DTEND:20141213T003000Z
DTSTAMP:20141212T163501Z
URL:https://www.milanoindiscoteca.it/eventi-milano/sabato-13-dicembre-amne
 sia-milano/
SUMMARY:Sabato 13 Dicembre Amnesia Milano
DESCRIPTION:[pinkbox]Prezzi Sabato 13 Dicembre Amnesia Milano:\nRidotto 15
 €(fino a mezzanotte)\nRidotto 18€(liste fino alle 1.15)\nAccrediti 18
 € (validi tutta la notte con ingresso privilegiato)\n&nbsp\;\nTavoli:\nP
 rivè Consolle 500€ x 10 persone con 2 bottiglie(Champagne o alcolico su
 perior)\nPrivè 200€ x 5 persone con 1 bottiglia\nPista 160€ x 5 perso
 ne con 1 bottiglia\n[/pinkbox]\n&nbsp\;\nPer essere inseriti nella lista N
 OMINALE di MILANOINDISCOTECA:\nscrivere sms (anche whatsapp) al +39 328 23
 45620 con: Amnesia + nome e cognome + numero persone\n\nes: in 8 persone s
 crivere: Amnesia Francesco Verdi\, 8 persone\n\nSi ricorda che è sempre v
 igente la selezione all’ingresso. Abbigliamento curato è sempre gradito
 .\n&nbsp\;\nInfo line / Info tavoli amnesia milano: + 39 3282345620  (anch
 e whatsapp)\n&nbsp\;\nInfo Serata Sabato 13 Dicembre Amnesia Milano:\n&nbs
 p\;\nMain Room:\nHECTOR COUTO\n(Roush\, Hot Creations\, Get Physacal\, Off
  Recordings)\nCUARTERO\n(Sanity\, Moonharbour)\nJUST A MOOD\n(Trapez\, Lit
 tle Helpers\, Antura)\n\n2nd Room\, A.Lab: FALL OUT\nMARCK1 b2b ANDREW PAV
 E - DANIELE CERRI\nLUCA TERZI - ALL FOR ONE - THE TWIN SOUND\n&nbsp\;\nLin
 e up incandescente\, quella di sabato 13 dicembre all’Amnesia Milano\; l
 a consolle prevede infatti Hector Couto\, Cuartero e Just A Mood. Da diver
 si anni Couto vive in un autentico stato di grazia\, che lo ha portato ad 
 affermarsi in tutto il mondo e a produrre tracce per labels assolute quali
  Viva Music\, Suara e Hot Creations. Cuartero ama tantissimo il sound “g
 roove and bass”\, non trascurando allo stesso tempo tracce cariche di vo
 ci calde e seducenti. Entrambi spadroneggiano da diverso tempo e con grand
 e continuità nelle classifiche di portali specializzati quali Beatport e 
 Resident Advisors. Il loro recente b2b per la chiusura stagionale dell’A
 mnesia di Ibiza ancora fa furore sul web. Couto e Quartero sono affiancati
  da Just A Mood\, ovvero Alberto Quinto e Pietro Genuino\, due ragazzi tor
 inesi già protagonisti di raduni internazionali sabaudi quali Movement e 
 Kappa Future Festival.\n\nDopo la pausa di sabato scorso\, sabato 13 torna
  A.Lab (Amnesia second room)\, che per la circostanza si trasforma in Fall
  Out. In consolle Daniele Cerri\, Luca Terzi\, Marck1 b2b Andrew Pave\, Al
 l For One e The Twin Sound.\n
ATTACH;FMTTYPE=image/jpeg:https://www.milanoindiscoteca.it/wp-content/uplo
 ads/2014/12/Amnesia-Milano-Sabato-13-Dicembre.jpg
CATEGORIES:Evento con prevendita,Evento in homepage
LOCATION:Amnesia Milano\, Via Alfonso Gatto (angolo Forlanini)\, Milano\, I
 talia
GEO:45.465454;9.186516
X-APPLE-STRUCTURED-LOCATION;VALUE=URI;X-ADDRESS=Via Alfonso Gatto (angolo F
 orlanini)\, Milano\, Italia;X-APPLE-RADIUS=100;X-TITLE=Amnesia Milano:geo:
 45.465454,9.186516
END:VEVENT
END:VCALENDAR