BEGIN:VCALENDAR
VERSION:2.0
PRODID:-//wp-events-plugin.com//7.2.3.1//EN
TZID:Europe/Rome
X-WR-TIMEZONE:Europe/Rome
BEGIN:VEVENT
UID:8041@milanoindiscoteca.it
DTSTART:20140711T230000Z
DTEND:20140711T230000Z
DTSTAMP:20140712T064654Z
URL:https://www.milanoindiscoteca.it/eventi-milano/sabato-12-luglio-holi-d
 ance-festival-of-colours-milano/
SUMMARY:Sabato 12 Luglio Holi Dance Festival Of Colours Milano
DESCRIPTION:\n&nbsp\;\n\n&nbsp\;\n[midbox]Aggiornamenti Sabato 12 Luglio Ho
 li Dance Festival Of Colours Milano:\n\n\n	Holi After Party: After party a
 l First Floor: Omaggio Donna / 10€ Uomo in lista Milanoindiscoteca - cli
 cca qui\n	\n        Line Up inserita\n	Location: Ippodromo del Galoppo\, M
 ilano\n	Prevendite: 20€ (il ticket comprende un sacchetto di colori)\n[/
 midbox]\n&nbsp\;\n[pinkbox]Prezzi Sabato 12 Luglio Holi Dance Festival Of 
 Colours Milano:\nIngresso in prevendita: 20€ prenotabili fino al 10 lugl
 io e ritirabili entro il 11 luglio 2014\ndal 7 luglio all'11 luglio dispon
 ibili solo prevendite da 25€.  Contattaci tramite il form sottostante!\n
 [/pinkbox]\n&nbsp\;\nDescrizione Holi Dance Festival Of Colours:\nSbarca a
  Milano il tanto atteso Holi Festival!!!\nSabato 12 Luglio la città si co
 lorerà con le polveri di colore HOLI\, che ogni partecipante riceverà al
 l’ingresso della manifestazione\, un talco naturale e colorato che verr
 à lanciato contemporaneamente ad ogni segnale. \n\nHoli ripropone il dna 
 originario del festival indiano\, che desidera unire tutti gli esseri uman
 i\, a prescindere dal credo\, dalla religione e dall’orientamento politi
 co\, trasmettendo il messaggio di uguaglianza attraverso il divertimento\,
  la musica e i colori.\n\nNumerose band\, dj set e gruppi di animazione si
  esibiranno per far ballare le migliaia di persone presenti.\n&nbsp\;\n\n-
  ALEX GAUDINO \n- ANDREA & GAIA \n- B.A.N.G (Viale Rossi Project) \n- DATU
 RA \n- DOC MC (Art&Music) \n- STEVE Z (Art&Music) \n- EMA STOKHOLMA \n- RA
 MILSON MAIA & ARAMà ( Kaleidoscopio Dance Project)\n- MERK & KREMONT \n- 
 PINK IS PUNK \n- RESET! \n- VIOLENT ORCHESTRA (Viale Rossi Project) \n&nbs
 p\;\nStoria Holi Dance Festival Of Colours:\nL’Holi Festival Of Colours 
 ha letteralmente ipnotizzato le persone a Berlino\, Dresda\, Hannover e Mo
 naco nel 2012. Un sentimento\, mai visto prima\, di collettività\, unità
  ed euforia in tutta la Germania espresso con una nuvola colorata nell’e
 state 2012. \n\nTutto inizia il 29 luglio 2012: A Berlino circa 3500 perso
 ne si radunano per celebrare il primo Holi Festival Of Colours in Europa\,
  creando un’atmosfera incredibile e trascorrendo una giornata memorabile
 .\nIl gruppo su facebook inizia a crescere\, così come l’interesse dei 
 media\, che hanno portato lo spirito del Festival in tutta la nazione. Ber
 lino non poteva che essere solo l’inizio.\n\nEd infatti ancora più pers
 one hanno partecipato agli eventi di Dresda\, Hannover e Monaco il 26 Agos
 to\, 1 e 9 Settembre. Gli eventi\, con più di 11000 partecipanti divenner
 o sold out in brevissimo tempo.
ATTACH;FMTTYPE=image/jpeg:https://www.milanoindiscoteca.it/wp-content/uplo
 ads/2014/06/Sabato-12-Luglio-Holi-Dance-Festival-Ippodromo-Alfa-Sound-City
 -Milano.jpg
CATEGORIES:Evento con prevendita,Festival
END:VEVENT
END:VCALENDAR