BEGIN:VCALENDAR
VERSION:2.0
PRODID:-//wp-events-plugin.com//7.2.3.1//EN
TZID:Europe/Rome
X-WR-TIMEZONE:Europe/Rome
BEGIN:VEVENT
UID:15465@milanoindiscoteca.it
DTSTART:20150212T230000Z
DTEND:20150212T230000Z
DTSTAMP:20150114T215645Z
URL:https://www.milanoindiscoteca.it/eventi-milano/ricardo-villalobos-fabr
 ique-milano-venerdi-13-febbraio/
SUMMARY:Ricardo Villalobos Fabrique Milano Venerdì 13 Febbraio
DESCRIPTION:[pinkbox]Prezzi Ricardo Villalobos Fabrique Milano Venerdì 13 
 Febbraio:\nPrevendite early bird 20€ + d.d.p.(200 disponibili fino marte
 dì 27 Gennaio)\nPrevendite normali 27€ + 3€ d.d.p.\nIntero 35€\n\n&
 nbsp\;\nTavoli:\nPrivè Palco Consolle su richiesta\nPrivè Pista 600€ x
  10 persone con 2 bottiglie(champagne o alcolico superior)\n[/pinkbox]\n&n
 bsp\;\nPer essere inseriti nella lista NOMINALE di MILANOINDISCOTECA:\nscr
 ivere sms (anche whatsapp) al +39 328 2345620 con: Villalobos + nome e cog
 nome + numero persone\n\nes: in 8 persone scrivere: Villalobos Francesco V
 erdi\, 8 persone\n\nSi ricorda che è sempre vigente la selezione all’in
 gresso. Abbigliamento curato è sempre gradito.\n&nbsp\;\nInfo line / Info
  tavoli Fabrique milano: + 39 3282345620  (anche whatsapp)\n&nbsp\;\nInfo 
 Serata Ricardo Villalobos Fabrique Milano Venerdì 13 Febbraio:\n&nbsp\;\n
 AMNESIA MILANO - CONTACT - FRAMES - LOUD\npresentano Guest dj\nRICARDO VIL
 LALOBOS\n\nSONJA MOONEAR\n\nGUEVES & SBRI\n\n&nbsp\;\nSarà il Fabrique co
 n i suoi oltre 2000mq di struttura futuristica a ospitare l'atteso ritorno
  a Milano del mattatore assoluto Ricardo Villalobos. \nRicardo è una figu
 ra a metà tra quella dello sciamano e del visionario: un creatore di espe
 rienze sonore sempre dinamiche\, miscelatore di suoni astratti\, densi e p
 otenti.\nL'acclamato artista cileno tornerà dopo due anni accompagnato da
  Sonja Moonear\, dj e produttrice svizzera.\nIn apertura Gueves & Sbri dal
 la scuderia di Loud Barcellona.\n\nVenerdì 13 febbraio è solo il primo d
 i una serie di appuntamenti realizzati in collaborazione tra le organizzaz
 ioni Amnesia Milano\, Contact Party\, Frames e Loud.\n\nPartners: Sincroni
 e. BA Artists.\n&nbsp\;\nBiografie Artisti Ricardo Villalobos Fabrique Mil
 ano Venerdì 13 Febbraio:\nRicardo Villalobos (RCH)\nDJ e produttore cilen
 o\, all’età di tre anni la sua famiglia si trasferisce in Germania\, do
 ve inizia a suonare alla fine degli anni '80 durante le feste all’univer
 sità. Oggi non esiste un continente dove Ricardo non abbia portato la pro
 pria musica\, le sue scelte influenzano dj e fan di tutto il mondo\, nonos
 tante le sue tracce non siano mai commerciali hanno un enorme successo ben
  oltre i limiti del panorama musicale underground. Inesauribile creativit
 à e perenne empatia con il pubblico in pista ne fanno un artista eccezion
 ale\, sciamano del dancefloor\, un arredatore sonoro che usa la consolle p
 er sperimentare avanguardie elettroniche\, tra i più grandi interpreti de
 lla scena contemporanea.\n\nSonja Moonear (CH)\nImmersa nelle montagne svi
 zzere\, Sonja studia pianoforte in giovane età\, poi si avvicina a giradi
 schi e drum machine tra le quali una Roland R8 e si inserisce nella scena 
 underground di Ginevra. Dal 2002 diventa dj resident del club Weetamix e a
 cquisisce rapidamente notevole reputazione internazionale\, suonando in cl
 ub e festival di tutto il mondo. Un grande patrimonio di idee\, il suo bac
 kground musicale e una straordinaria collezione di dischi l'hanno portata 
 a diventare molto richiesta\, con una carriera solida e in crescita.\n\nGu
 eves & Sbri (E)\nCoppia di dj della scuderia di Loud\, già conosciuti tra
  nightlife e afterparty di Barcellona.
ATTACH;FMTTYPE=image/jpeg:https://www.milanoindiscoteca.it/wp-content/uplo
 ads/2015/01/Ricardo-Villalobos-Fabrique-Milano-Prenotazioni-su-milanoindis
 coteca-3282345620.jpg
CATEGORIES:Evento con prevendita,Evento in homepage
LOCATION:Fabrique Milano\, Via Fantoli 9\, Milano\, 20100\, Italia
GEO:45.452271;9.252526
X-APPLE-STRUCTURED-LOCATION;VALUE=URI;X-ADDRESS=Via Fantoli 9\, Milano\, 20
 100\, Italia;X-APPLE-RADIUS=100;X-TITLE=Fabrique Milano:geo:45.452271,9.25
 2526
END:VEVENT
END:VCALENDAR