BEGIN:VCALENDAR
VERSION:2.0
PRODID:-//wp-events-plugin.com//7.2.3.1//EN
TZID:Europe/Rome
X-WR-TIMEZONE:Europe/Rome
BEGIN:VEVENT
UID:13631@milanoindiscoteca.it
DTSTART:20141212T050000Z
DTEND:20141212T050000Z
DTSTAMP:20141209T171822Z
URL:https://www.milanoindiscoteca.it/eventi-milano/rehab-just-cavalli-mila
 no-venerdi-12-dicembre/
SUMMARY:Rehab Just Cavalli Milano Venerdi 12 Dicembre
DESCRIPTION:Rehab\, numero 23 della Top 100 Djs di Dj Mag\, suonerà Venerd
 ì 12 Dicembre al Just Cavalli\, in via Camoens\, vicino l'Old Fashion Clu
 b\, a Milano.\nLa serata inizierà con un aperitivo intorno alle 21 (TUTTO
  ESAURITO IN APERITIVO)\, al prezzo di 15€\, e proseguirà con i dj resi
 dent che scalderanno la pista per il guest: Rehab. Per chi non fosse inter
 essato all'aperitivo sarà possibile accedere al party dalle ore 23 al pre
 zzo\, agevolato con Milanoindiscoteca\, di 25€ (in prevendita). \n\nPer 
 prenotare il tuo ingresso o un tavolo alla serata di Venerdì 12 Dicembre\
 , con Rehab al Just Cavalli Milano\, utilizza il form sottostante o chiama
 ci / scrivici al +39 328 2345620.\n&nbsp\;\n\n&nbsp\;\n[pinkbox]Prezzi Reh
 ab Just Cavalli Milano Venerdi 12 Dicembre\nSerata (dalle 23.00 alle 01.00
 ):\nIngresso in PREVENDITA 25€ \nTavoli in Serata: 500€\n\nPrenota ORA
 \n&nbsp\;\nPer essere inseriti nella lista NOMINALE di MILANOINDISCOTECA:\
 nscrivere sms (anche whatsapp) al +39 328 2345620 con: Rehab Just + nome e
  cognome + numero persone\n\nes: in 8 persone scrivere: Rehab Just Frances
 co Verdi\, 8 persone\n\nSi ricorda che è sempre vigente la selezione all
 ’ingresso. abbigliamento curato e ingresso a coppie è sempre gradito.\n
 [/pinkbox]\n&nbsp\;\n&nbsp\;\n[midbox]Organizza la tua festa Venerdi Just 
 Cavalli Milano\nFesta di compleanno\, festa di laurea\, festa di addio al 
 nubilato\, festa di addio al celibato... Qualsiasi festa tu abbia in mente
  il Just Cavalli Milano è la location ideale per la tua festa. \n\nChiama
 ci al +39 328 2345620 per un preventivo gratuito oppure contattaci tramite
  l'apposito form sottostante\n\nContattaci\n[/midbox]\n&nbsp\;\nOgni serat
 a è adatta ad un pubblico selezionato ed elegante\, quindi si consiglia f
 ortemente di presentarsi con un abbigliamento adeguato e per i gruppi di u
 omini venire accompagnati da donne per evitare fastidiosi “rimbalzi”.\
 n\n
ATTACH;FMTTYPE=image/jpeg:https://www.milanoindiscoteca.it/wp-content/uplo
 ads/2014/09/Rehab-Just-Cavalli-Milano-Venerdi-12-Dicembre-Milanoindiscotec
 a.jpg
CATEGORIES:Evento con prevendita,Evento in homepage,Exclusive Club
LOCATION:Just Cavalli Milano\, Via Luigi Camoens\, Milano\, 20121\, Italia
GEO:45.47297;9.172896
X-APPLE-STRUCTURED-LOCATION;VALUE=URI;X-ADDRESS=Via Luigi Camoens\, Milano\
 , 20121\, Italia;X-APPLE-RADIUS=100;X-TITLE=Just Cavalli Milano:geo:45.472
 97,9.172896
END:VEVENT
END:VCALENDAR