BEGIN:VCALENDAR
VERSION:2.0
PRODID:-//wp-events-plugin.com//7.2.3.1//EN
TZID:Europe/Rome
X-WR-TIMEZONE:Europe/Rome
BEGIN:VEVENT
UID:15464@milanoindiscoteca.it
DTSTART:20150116T230000Z
DTEND:20150116T230000Z
DTSTAMP:20150113T194411Z
URL:https://www.milanoindiscoteca.it/eventi-milano/reboot-amnesia-milano-s
 abato-17-gennaio/
SUMMARY:Reboot Amnesia Milano Sabato 17 Gennaio
DESCRIPTION:[pinkbox]Prezzi Reboot Amnesia Milano Sabato 17 Gennaio:\nAccre
 diti 18€(validi tutta la notte con ingresso privilegiato)\nRidotto 15€
 (fino a mezzanotte)\nRidotto 18€(liste fino alle 1.15)\n\n&nbsp\;\nTavol
 i:\nPrivè Consolle 500€ x 10 persone con 2 bottiglie(Champagne o alcoli
 co superior)\nPrivè 200€ x 5 persone con 1 bottiglia\nPista 160€ x 5 
 persone con 1 bottiglia\n[/pinkbox]\n&nbsp\;\nPer essere inseriti nella li
 sta NOMINALE di MILANOINDISCOTECA:\nscrivere sms (anche whatsapp) al +39 3
 28 2345620 con: Amnesia + nome e cognome + numero persone\n\nes: in 8 pers
 one scrivere: Amnesia Francesco Verdi\, 8 persone\n\nSi ricorda che è sem
 pre vigente la selezione all’ingresso. Abbigliamento curato è sempre gr
 adito.\n&nbsp\;\nInfo line / Info tavoli amnesia milano: + 39 3282345620  
 (anche whatsapp)\n&nbsp\;\nInfo Serata Reboot Amnesia Milano Sabato 17 Gen
 naio:\n&nbsp\;\nMain Room:\nREBOOT\n(Noon Records)\nYAYA\n(Desolat)\nJUST 
 A MOOD\n(Trapez\, Little Helpers\, Antura)\n\n2nd Room\, A.Lab: IMAGINE\nK
 LOVER HAZE (Monique Speciale\, Safe\, Imagine)\nAXEL VIBBES (Delay\, Imagi
 ne)\nFABIO MEZZALIRA (Too Long\, Imagine)\n\n&nbsp\;\nAll’Amnesia Milano
  non ci accontenta davvero mai\, grazie ad un sapiente equilibrio tra ospi
 ti in esclusiva\, resident e regular guests che sanno sempre come mettersi
  in gioco\, certi che una serata all’Amnesia valga come poche altre\, gr
 azie ad un pubblico fidelizzato che sa sempre di andare sul sicuro\; se ne
  avrà puntuale conferma sabato 17 gennaio\, grazie al terzetto sopraffino
  costituito da Reboot\, Yaya e Just A Mood.  \n\nScoperto e portato ai mas
 simi livelli da Sven Väth e Luciano\, il tedesco Frank Heinrich aka Reboo
 t a soli trent’anni ha già il suo nome ben scolpito tra i djs che hanno
  scritto pagine fondamentali nella storia della techno. Un autentico condo
 ttiero della consolle\, capace nel 2009 di mixare una compilation iconica 
 quale “From Frankfurt to Mannheim”\, un autentico viaggio musicale da 
 Cocoon al Timewarp\; lo scorso anno ha ridefinito i confini e le prospetti
 ve della sua musica\, con la sua label Noon Records e con la serata Rock N
 ’ Beats\,  svoltasi all’ Ushuaïa Tower di Ibiza: un esperimento teso 
 a miscelare sonorità rock con quelle elettroniche e che ha attecchito in 
 tutto il mondo. Yaya\, Amnesia Milano regular guest\, fa parte della crew 
 di Desolat (Loco Dice) dal 2009\, mentre l’anno successivo ha debuttato 
 ad Ibiza. La sua è una tech-house con sane venature tribali\, e non potre
 bbe essere altrimenti viste le sue origini\, che lui stesso ama definite a
 fro-sabaude. Just A Mood\, ovvero Alberto Quinto e Pietro Genuino sono due
  ragazzi torinesi già protagonisti di raduni internazionali quali Movemen
 t e Kappa Future Festival\, nonché ormai parte integrante a tuti gli effe
 tti della crew di Amnesia Milano.\nSabato 17 A.Lab (Amnesia second room) o
 spita Imagine: in consolle Klover Haze\, Axel Vibees e Fabio Mezzalira. 
ATTACH;FMTTYPE=image/jpeg:https://www.milanoindiscoteca.it/wp-content/uplo
 ads/2015/01/Reboot-Amnesia-Milano-Sabato-17-Gennaio.jpg
CATEGORIES:Evento con prevendita,Evento in homepage
LOCATION:Amnesia Milano\, Via Alfonso Gatto (angolo Forlanini)\, Milano\, I
 talia
GEO:45.465454;9.186516
X-APPLE-STRUCTURED-LOCATION;VALUE=URI;X-ADDRESS=Via Alfonso Gatto (angolo F
 orlanini)\, Milano\, Italia;X-APPLE-RADIUS=100;X-TITLE=Amnesia Milano:geo:
 45.465454,9.186516
END:VEVENT
END:VCALENDAR