BEGIN:VCALENDAR
VERSION:2.0
PRODID:-//wp-events-plugin.com//7.2.3.1//EN
TZID:Europe/Rome
X-WR-TIMEZONE:Europe/Rome
BEGIN:VEVENT
UID:78850@milanoindiscoteca.it
DTSTART;TZID=Europe/Rome:20260425T230000
DTEND;TZID=Europe/Rome:20260425T235500
DTSTAMP:20260422T150031Z
URL:https://www.milanoindiscoteca.it/eventi-milano/philip-mad-club-milano/
SUMMARY:Philip Mad Club Milano
DESCRIPTION:[vc_row][vc_column][vc_column_text css=""]\nSpecial Guest Phili
 p Mad Club Milano\n\nSabato 25 Aprile 2026 - dalle 23.00\n\nPHILIP @ MAD C
 LUB MILANO\nPHILIP MAD CLUB MILANO\n\n\n*NEW FLOW presenta*\n\nSabato 25 A
 prile 2026 PHILIP MAD CLUB MILANO\nApertura 23:00 | Chiusura 5:00\n\nSPECI
 AL GUEST PHILIP e tanti artisti a sorpresa.\n\nPHILIP\, nome iconico della
  scena\, torna a Milano per uno show esclusivo tra hit storiche e nuove us
 cite.\nUn artista che ha lasciato il segno con feat insieme ad alcuni dei 
 nomi più grossi della scena come Capo Plaza\, Emis Killa\, Villabanks\, S
 imba La Rue\, Baby Gang e altri big da milioni di ascolti.\nTra i feat pi
 ù recenti spiccano invece El Chapo Junior\, Neza\, Silent Bob\, Milionars
 \, Alkhazar e altri nomi della nuova wave.\n\nModalità di ingresso\n• 2
 0€ ingresso (2 drink inclusi)\n\nTavoli limitati\n• Pista → 30€\n
 • Privè → 35€\n• Console → 40€\n• Super Privè con artista 
 → 50€ (solo 2 disponibili)\n\nDress code\nUn abbigliamento elegante e 
 curato fa di te un ospite gradito e contribuisce a mantenere l’atmosfera
  della serata.\n\nIl locale si riserva il diritto di selezione\n\nPreparat
 i a vivere una notte fuori controllo\n\n&nbsp\;\n\n\n\nInfo e Prenotazioni
  al 333-3355536\n\n\nResta sempre aggiornato sulle serate. Segui inoltre l
 a nostra pagina Facebook e il nostro profilo Instagram. \n\nSe non hai
  ancora trovato la serata per te\, guarda l’elenco completo dei locali:
  clicca qui!\n\n[/vc_column_text][/vc_column][/vc_row]
ATTACH;FMTTYPE=image/jpeg:https://www.milanoindiscoteca.it/wp-content/uplo
 ads/2026/04/PHILIP-MAD.png
CATEGORIES:Evento con prevendita,Evento in homepage,One Night,salone del
 mobile
LOCATION:MAD MILANO\, corso lodi 100\, milano\, 20139\, Italia
GEO:45.441713;9.21949
X-APPLE-STRUCTURED-LOCATION;VALUE=URI;X-ADDRESS=corso lodi 100\, milano\, 2
 0139\, Italia;X-APPLE-RADIUS=100;X-TITLE=MAD MILANO:geo:45.441713,9.21949
END:VEVENT
BEGIN:VTIMEZONE
TZID:Europe/Rome
X-LIC-LOCATION:Europe/Rome
BEGIN:DAYLIGHT
DTSTART:20260329T030000
TZOFFSETFROM:+0100
TZOFFSETTO:+0200
TZNAME:CEST
END:DAYLIGHT
END:VTIMEZONE
END:VCALENDAR