BEGIN:VCALENDAR
VERSION:2.0
PRODID:-//wp-events-plugin.com//7.2.3.1//EN
TZID:Europe/Rome
X-WR-TIMEZONE:Europe/Rome
BEGIN:VEVENT
UID:16960@milanoindiscoteca.it
DTSTART:20150619T230000Z
DTEND:20150619T230000Z
DTSTAMP:20150617T152151Z
URL:https://www.milanoindiscoteca.it/eventi-milano/paris-hilton-just-caval
 li-milano/
SUMMARY:Paris Hilton Just Cavalli Milano
DESCRIPTION:[pinkbox]\n\nPrezzi Paris Hilton Just Cavalli Milano:\nSERATA 
 [dalle 22.30]\nIngresso :\n25€ only by TICKET (PREVENDITA)\nTavoli Paris
  Hilton Just Cavalli Milano:\n600€ x 1 bott x 8 pass &gt\; Dancefloor\n1
 200€ x 8 pass &gt\; First Prive Zone\n2500€ x x 10 pass &gt\; Vip Priv
 è\nInfo and Reservations Paris Hilton Just Cavalli Milano:\n+393282345620
 \n[vc_separator width="80%" align="none"]\nPRENOTA\n[/pinkbox]\n\nParis Hi
 lton ospite al Just Cavalli di Milano per l'inaugurazione della Milan Fash
 ion Week Uomo. Per godersi nel migliore dei modi è consigliato prenotare 
 un tavolo. I Prezzi dei tavoli per Paris Hilton partono da 600€. Per mag
 giori informazioni sui tavoli Just Cavalli Milano chiamare il +39 328 2345
 620.\n\nAlternativa al tavolo Paris Hilton Milano è acceddere all'evento 
 tramite prevendita. Il costo della prevendita è di 30€ e potrà esser a
 cquistato presso i nostri uffici.\nBiografia Paris Hilton\nPer sapere tutt
 o sulla vita e sulla carriera da dj di Paris Hilton ti rimandiamo alla sua
  biografia su Wikipedia: Biografia Paris Hilton.\n\n&nbsp\;
ATTACH;FMTTYPE=image/jpeg:https://www.milanoindiscoteca.it/wp-content/uplo
 ads/2014/04/Paris-Hilton-Just-Cavalli-Milano-Milanoindiscoteca.jpg
CATEGORIES:Evento con prevendita,Evento in homepage,Exclusive Club,Serate
 Elettroniche
LOCATION:Just Cavalli Milano\, Via Luigi Camoens\, Milano\, 20121\, Italia
GEO:45.47297;9.172896
X-APPLE-STRUCTURED-LOCATION;VALUE=URI;X-ADDRESS=Via Luigi Camoens\, Milano\
 , 20121\, Italia;X-APPLE-RADIUS=100;X-TITLE=Just Cavalli Milano:geo:45.472
 97,9.172896
END:VEVENT
END:VCALENDAR