BEGIN:VCALENDAR
VERSION:2.0
PRODID:-//wp-events-plugin.com//7.2.3.1//EN
TZID:Europe/Rome
X-WR-TIMEZONE:Europe/Rome
BEGIN:VEVENT
UID:15775@milanoindiscoteca.it
DTSTART:20150213T230000Z
DTEND:20150213T230000Z
DTSTAMP:20150207T174627Z
URL:https://www.milanoindiscoteca.it/eventi-milano/pan-pot-amnesia-milano/
SUMMARY:Pan Pot Amnesia Milano
DESCRIPTION:[pinkbox]\n\n\nPrezzi Pan Pot Amnesia Milano:\nAccrediti 18€
 (validi tutta la notte con ingresso privilegiato [messaggio al 3282345620]
 )\nRidotto 15€(fino a mezzanotte)\nRidotto 18€(liste fino alle 1.15)\n
 \nTavoli:\nPrivè Consolle 500€ x 10 persone con 2 bottiglie(Champagne o
  alcolico superior)\nPrivè 200€ x 5 persone con 1 bottiglia\nPista 160
 € x 5 persone con 1 bottiglia\n[button style='1' caption='PRENOTA' link=
 '#prenota'][/button]\nPer essere inseriti nella lista NOMINALE di MILANOIN
 DISCOTECA:\nscrivere sms (anche whatsapp) al +39 328 2345620 con: Amnesia 
 Pan Pot + nome e cognome + numero persone\nes: in 8 persone scrivere: Amne
 sia Pan Pot Francesco Verdi\, 8 persone\nSi ricorda che è sempre vigente 
 la selezione all’ingresso. Abbigliamento curato è sempre gradito.\n\nIn
 fo line / Info tavoli amnesia milano: + 39 3282345620 (anche whatsapp)\n\n
 [/pinkbox]\n\n\nInfo Serata Pan Pot Amnesia Milano:\nMain Room:\nPAN-POT\
 n4 HOURS SET\n(Second State - Berlin)\nSTEFANO DI MICELI\n(Amnesia Milano\
 , Wats)\n2nd Room\, A.Lab\nGAME OVER: RAVING IN THE DARKNESS\nMANUEL V\nER
 MAN &amp\; YASS - CHRISTIAN WRONG - LUCA FIORETTI\nwarm up: Juan T\nSabato
  14 febbraio 2015 Tassilo Ippenberger &amp\; Thomas Benedix aka Pan Pot pl
 anano da Berlino nella consolle dell’Amnesia per un djset di ben quattro
  ore\, pronti a bissare il successo della loro ultima performance nel loca
 le milanese (novembre 2013). 240 minuti di musica mai banale\, mai fine se
  stessa\, capace di spingersi alla ricerca di nuove frontiere senza per qu
 esto discostarsi troppo dalla via maestra. Del resto\, i Pan Pot sanno sem
 pre come evolversi e risultare sempre originali: negli anni il loro sound 
 si è modificato costantemente\, basti in tal senso confrontare il loro pr
 imo album “Pan-O-Roma” del 2007 con l’ep “The Mirror” del 2013 p
 er rendersene conto\, senza dimenticare nuova etichetta discografica Secon
 d State\, dove innovazione e tradizione convivono nel migliore dei modi. S
 abato 14 i Pan Pot sono affiancati da Stefano Di Miceli\, Amnesia Milano r
 esident\, sempre più grande cultore del vinile e pronto a dedicarsi sempr
 e più alle produzioni discografiche. A.Lab (Amnesia second room) diventa 
 Game Over: Raving In The Darkness. In consolle Manuel V\,Erman &amp\; Yass
 \, Christian Wrong\, Luca Fioretti e Juan T.\n\nLa serata del 14 febbraio 
 prevede anche l’evento Cîroc\, vodka assai sofisticata realizzata con
  uve di prima qualità e che viene distillata ben cinque volte. La parola
  Cîroc nasce dalla combinazione di due parole francesi\, cime (cima) e r
 oche (roccia) ed evoca la regione di Gaillac\, sede dei vitigni francesi 
 più alti. Sabato 14 febbraio all’Amnesia le primizie musicali si affian
 cano a quelle per il palato.\n\n
ATTACH;FMTTYPE=image/jpeg:https://www.milanoindiscoteca.it/wp-content/uplo
 ads/2015/02/Pan-Pot-Amnesia-Milano.jpg
CATEGORIES:Evento con prevendita,Evento in homepage,Serate Elettroniche
LOCATION:Amnesia Milano\, Via Alfonso Gatto (angolo Forlanini)\, Milano\, I
 talia
GEO:45.465454;9.186516
X-APPLE-STRUCTURED-LOCATION;VALUE=URI;X-ADDRESS=Via Alfonso Gatto (angolo F
 orlanini)\, Milano\, Italia;X-APPLE-RADIUS=100;X-TITLE=Amnesia Milano:geo:
 45.465454,9.186516
END:VEVENT
END:VCALENDAR