BEGIN:VCALENDAR
VERSION:2.0
PRODID:-//wp-events-plugin.com//7.2.3.1//EN
TZID:Europe/Rome
X-WR-TIMEZONE:Europe/Rome
BEGIN:VEVENT
UID:13050@milanoindiscoteca.it
DTSTART:20141030T231500Z
DTEND:20141030T231500Z
DTSTAMP:20141027T114430Z
URL:https://www.milanoindiscoteca.it/eventi-milano/overmind-east-end-studi
 os-milano-halloween-2014/
SUMMARY:Overmind East End Studios Milano
DESCRIPTION:\n&nbsp\;\n[pinkbox]\nPrezzi Overmind East End Studios Milano H
 alloween 2014:\nBiglietto: 25€ (PROMOZIONE MID fino ad esaurimento al 33
 91482151 (poi 30€)(esclusivamente in prevendita)\nTavoli: trattativa ris
 ervata al +39 3391482151\nDisponibili bottiglie di tutti i formati e brand
 .\n[/pinkbox]\n&nbsp\;\n\n&nbsp\;\nQuest'anno\, Overmind ha deciso di tras
 formarsi in un vero e proprio\, nonchè unico\, festival urbano di Milano\
 , facendovi ballare dalle 19.30 su tutto il dancefloor degli East End Stud
 ios.\n&nbsp\;\n\n&nbsp\;\nLine Up Overmind East End Studios Milano Hallowe
 en 2014:\n\n	House Of Madness - Mainstage:\n\nBLASTERZ\nDON DIABLO\nFEHRPL
 AY\nMARNIK\nMOTI\nSTADIUMX\nSICK INDIVIDUALS\n\n	Ibizound / Deeper Passion
 :\n\n	CLAPTONE\nFRANCESCO ROSSI\nMIKE DEM\nPLEASUREKRAFT\nSECONDCITY\nTUBE
  & BERGER\n\n	Overmind Friends:\n\nBLASTERZ\nMARNIK\nOOVEE\nSUB SISTAH\nTO
 MMI SPARK\n\n	A Trance Of Mind\n	\nHEATBEAT\nJEROME ISMA-AE\nJOHN 00′ FL
 EMING\nMANUEL V\nMARK SIXMA\nORJAN NILSEN\nTOMMI SPARK\n\n	Electro Italia:
 \n\nHEARTBEATZ\nNAROCHAN\nTBA\nTBA\nTBA\nTBA BY ELECTRO ITALIA CONTEST\nTB
 A BY ELECTRO ITALIA CONTEST\nTBA BY ELECTRO ITALIA CONTEST\nTBA BY ELECTRO
  ITALIA CONTEST\n\n&nbsp\;\n[video id="VhO0VARZ8Zs" type="youtube" width="
 " height="420"]\nOvermind nasce per portare in Italia musica di tendenza e
  guest internazionali.\nDa anni il nostro Brand è sinonimo di qualità e 
 sicurezza\, ai nostri eventi partecipano migliaia di giovani appassionati 
 di musica\, da tutte le regioni italiane e dal nord Europa. \n\nSi tratta 
 di un concept basato sulle linee guida dei principali festival internazion
 ali con musica di tendenza e ospiti da tutto il mondo. \n\nGli artisti sce
 lti per le performance a Overmind risiedono tutti nella classifica interna
 zionale e ufficiale «Top 100» di Beatport.com e DJ Mag (rivista ufficial
 e di settore) permettendo quindi un forte impatto sul pubblico italiano e 
 nord europeo.Non è altresì raro che un artista internazionale\, scelga O
 vermind come palco per la sua prima esibizione in Italia\, o addirittura d
 i utilizzare l’evento per lo shooting di video ufficiali musicali\, diff
 usi poi in tutto il mondo su svariate piattaforme (Youtube\, Facebook page
 \, TV\, etc).
ATTACH;FMTTYPE=image/jpeg:https://www.milanoindiscoteca.it/wp-content/uplo
 ads/2014/10/Festival-Overmind-House-Of-Madness-Halloween-2014.jpg
CATEGORIES:Evento con prevendita,Serate Elettroniche
LOCATION:East End Studios\, Via Mecenate 84\, Milano\, 20100\, Italia
GEO:45.4503588;9.247528999999986
X-APPLE-STRUCTURED-LOCATION;VALUE=URI;X-ADDRESS=Via Mecenate 84\, Milano\, 
 20100\, Italia;X-APPLE-RADIUS=100;X-TITLE=East End Studios:geo:45.4503588,
 9.247528999999986
END:VEVENT
END:VCALENDAR