BEGIN:VCALENDAR
VERSION:2.0
PRODID:-//wp-events-plugin.com//7.2.3.1//EN
TZID:Europe/Rome
X-WR-TIMEZONE:Europe/Rome
BEGIN:VEVENT
UID:14993@milanoindiscoteca.it
DTSTART:20141218T230500Z
DTEND:20141218T230500Z
DTSTAMP:20141203T184449Z
URL:https://www.milanoindiscoteca.it/eventi-milano/overmind-anniversary-ma
 gazzini-generali-milano/
SUMMARY:Overmind Anniversary Magazzini Generali Milano
DESCRIPTION:Overmind Anniversary\, il quarto per la precisione. Vi ricordat
 e il primo anniversary il 22 Dicembre del 2012? Quest'anno sul palco dei M
 agazzini Generali ci saranno Dannic e Dyro\, accompagnati dai Residents: B
 lasterz\, Marnik e Tommy Spark. Ma non finisce qui! Infatti\, l'animazione
  sarà curata dal TARGAMY.\n&nbsp\;\n[pinkbox]Prezzi Overmind Anniversary 
 Magazzini Generali Milano:\nIngresso esclusivamente in prevendita: 18€ +
  ddp\n\nInfo / Prenota Prevendita\n\nTavoli Magazzini Generali Milano:\nTa
 voli VIP: trattativa riservata (tramite form o infoline +393391482151)\nTa
 voli zona consolle: 500€ ogni 10 persone\nTavoli zona soppalco: 300€ o
 gni 10 persone\n\nInfo / Prenota Tavolo\n\nATTENZIONE:\nPer prenotare un t
 avolo è richiesto un acconto pari al 50% dell’importo entro 24h dal mom
 ento della prenotazione. I tavoli devono essere saldati al 100% entro il 1
 6 dicembre.\n[/pinkbox]\n&nbsp\;\n[video id="EyQaAxPE5yA" type="youtube" w
 idth="" height="420"]\n&nbsp\;\nInformazioni Serata Overmind Anniversary M
 agazzini Generali Milano:\nIl 19 dicembre è una data speciale per noi e p
 er tutti voi\, Overmind arriva al suo quarto anniversario! In questi anni 
 migliaia di persone hanno ballato sui nostri vari dancefloor\, conoscendo 
 di persona e da vicino tutti i protagonisti mondiali di questo grande cred
 o e movimento chiamato Electronic Dance Music !\nTanto PLUR per voi quindi
 \, se non sapete cosa sia cercate su Google.\nChiudiamo l'anno in bellezza
  con un regalo di Natale in anticipo per tutti voi\, chiamando due tra gli
  artisti più richiesti al momento in tutto il mondo!\n\nNaturalmente gran
 dissime novità sono in arrivo per il 2015\, non crederete ai vostri occhi
 ...\nNon pensiamo ci siano bisogno di presentazioni per i due ragazzi..ma 
 Dyro è Jordy van Egmond\, nato e cresciuto in Olanda è l'autore di produ
 zioni immortali come "Leprechauns & Unicorns"\, "Black Smoke"\, "Never Say
  Goodbye feat. Bright Lights" e tantissime altre sull'etichetta dell'amico
  e compagno di una vita Hardwell! Dannic è Daan Romers\, classe 1987 è u
 n produttore assolutamente poliedrico\, capace di destreggiarsi su varie l
 abel internazionali come Revealed Recordings fino ad arrivare a Toolroom R
 ecords. Tra i suoi capolavori è sicuramente da citare "Dear Life feat. Br
 ight Lights" (remixata anche dal nostro Blasterz\, trovabile su tutti gli 
 store digitali\, Beatport\, etc uscita sull'etichetta di Hardwell)\, "Beam
  feat. Mako" (remixata anche dai nostri amici Marnik\, trovabile su tutti 
 gli store digitali\, Beatport\, etc uscita sull'etichetta di Hardwell)\, "
 Anubi" in compagnia degli amici Merk & Kremont\, "Radical" in compagnia di
  Dyro!\nUn perfetto mix esplosivo!\n\nPLEASE DRESS IN WHITE!\nVESTITEVI IN
  BIANCO!\n\nL'altrà novità di questo anniversario è la colorata e frene
 tica animazione di TARGAMY!\nSarà un vero e proprio show stile TOMORROWLA
 ND e non mancheranno sorprese a non finire...\n\nPerformance: LIVE BODY PA
 INTING & DANCERS\, FIRE SHOW\, FLUOPOLE DANCE\, GAYSER SHOW and much more.
 ..\n\nLe nostre ragazze dell'animazione daranno vita a\nvertiginose contor
 sioni\, BODY PAINTING mozzafiato & FLUO EXPLOSION by Susanna Liberatore\n\
 nIl nostro staff provvederà a truccarvi tutti di fluo con le nostre speci
 ali vernici.\n&nbsp\;\nLine Up Overmind Anniversary:\nBlasterz\nMarnik\nTo
 mmi Spark\nDyro\nDannic
ATTACH;FMTTYPE=image/jpeg:https://www.milanoindiscoteca.it/wp-content/uplo
 ads/2014/12/Dannic-Dyro-Overmind-Anniversary-Magazzini-Generali-Milano-Mil
 anoindiscoteca.jpg
CATEGORIES:Evento con prevendita,Evento in homepage,Serate Elettroniche
LOCATION:Magazzini Generali\, Via Pietrasanta 14\, Milano\, Italia
GEO:45.44406;9.194945
X-APPLE-STRUCTURED-LOCATION;VALUE=URI;X-ADDRESS=Via Pietrasanta 14\, Milano
 \, Italia;X-APPLE-RADIUS=100;X-TITLE=Magazzini Generali:geo:45.44406,9.194
 945
END:VEVENT
END:VCALENDAR