BEGIN:VCALENDAR
VERSION:2.0
PRODID:-//wp-events-plugin.com//7.2.3.1//EN
TZID:Europe/Rome
X-WR-TIMEZONE:Europe/Rome
BEGIN:VEVENT
UID:16695@milanoindiscoteca.it
DTSTART:20150430T230000Z
DTEND:20150430T230000Z
DTSTAMP:20150501T141707Z
URL:https://www.milanoindiscoteca.it/eventi-milano/opening-social-music-ci
 ty-aftershow-amnesia-milano/
SUMMARY:Opening Social Music City Aftershow Amnesia Milano
DESCRIPTION:[pinkbox]\nPrezzi Opening Social Music City Aftershow Amnesia 
 Milano:\nAccrediti 20€(validi tutta la notte con ingresso privilegiato)\
 nRidotto* 15€(fino a mezzanotte)\nRidotto* 20€(liste fino alle 1.15)
 \n*Ingresso Ridotto in lista milanoindiscoteca\nTavoli:\nPrivè Consolle 5
 00€ per 10 persone con 2 bottiglie(Champagne o alcolico superior)\nPriv
 è 200€ per 5 persone con 1 bottiglia\nPista 160€ per 5 persone con 1 
 bottiglia\n[button style='1' caption='PRENOTA' link='#prenota'][/button]\n
 Per essere inseriti nella lista NOMINALE di MILANOINDISCOTECA:\nscrivere s
 ms (anche whatsapp) al +39 328 2345620 con: Opening Social Music City Afte
 rshow Amnesia + nome e cognome + numero persone\nes: in 8 persone scrivere
 : Opening Social Music City Aftershow Francesco Verdi\, 8 persone\nSi rico
 rda che è sempre vigente la selezione all’ingresso. Abbigliamento curat
 o è sempre gradito.\nInfo line / Info tavoli amnesia milano: + 39 3282345
 620 (anche whatsapp)\n[button style='1' caption='PRENOTA' link='#prenota']
 [/button]\nPer maggiori informazioni e prenotazioni chiama il +39328234562
 0 (anche whatsapp)\n[/pinkbox]\nVenerdì 1 Maggio 2015 - dalle ore 23.00 a
 lle ...\nOPENING SOCIAL MUSIC CITY AFTERSHOW\nMain Room:\nMACEO PLEX\nTALE
  OF US\nSOMNE\nwarm up:\nDjena\n2nd Room\, A.Lab\nGAME OVER: RAVING IN TH
 E DARKNESS\nMANUEL V - ERMAN &amp\; YASS - THE HUMMERS\nROBY VOBIS b2b ALE
 SSIO OLDANI - PYPIS\n\nVenerdì 01 maggio 2015 tutto il mondo avrà gli oc
 chi puntati su Milano\, grazie all’inaugurazione dell’Expo\, l’Espos
 izione Universale in programma sino al 31 ottobre e che porterà in città
  almeno 20 milioni di visitatori. L’Amnesia Milano si fa trovare pronta\
 , prontissima per questa fondamentale ricorrenza\, con l’after-show di S
 ocial Music City\, che venerdì 1 maggio inaugura la propria stagione-Expo
 : in cartellone top djs quali Maceo Plex\, Tale of Us\, Luciano\, Ilario A
 licante eFatboy Slim\, giusto per limitarci ai primi guest. L’Amnesia Mi
 lano figura tra gli organizzatori e promotori di Social Music City\, con i
 l ruolo specifico per non dire istituzionale di ospitare tutti gli after-s
 how.\n\nVenerdì 01 maggio (dalle ore 23) si comincia come meglio non si p
 otrebbe. In consolle Maceo Plex\, Tales of Us eSomne. Tale of Us sono tra 
 i più importanti djs e produttori di origini italiane\, capaci di suonare
  nei migliori festival mondiali come di spadroneggiare nei club più alter
 nativi. Il loro set al Coachella è stato giudicato il migliore in assolut
 o da alcuni tra i più autorevoli blog e riviste di settore. Maceo Plex ra
 ppresenta al meglio l’evoluzione mondiale della House\, capace come poch
 i altri di oscillare tra deep e tech. Ascoltarlo e ballarlo costituisce se
 mpre un autentico spettacolo\, forte di un repertorio e di un know-how che
  gli ha persino permesso di creare un suo progetto parallelo: Maetrix. Som
 ne è il nuovo progetto di Federico Maccherone\, che da poche settimane ha
  esordito sulla label Nonplus Records con l’ep Millennium\, comprensivo 
 di quattro tracce molto ben accolte dalla comunità che ama radunarsi into
 rno ai falò della musica elettronica.\n\nVenerdì 01 maggio 2015 A.Lab (A
 mnesia second room) diventa Raving In The Darkness. Djs Manuel V\, Erman &
 amp\; Yass\, The Hummers\, Roby Vobis b2b Alessio Oldani e Pypis.\n\nPer m
 aggiori informazioni e prenotazioni chiama il +393282345620 (anche whatsap
 p)
ATTACH;FMTTYPE=image/jpeg:https://www.milanoindiscoteca.it/wp-content/uplo
 ads/2015/05/Opening-Social-Music-City-Aftershow-Amnesia-Milano.jpg
CATEGORIES:Evento con prevendita,Evento in homepage,Serate Elettroniche
LOCATION:Amnesia Milano\, Via Alfonso Gatto (angolo Forlanini)\, Milano\, I
 talia
GEO:45.465454;9.186516
X-APPLE-STRUCTURED-LOCATION;VALUE=URI;X-ADDRESS=Via Alfonso Gatto (angolo F
 orlanini)\, Milano\, Italia;X-APPLE-RADIUS=100;X-TITLE=Amnesia Milano:geo:
 45.465454,9.186516
END:VEVENT
END:VCALENDAR