BEGIN:VCALENDAR
VERSION:2.0
PRODID:-//wp-events-plugin.com//7.2.3.1//EN
TZID:Europe/Rome
X-WR-TIMEZONE:Europe/Rome
BEGIN:VEVENT
UID:13150@milanoindiscoteca.it
DTSTART:20150211T010000Z
DTEND:20150211T010000Z
DTSTAMP:20150210T205320Z
URL:https://www.milanoindiscoteca.it/eventi-milano/mercoledi-just-cavalli-
 milano-2015-02-11/
SUMMARY:Mercoledi Brasilian Carnival Just Cavalli Milano
DESCRIPTION:[pinkbox]\n\n\nPrezzi Mercoledi Just Cavalli Milano\nAperitivo 
 e Serata (dalle 19.30 alle 01.00):\nIngresso PROMO MID: Omaggio (1€) sol
 o su prenotazione\nPossibilità di prenotare tavoli d'appoggio gratuiti fi
 no alle 22\nTavoli:\nTavoli in aperitivo: 70€ Spumante / 150€ Superalc
 olico\nTavoli in Serata: a partire da 300€ per 5 ingressi\nPrenota ORA\n
 &nbsp\;\n\nPer essere inseriti nella lista NOMINALE di MILANOINDISCOTECA:\
 nscrivere sms (anche whatsapp) al +39 328 2345620 con: Mercoledi Just + no
 me e cognome + numero persone\n\nes: in 8 persone scrivere: Mercoledi Just
  Francesco Verdi\, 8 persone\n\nSi ricorda che è sempre vigente la selezi
 one all’ingresso. abbigliamento curato e ingresso a coppie è sempre gra
 dito.\n\n[/pinkbox]\n\n&nbsp\;\n\n&nbsp\;\n\n[midbox]\nOrganizza la tua fe
 sta Mercoledi Just Cavalli Milano\nFesta di compleanno\, festa di laurea\,
  festa di addio al nubilato\, festa di addio al celibato... Qualsiasi fest
 a tu abbia in mente il Just Cavalli Milano è la location ideale per la tu
 a festa.\n\nChiamaci al +39 328 2345620 per un preventivo gratuito oppure 
 contattaci tramite l'apposito form sottostante\nContattaci\n[/midbox]\n\n&
 nbsp\;\n\nOgni serata è adatta ad un pubblico selezionato ed elegante\, q
 uindi si consiglia fortemente di presentarsi con un abbigliamento adeguato
  e per i gruppi di uomini venire accompagnati da donne per evitare fastidi
 osi “rimbalzi”.
ATTACH;FMTTYPE=image/jpeg:https://www.milanoindiscoteca.it/wp-content/uplo
 ads/2014/09/Carnevale-Just-Cavalli-Milano-11-Febbraio-prenotazioni-3282345
 620.jpg
CATEGORIES:Evento con ingresso omaggio,Evento in homepage,Exclusive Club
LOCATION:Just Cavalli Milano\, Via Luigi Camoens\, Milano\, 20121\, Italia
GEO:45.47297;9.172896
X-APPLE-STRUCTURED-LOCATION;VALUE=URI;X-ADDRESS=Via Luigi Camoens\, Milano\
 , 20121\, Italia;X-APPLE-RADIUS=100;X-TITLE=Just Cavalli Milano:geo:45.472
 97,9.172896
END:VEVENT
END:VCALENDAR