BEGIN:VCALENDAR
VERSION:2.0
PRODID:-//wp-events-plugin.com//7.2.3.1//EN
TZID:Europe/Rome
X-WR-TIMEZONE:Europe/Rome
BEGIN:VEVENT
UID:18568@milanoindiscoteca.it
DTSTART:20150512T230000Z
DTEND:20150512T230000Z
DTSTAMP:20150508T162025Z
URL:https://www.milanoindiscoteca.it/eventi-milano/mercoledi-estivo-just-c
 avalli-milano-2-2015-05-13/
SUMMARY:Mercoledì Estivo Just Cavalli Milano
DESCRIPTION:[pinkbox]\nIn occasione della semifinale di Champion's League f
 aremo vedere\nla partita Real Madrid - Juventus\, sia al ristorante che al
 l'aperitivo.\n\nAPERITIVO [19.30 - 22.30]\nIngresso in lista Milanoindisco
 teca: 10€ con drink\n\nTavoli:\nCon una bottiglia di spumante 60/70€ a
  bottiglia (escluso l'ingresso)\nCon una bottiglia di superalcolico 130€
  a bottiglia (escluso l'ingresso)\n[vc_separator width="80%" align="none"]
 \n\nSERATA [22.30 - 01.00]\nIngresso ridotto in lista Milanoindiscoteca: 1
 5€ con drink\nTavoli:\nPista 280/300€ con 5 ingressi e una bottiglia d
 i superalcolico\nSuper Privè [Minimo 2 bottiglie - Massimo 10 ingressi]\n
 Balconata [Minimo 4 bottiglie - Massimo 10 ingressi]\n[vc_separator width=
 "80%" align="none"]\nPRENOTA\nPer essere inseriti nella lista NOMINALE di 
 MILANOINDISCOTECA:\nscrivere sms (anche whatsapp) al +39 328 2345620\ncon:
  Giorno Just Cavalli + nome e cognome + numero persone\nes: in 8 persone s
 crivere: Lunedì Just Cavalli Francesco Verdi\, 8 persone\nSi ricorda che 
 è sempre vigente la selezione all’ingresso. Abbigliamento curato e ingr
 esso a coppie è sempre gradito.\n[/pinkbox]\n[midbox]\n\nOrganizza la tua
  festa @Mercoledì Estivo Just Cavalli Milano 2015\nFesta di compleanno\, 
 festa di laurea\, festa di addio al nubilato\, festa di addio al celibato
 … Qualsiasi festa tu abbia in mente Just Cavalli Milano è la location i
 deale per la tua festa.\n\nChiamaci al +39 328 2345620 per un preventivo g
 ratuito oppure contattaci tramite l’apposito form sottostante\n[/midbox]
ATTACH;FMTTYPE=image/jpeg:https://www.milanoindiscoteca.it/wp-content/uplo
 ads/2014/09/Mercoledì-Just-Cavalli.jpg
CATEGORIES:Evento in homepage,Exclusive Club
LOCATION:Just Cavalli Milano\, Via Luigi Camoens\, Milano\, 20121\, Italia
GEO:45.47297;9.172896
X-APPLE-STRUCTURED-LOCATION;VALUE=URI;X-ADDRESS=Via Luigi Camoens\, Milano\
 , 20121\, Italia;X-APPLE-RADIUS=100;X-TITLE=Just Cavalli Milano:geo:45.472
 97,9.172896
END:VEVENT
END:VCALENDAR