BEGIN:VCALENDAR
VERSION:2.0
PRODID:-//wp-events-plugin.com//7.2.3.1//EN
TZID:Europe/Rome
X-WR-TIMEZONE:Europe/Rome
BEGIN:VEVENT
UID:12917@milanoindiscoteca.it
DTSTART:20141103T230000Z
DTEND:20141103T230000Z
DTSTAMP:20141103T125809Z
URL:https://www.milanoindiscoteca.it/eventi-milano/martedi-4-novembre-afte
 r-party-lady-gaga-just-cavalli-milano/
SUMMARY:Martedi 4 Novembre After Party Lady Gaga Just Cavalli Milano
DESCRIPTION:[pinkbox]Prezzi Martedi 4 Novembre After Party Lady Gaga Just C
 avalli Milano\nAperitivo (dalle 20.00 alle 22.30):\nIngresso in lista Mila
 noindiscoteca 15€ (zona interna o dehor in base alla disponibilità)\nTa
 voli in aperitivo: 70€ spumante / 150€ super alcolico\nSerata (dalle 2
 2.30 alle 01.00):\nIngresso in lista Milanoindiscoteca 15€ donna / 20€
  uomo \nTavoli in Serata: a partire da 300€ per 5 ingressi\n\nPrenota OR
 A\n&nbsp\;\nPer essere inseriti nella lista NOMINALE di MILANOINDISCOTECA:
 \nscrivere sms (anche whatsapp) al +39 328 2345620 con: Martedi Just + nom
 e e cognome + numero persone\n\nes: in 8 persone scrivere: Martedi Just Fr
 ancesco Verdi\, 8 persone\n\nSi ricorda che è sempre vigente la selezione
  all’ingresso. abbigliamento curato e ingresso a coppie è sempre gradit
 o.\n\nMaggiori info: clicca qui.\n[/pinkbox]\n&nbsp\;\n&nbsp\;\n[midbox]Or
 ganizza la tua festa Martedi 4 Novembre After Party Lady Gaga Just Cavalli
  Milano\nFesta di compleanno\, festa di laurea\, festa di addio al nubilat
 o\, festa di addio al celibato... Qualsiasi festa tu abbia in mente il Jus
 t Cavalli Milano è la location ideale per la tua festa. \n\nChiamaci al +
 39 328 2345620 per un preventivo gratuito oppure contattaci tramite l'appo
 sito form sottostante\n\nContattaci\n[/midbox]\n&nbsp\;\nOgni serata è ad
 atta ad un pubblico selezionato ed elegante\, quindi si consiglia fortemen
 te di presentarsi con un abbigliamento adeguato e per i gruppi di uomini v
 enire accompagnati da donne per evitare fastidiosi “rimbalzi”.
ATTACH;FMTTYPE=image/jpeg:https://www.milanoindiscoteca.it/wp-content/uplo
 ads/2014/09/Martedì-4-Novembre-After-Party-Lady-Gaga-Just-Cavalli-Milano.
 jpg
CATEGORIES:Evento in homepage,Exclusive Club
LOCATION:Just Cavalli Milano\, Via Luigi Camoens\, Milano\, 20121\, Italia
GEO:45.47297;9.172896
X-APPLE-STRUCTURED-LOCATION;VALUE=URI;X-ADDRESS=Via Luigi Camoens\, Milano\
 , 20121\, Italia;X-APPLE-RADIUS=100;X-TITLE=Just Cavalli Milano:geo:45.472
 97,9.172896
END:VEVENT
END:VCALENDAR