BEGIN:VCALENDAR
VERSION:2.0
PRODID:-//wp-events-plugin.com//7.2.3.1//EN
TZID:Europe/Rome
X-WR-TIMEZONE:Europe/Rome
BEGIN:VEVENT
UID:15971@milanoindiscoteca.it
DTSTART:20150227T233000Z
DTEND:20150227T233000Z
DTSTAMP:20150225T232406Z
URL:https://www.milanoindiscoteca.it/eventi-milano/marco-faraone-amnesia-m
 ilano-2/
SUMMARY:Marco Faraone Amnesia Milano
DESCRIPTION:[pinkbox]\nPrezzi Marco Faraone Amnesia Milano:\nAccrediti 15
 €(valide tutta la notte con ingresso privilegiato)\nRidotto 15€(liste 
 fino alla 1.00)\nIntero 20€\nTavoli:\nPrivè Consolle 250€ x 5 persone
  con 1 bottiglia(Champagne o alcolico superior)\nPrivè 180€ x 5 persone
  con 1 bottiglia\nPista 150€ x 5 persone con 1 bottiglia\n[button style=
 '1' caption='PRENOTA' link='#prenota'][/button]\nPer essere inseriti nella
  lista NOMINALE di MILANOINDISCOTECA:\nscrivere sms (anche whatsapp) al +3
 9 328 2345620 con: Faraone Amnesia + nome e cognome + numero persone\nes: 
 in 8 persone scrivere:Faraone Amnesia Francesco Verdi\, 8 persone\nSi ric
 orda che è sempre vigente la selezione all’ingresso. Abbigliamento cura
 to è sempre gradito.\nInfo line / Info tavoli amnesia milano: + 39 328234
 5620 (anche whatsapp)\n[button style='1' caption='PRENOTA' link='#prenota'
 ][/button]\nPer maggiori informazioni e prenotazioni chiama il +3932823456
 20 (anche whatsapp)\n[/pinkbox]\nSabato 28 Febbraio 2015 - dalle ore 23.00
  alle ...\nMain Room:\n MARCO FARAONE\nExtended set\n(Desolat\, Drumcode\
 , Moon Harbour)\n LUCA DOOBIE\n(Spades\, Highgrade\, Amnesia Milano)\n2nd
  Room\, A.Lab\nVICTOR MARCK - ALEX MUNE\nMATTEO MANUALI - CHRISTIAN LIOTTA
 \nSabato 28 febbraio l’Amnesia Milano propone uno dei format più collau
 dati\, la serata dedicata ad un guest resident\, capace nel caso specifico
  di ammaliare la platea dal primo all’ultimo disco: Marco Faraone.\nMarc
 o Faraone\, toscano doc\, produce dischi dal 2008\, quando fece il suo eso
 rdio ufficiale sull’etichetta Tenax Recordings di Alex Neri\; da allora 
 le sue tracce lo hanno portato molto lontano e molto avanti\, grazie a col
 laborazioni con label quali Desolat\, Get Physical e Moon Harbour. In segu
 ito ha dato vita al progetto discografico Etruria Beat\, insieme a Luca Ag
 nelli: di sicuro si tratta di una delle novità musicali italiane più imp
 ortanti degli ultimi anni. Faraone è di casa nei migliori club europei\, 
 Sankeys Manchester\, Berghain Berlino e Fabrik Madrid su tutti. Sabato 28 
 febbraio Marco Faraone è affiancato da Luca Doobie\, Amnesia Milano resid
 ent\, al quale spetta il delicato e fondamentale compito del warm-up.\nLuc
 a Doobie conosce la musica ed il suo pubblico come pochi altri\, merito di
  una competenza e di una passione senza eguali\, che esplica con analoga m
 aestria sia in consolle sia in radio\, in particolare nel programma Guida 
 Nella Giungla\, in onda su Radio Popolare. Sempre sabato 28 in A.Lab (Amne
 sia Milano second room) Victor Marck\, Alex Mune\, Matteo Manuali e Christ
 ian Liotta.
ATTACH;FMTTYPE=image/jpeg:https://www.milanoindiscoteca.it/wp-content/uplo
 ads/2015/02/Marco-Faraone-Amnesia-Milano.jpg
CATEGORIES:Evento con prevendita,Serate Elettroniche
LOCATION:Amnesia Milano\, Via Alfonso Gatto (angolo Forlanini)\, Milano\, I
 talia
GEO:45.465454;9.186516
X-APPLE-STRUCTURED-LOCATION;VALUE=URI;X-ADDRESS=Via Alfonso Gatto (angolo F
 orlanini)\, Milano\, Italia;X-APPLE-RADIUS=100;X-TITLE=Amnesia Milano:geo:
 45.465454,9.186516
END:VEVENT
END:VCALENDAR