BEGIN:VCALENDAR
VERSION:2.0
PRODID:-//wp-events-plugin.com//7.2.3.1//EN
TZID:Europe/Rome
X-WR-TIMEZONE:Europe/Rome
BEGIN:VEVENT
UID:10745@milanoindiscoteca.it
DTSTART:20150322T230000Z
DTEND:20150322T230000Z
DTSTAMP:20150323T121142Z
URL:https://www.milanoindiscoteca.it/eventi-milano/lunedi-just-cavalli-mil
 ano-3-2015-03-23/
SUMMARY:Lunedi Just Cavalli Milano
DESCRIPTION:[pinkbox]\n\n\nPrezzi Lunedi Just Cavalli Milano\nIngresso in l
 ista milanoindiscoteca: 10€ con drink\nPossibilità di prenotare tavoli 
 d'appoggio gratuiti fino alle 22.30 (zona interna o dehor in base alla dis
 ponibilità)\n\nTavoli in Aperitivo: 70€ Spumante / 150€ Super alcolic
 o\nTavoli in Serata: a partire da 300€ per 5 ingressi\nPrenota ORA\n&nbs
 p\;\n\nPer essere inseriti nella lista NOMINALE di MILANOINDISCOTECA:\nscr
 ivere sms (anche whatsapp) al +39 328 2345620 con: Lunedi Just + nome e co
 gnome + numero persone\n\nes: in 8 persone scrivere: Lunedi Just Francesco
  Verdi\, 8 persone\n\nSi ricorda che è sempre vigente la selezione all’
 ingresso. abbigliamento curato e ingresso a coppie è sempre gradito.\n\n[
 /pinkbox]\n\n&nbsp\;\n\n&nbsp\;\n\n[midbox]\nOrganizza la tua festa Lunedi
  Just Cavalli Milano\nFesta di compleanno\, festa di laurea\, festa di add
 io al nubilato\, festa di addio al celibato... Qualsiasi festa tu abbia in
  mente il Just Cavalli Milano è la location ideale per la tua festa.\n\nC
 hiamaci al +39 328 2345620 per un preventivo gratuito oppure contattaci tr
 amite l'apposito form sottostante\nContattaci\n[/midbox]\n\n&nbsp\;\n\nOgn
 i serata è adatta ad un pubblico selezionato ed elegante\, quindi si cons
 iglia fortemente di presentarsi con un abbigliamento adeguato e per i grup
 pi di uomini venire accompagnati da donne per evitare fastidiosi “rimbal
 zi”.
ATTACH;FMTTYPE=image/jpeg:https://www.milanoindiscoteca.it/wp-content/uplo
 ads/2014/09/Just-Cavalli-Isola-Dei-Famosi-Milano-mid.jpg
CATEGORIES:Evento con ingresso omaggio,Evento in homepage
LOCATION:Just Cavalli Milano\, Via Luigi Camoens\, Milano\, 20121\, Italia
GEO:45.47297;9.172896
X-APPLE-STRUCTURED-LOCATION;VALUE=URI;X-ADDRESS=Via Luigi Camoens\, Milano\
 , 20121\, Italia;X-APPLE-RADIUS=100;X-TITLE=Just Cavalli Milano:geo:45.472
 97,9.172896
END:VEVENT
END:VCALENDAR