BEGIN:VCALENDAR
VERSION:2.0
PRODID:-//wp-events-plugin.com//7.2.3.1//EN
TZID:Europe/Rome
X-WR-TIMEZONE:Europe/Rome
BEGIN:VEVENT
UID:15376@milanoindiscoteca.it
DTSTART:20150104T230000Z
DTEND:20150104T230000Z
DTSTAMP:20141226T131627Z
URL:https://www.milanoindiscoteca.it/eventi-milano/lunedi-5-gennaio-fideli
 o-the-club-milano/
SUMMARY:Lunedì 5 Gennaio Fidelio The Club Milano
DESCRIPTION:[video id="d1S-JS1-XnU" type="youtube" width="" height="420"]\n
 [pinkbox]\nPrezzi Lunedì 5 Gennaio Fidelio The Club Milano:\nIngresso (h.
  23.30/00.30):\nOmaggio Donna e 15€ Uomo \nTavoli:\n200€ per 6 persone
  con 1 Distillato\n\nChiedi all'ingresso della lista MILANOINDISCOTECA per
  usufruire delle agevolazioni.\n&nbsp\;\nPer essere inseriti nella lista N
 OMINALE di MILANOINDISCOTECA:\nscrivere sms (anche whatsapp) al +39 328 23
 45620 con: Fidelio + nome e cognome + numero persone\n\nes: in 8 persone s
 crivere: Fidelio Francesco Verdi\, 8 persone\n\nSi ricorda che è sempre v
 igente la selezione all’ingresso. Abbigliamento curato e ingresso a copp
 ie è sempre gradito.\n&nbsp\;\nVuoi prenotare un tavolo) Vuoi organizzare
  una festa? Vuoi semplicemente più informazioni? Clicca il pulsante qui s
 otto e PRENOTA all'istante: ti arriverà una mail di risposta con la confe
 rma di prenotazione o con le informazioni richieste\nPrenota ORA\n[/pinkbo
 x]\n&nbsp\;\nFidelio\, da più di dieci anni è la one-night del gusto del
  bello e dell’innovazione della tradizione della night life italiana.\n\
 nIl focus dei soci (Poldo Longhi\, Gabriele Piemonti\, Maurizio Gerosa\, D
 avide Cavallari\, Carlo Luardi e Marco Toto) è da sempre quello di produr
 re eventi notturni di alta qualità nel rispetto della migliore tradizione
  italiana. Per questo FIDELIO presenta un suo format improntato su un effi
 cace e talentuoso cast di artisti: dance show del gruppo di ballerini EWS 
 Performers\, resident vocalist Gaty\, al sax Mauro Capitale\, alle percuss
 ioni Alessio Donati ed infine alle tastiere Maximilian Rio. In consolle i 
 djs Stefano Pain e Ale Bucci affiancati dal cantante Ala Berht.\nProgettar
 e le notti per sfidare il tempo ed i trend più innovativi e migliorare la
  qualità del divertimento è la missione del gruppo FIDELIO. La carta vin
 cente è la sensibilità con cui immaginano le serate e la loro comunicazi
 one. Rendere accessibile la One Night FIDELIO ad ogni tipo di pubblico (da
 lle aziende ai trend setter) significa anche realizzare soluzioni di spett
 acolo pensate per ogni locale in funzione del rinnovare e del creare nuove
  tendenze nell’ambito dell’intrattenimento. Questa vocazione ha origin
 e lontane per i componenti del gruppo FIDELIO\, ognuno alla guida anche di
  altre realtà imprenditoriali del genere\, in diverse città italiane. \n
 Le notti del FIDELIO si raccontano attraverso i suoi protagonisti - client
 i ed artisti - uniti dal senso della ricerca\, della sperimentazione e dei
  nuovi linguaggi. Per questi motivi molte feste a tema sono diventate veri
  e propri fenomeni cult. Con il suo Tour\, il gruppo FIDELIO esporta un pr
 odotto vincente e "cool" in tutte le discoteche italiane.\n\nPERCHE’ FID
 ELIO:\nLa One night FIDELIO – Martedì Notte Milano - nasce nel 1998 da 
 un'idea dell'indimenticato Poldo Longhi e Gabriele Piemonti. Il team creat
 ivo prende spunto dalla rappresentazione visiva che il grande cineasta Sta
 nley Kubrick esprime nel film Eyes Wide Shut  e dal pathos musicale dell
 ’opera teatrale Fidelio del Maestro Ludwing Van Beethoven. Ambedue le op
 ere hanno contribuito a stimolare i soci fondatori nella creazione di un
 ’esclusiva One Night dedicata ad un pubblico di trend setters e coolhunt
 ers. Poldo Longhi\, Gabriele Piemonti\, Maurizio Gerosa\, Davide Cavallari
 \, Carlo Luardi e Marco Toto ricreano con successo a livello artistico ed 
 emozionale l’intreccio tra psicologia\, enigma ed erotismo soft. Attrave
 rso il format FIDELIO gli scenari del film di Kubrick vengono riproposti n
 ei top club italiani in una veste sex glam e la colonna sonora del film so
 stituita da dj sets fortemente evocativi. \nLa one night FIDELIO diventa u
 na delle serate più ambite dai club-goers non solo meneghini e negli anni
  ha settimanalmente presentato  eventi esclusivi (la presentazione del CD 
 di ROMANZO CRIMINALE\, NOTRE DAME DE PARIS The Party\, lo ZOO di 105 "Cump
 a Day"\, SCORIE - Raidue - il party\, ecc) e collaborazioni con i locali p
 iù prestigiosi della penisola. Inoltre il FIDELIO\, come serata itinerant
 e e One Night\, ha avuto luogo nelle discoteche più prestigiose di Milano
  e d'Italia: Rolling Stone\, Old Fashion\, Shocking Club\, Caffè Solaire\
 , Rio Bo\, Sopravento e molte altre. Da anni ormai\, il gruppo FIDELIO ha 
 stretto un sodalizio con la discoteca THE CLUB\, vero punto di riferimento
  dell'intrattenimento milanese\, dove ogni settimana\, nella stagione inve
 rnale\, presenta il Martedì più "cool" della notte italiana. Durante la 
 stagione estiva FIDELIO si trasferisce all'OLD FASHION CLUB\, discoteca st
 orica immersa nel verde del Parco Sempione.\n&nbsp\;\nResident Djs: Stefan
 o Pain\, Ale Bucci & Mavee\nResident Voice: Gaty Vocalist\nPerformance art
 istiche: EWS Performers\nLive Sax: Mauro Capitale\nLive Percussion: Alessi
 o Donati\nLive Keyboard: Maximilian Rio\nResident Guest: MC Dr. Feelx\nSin
 ger: Ala Berht\n&nbsp\;\nInfo\, Tavoli e prenotazioni: +39 328 2345620 (an
 che whatsapp)
ATTACH;FMTTYPE=image/jpeg:https://www.milanoindiscoteca.it/wp-content/uplo
 ads/2014/09/Martedi-Fidelio-The-Club-Milano-milanoindiscoteca.jpg
CATEGORIES:Evento con ingresso omaggio,Evento in homepage,Serata
 Universitaria
LOCATION:The Club Milano\, Largo La Foppa - Corso Garibaldi\, 97\, Milano\,
  Italia
GEO:45.465454;9.186516
X-APPLE-STRUCTURED-LOCATION;VALUE=URI;X-ADDRESS=Largo La Foppa - Corso Gari
 baldi\, 97\, Milano\, Italia;X-APPLE-RADIUS=100;X-TITLE=The Club Milano:ge
 o:45.465454,9.186516
END:VEVENT
END:VCALENDAR