BEGIN:VCALENDAR
VERSION:2.0
PRODID:-//wp-events-plugin.com//7.2.3.1//EN
TZID:Europe/Rome
X-WR-TIMEZONE:Europe/Rome
BEGIN:VEVENT
UID:15398@milanoindiscoteca.it
DTSTART:20150104T234500Z
DTEND:20150104T234500Z
DTSTAMP:20141226T132740Z
URL:https://www.milanoindiscoteca.it/eventi-milano/lunedi-5-gennaio-colazi
 one-da-tiffany-amnesia-milano/
SUMMARY:Lunedì 5 Gennaio Colazione Da Tiffany Amnesia Milano
DESCRIPTION:[pinkbox]Prezzi Lunedì 5 Gennaio Colazione Da Tiffany Amnesia 
 Milano:\nAccrediti 20€ (validi tutta la notte con ingresso privilegiato)
 \nRidotto 15€(fino a mezzanotte)\nRidotto 20€(liste fino alla 1.15)\nI
 ntero 25€\n&nbsp\;\nTavoli:\nPrivè 250€ x 5 persone con 1 bottiglia\n
 Pista 180€ x 5 persone con 1 bottiglia\n[/pinkbox]\n&nbsp\;\nPer essere 
 inseriti nella lista NOMINALE di MILANOINDISCOTECA:\nscrivere sms (anche w
 hatsapp) al +39 328 2345620 con: Amnesia + nome e cognome + numero persone
 \n\nes: in 8 persone scrivere: Amnesia Francesco Verdi\, 8 persone\n\nSi r
 icorda che è sempre vigente la selezione all’ingresso. Abbigliamento cu
 rato è sempre gradito.\n&nbsp\;\nInfo line / Info tavoli amnesia milano: 
 + 39 3282345620  (anche whatsapp)\n&nbsp\;\nInfo Serata Sabato 27 Dicembre
  Amnesia Milano:\n&nbsp\;\nCOLAZIONE DA TIFFANY\n \nMain Room:\n\n ANJA SC
 HNEIDER\n \nMASSIMINO LIPPOLI\n\nSTEFANO ALBANESE\n\nPATH\n\nANDREA BARONE
 \n\nDAVIDALE\n\nANGELO COSENTINO\n\nSIMON RICCI\n\nLUCA TERZI\n&nbsp\;\nL
 ’Amnesia Milano saluta le vacanze natalizie e di inizio anno nel miglior
 e dei modi\, grazie ad un prefestivo che vede il ritorno di uno dei party 
 più attesi e longevi nella storia italiana del clubbing. Lunedì 05 genna
 io torna infatti all’Amnesia Colazione da Tiffany\, nato da un’idea de
 l talentuoso Morgan\, autentico cerimoniere di corte\, sia nel campo del f
 ashion che degli eventi dance.\n\nColazione da Tiffany si propose nel 1995
  come una novità assoluta\, offrendo le atmosfere dei salotti parigini: t
 hè\, pasticcini\, cioccolata ed house music di qualità. Un mix inedito i
 n un orario inedito\, il tea time. Dal 2000 Colazione da Tiffany divenne u
 n evento più raro\, adatto a proporsi in circostanze e location particola
 ri\, proprio come l’Amnesia Milano\, e proprio in date azzeccatissime co
 me quella di lunedì 05 gennaio.\n \nLa consolle di Colazione propone Anja
  Schneider\, che ha appena superato i dieci anni di carriera come produttr
 ice discografica\, caratterizzati da album quali “Beyond The Valley”\,
  collaborazioni universali ed il suo radio-show “Under The Blue Moon”\
 ; le sue produzioni ed i suoi remix sono usciti per labels quali Hot Creat
 ions e Dynamic\, così come i suoi set non mancano mai ai raduni più impo
 rtanti di musica elettronica\, quali Sonar Barcellona\, Amsterdam Dance Ev
 ent e Snowbombing in Austria. Massimino Lippoli è uno dei dj house più a
 mati\, uno dei primi a diventare un sicuro riferimento in Romagna ed in se
 guito in tutta Italia\; Stefano Albanese è il dj resident da sempre di Co
 lazione da Tiffany\, si può dire la sua memoria storica musicale\; Path 
 è nato come autentico purista della house\, per poi declinare il suo soun
 d con modalità più europee e pertanto più tech. Completano la consolle 
 Andrea Barone\, Davidale\, Angelo Cosentino\, Simon Ricci e Luca Terzi. La
  prima notte all’Amnesia del 2015\, come sempre\, non sarà mai una nott
 e come tutte le altre.
ATTACH;FMTTYPE=image/jpeg:https://www.milanoindiscoteca.it/wp-content/uplo
 ads/2014/12/Colazione-da-tiffany-amnesia-milano.jpg
CATEGORIES:Evento con prevendita,Evento in homepage
LOCATION:Amnesia Milano\, Via Alfonso Gatto (angolo Forlanini)\, Milano\, I
 talia
GEO:45.465454;9.186516
X-APPLE-STRUCTURED-LOCATION;VALUE=URI;X-ADDRESS=Via Alfonso Gatto (angolo F
 orlanini)\, Milano\, Italia;X-APPLE-RADIUS=100;X-TITLE=Amnesia Milano:geo:
 45.465454,9.186516
END:VEVENT
END:VCALENDAR