BEGIN:VCALENDAR
VERSION:2.0
PRODID:-//wp-events-plugin.com//7.2.3.1//EN
TZID:Europe/Rome
X-WR-TIMEZONE:Europe/Rome
BEGIN:VEVENT
UID:10546@milanoindiscoteca.it
DTSTART:20141031T001000Z
DTEND:20141031T001000Z
DTSTAMP:20141030T111233Z
URL:https://www.milanoindiscoteca.it/eventi-milano/halloween-2014-the-club
 -milano/
SUMMARY:Halloween 2014 The Club Milano
DESCRIPTION:[video id="mZYOjGuXUnI" type="youtube" width="" height="420"]\n
 &nbsp\; \n[pinkbox]\nPrezzi Halloween 2014 The Club Milano:\nIngresso in l
 ista Milanoindiscoteca (dalle 23 alle 00.30): 20€ Uomo / 15€ Donna con
  consumazione\nMettiti in lista al +39 328 2345620 (anche whatsapp)\n\nTav
 oli: SOLD OUT\n- Pista 200€ per 6 ingressi\n- Privè 250€ per 6 ingres
 si\n[/pinkbox]\n&nbsp\;\n\n&nbsp\;\n\n&nbsp\;\nHalloween 2014 The Club Mil
 ano sarà targato MOOD\, il Venerdì notte The Club!\n\nTema della serata:
  Black Sails\, pirati.\nIn console: Ale Bucci e Marco Coccia.\n\nEvento is
 pirato alla serie più cult del momento BLACK SAILS.\nTrasformeremo il The
  Club nella vostra Isola del Tesoro\, preparatevi ad incontrare i Pirati e
  il Capitano James Flint…\n \nA tutte le maschere verrà offerto l’ing
 resso omaggio per sabato 01 novembre.
ATTACH;FMTTYPE=image/jpeg:https://www.milanoindiscoteca.it/wp-content/uplo
 ads/2014/10/Halloween-2014-The-Club-Milano.jpg
CATEGORIES:Evento in homepage
LOCATION:The Club Milano\, Largo La Foppa - Corso Garibaldi\, 97\, Milano\,
  Italia
GEO:45.465454;9.186516
X-APPLE-STRUCTURED-LOCATION;VALUE=URI;X-ADDRESS=Largo La Foppa - Corso Gari
 baldi\, 97\, Milano\, Italia;X-APPLE-RADIUS=100;X-TITLE=The Club Milano:ge
 o:45.465454,9.186516
END:VEVENT
END:VCALENDAR