BEGIN:VCALENDAR
VERSION:2.0
PRODID:-//wp-events-plugin.com//7.2.3.1//EN
TZID:Europe/Rome
X-WR-TIMEZONE:Europe/Rome
BEGIN:VEVENT
UID:14604@milanoindiscoteca.it
DTSTART:20141031T034500Z
DTEND:20141031T034500Z
DTSTAMP:20141030T180558Z
URL:https://www.milanoindiscoteca.it/eventi-milano/halloween-2014-magazzin
 i-generali-milano/
SUMMARY:Halloween 2014 Magazzini Generali Milano
DESCRIPTION:[pinkbox]\nPrezzi Halloween 2014 Magazzini Generali Milano:\n15
 € drink incl. entro le 01.00 IN LISTA MIAMI (338-7338905)\n20€ drink i
 ncl. dopo le 01.00 IN LISTA MIAMI (338-7338905)\n\nOppure\nOPEN BAR SPECIA
 L PRIVE’\nEVENT HERE: \n- OPEN BAR \n- PRIVE' esclusivo accanto alla con
 sole \n- INGRESSO riservato \nTutto a solo 25 EURO con PRENOTAZIONE NOMINA
 LE!\nSolo un numero limitatissimo di persone potranno usufruire di questa 
 speciale occasione\, l'accredito via sms / whatsapp al 3387338905\n\nTavol
 i:\n150€ x 7 pass\n\nPrenota ORA\n\n[/pinkbox]\nIn città.\nLa location 
 più prestigiosa.\nL’animazione più luminosa in una versione demoniaca 
 che vi lascerà senza fiato.\n\nA due passi da casa vivrete un esperienza 
 “da paura”.\n\nUno spettacolo visual in chiave Horror che solo DELight
  e i suoi LEDWALL sa offrirvi.\n\nLa nostra animazione spaventosamente sex
 y per l’occasione.\n\nLa Electronic Dance Music dei nostri dj/producers.
  (alla ricerca di nuovi talenti in città).\n\nLINE UP\n\nPOLYRS\nIAZZ & R
 YAMOR\nKROOSTA VS JOE ROK\nMAD & KRAUS\nALEX QUINCI & ANDREA LOMBARDO \nQU
 ENTIN \n\nMusic Lights & Show by DELight
ATTACH;FMTTYPE=image/jpeg:https://www.milanoindiscoteca.it/wp-content/uplo
 ads/2014/10/halloween-2014-magazzini-generali-milano.jpg
LOCATION:Magazzini Generali\, Via Pietrasanta 14\, Milano\, Italia
GEO:45.44406;9.194945
X-APPLE-STRUCTURED-LOCATION;VALUE=URI;X-ADDRESS=Via Pietrasanta 14\, Milano
 \, Italia;X-APPLE-RADIUS=100;X-TITLE=Magazzini Generali:geo:45.44406,9.194
 945
END:VEVENT
END:VCALENDAR