BEGIN:VCALENDAR
VERSION:2.0
PRODID:-//wp-events-plugin.com//7.2.3.1//EN
TZID:Europe/Rome
X-WR-TIMEZONE:Europe/Rome
BEGIN:VEVENT
UID:10547@milanoindiscoteca.it
DTSTART:20141031T060000Z
DTEND:20141031T060000Z
DTSTAMP:20141022T124312Z
URL:https://www.milanoindiscoteca.it/eventi-milano/halloween-2014-just-cav
 alli-milano/
SUMMARY:Halloween 2014 Just Cavalli Milano
DESCRIPTION:[video id="KVrLTJvM-Wo" type="youtube" width="" height="420"]\n
 &nbsp\; \n[pinkbox]\nPrezzi Halloween 2014 Just Cavalli Milano:\nAperitivo
 : \n- dalle 20 alle 21.30: 15€\n- dalle 21.30 alle 00.30: 20€\nSerata:
  \n- dalle 00.30 all’Una: 30€\nTavolo Halloween Just Cavalli:\n300€ 
 x 5persone\n\n&nbsp\;\nPer prenotare la tua prevendita utilizza il form so
 ttostante o scrivici un messaggio / whatsapp al +39 328 2345620\n\nDal 2 O
 ttobre è attivo il PUNTO RITIRO UFFICIALE PREVENDITE / TICKETS: contattac
 i al +39 328 2345620\n[/pinkbox]\n&nbsp\;\n\n&nbsp\;\n[midbox]Guarda qui t
 utti gli eventi serate Halloween MilanoLo staff di Milanoindiscoteca ti co
 nsiglia ben 21 feste di Halloween nei più bei locali della città di Mila
 no.[/midbox]\n&nbsp\;\nA breve maggiori info su Halloween 2014 Just Cavall
 i Milano
ATTACH;FMTTYPE=image/jpeg:https://www.milanoindiscoteca.it/wp-content/uplo
 ads/2014/10/Halloween-2014-Just-Cavalli-Milano1.jpg
CATEGORIES:Evento con prevendita,Evento in homepage
LOCATION:Just Cavalli Milano\, Via Luigi Camoens\, Milano\, 20121\, Italia
GEO:45.47297;9.172896
X-APPLE-STRUCTURED-LOCATION;VALUE=URI;X-ADDRESS=Via Luigi Camoens\, Milano\
 , 20121\, Italia;X-APPLE-RADIUS=100;X-TITLE=Just Cavalli Milano:geo:45.472
 97,9.172896
END:VEVENT
END:VCALENDAR