BEGIN:VCALENDAR
VERSION:2.0
PRODID:-//wp-events-plugin.com//7.2.3.1//EN
TZID:Europe/Rome
X-WR-TIMEZONE:Europe/Rome
BEGIN:VEVENT
UID:13091@milanoindiscoteca.it
DTSTART:20141031T031500Z
DTEND:20141031T031500Z
DTSTAMP:20141022T123527Z
URL:https://www.milanoindiscoteca.it/eventi-milano/halloween-2014-fabrique
 -milano/
SUMMARY:Halloween 2014 Fabrique Milano
DESCRIPTION:[pinkbox]Prezzi Halloween 2014 Fabrique Milano:\nPrevendite 25
 € (ingresso senza prevendita non garantito: 35€)\n&nbsp\;\nTavoli:\nPr
 ivè Palco Consolle 1200€ x 12 persone con 3 bottiglie(champagne o alcol
 ico superior)\nPrivè Pista 500€ x 10 persone con 2 bottiglie\nN.B. I ta
 voli per essere prenotati devono essere prepagati al 50%\n[/pinkbox]\n&nbs
 p\;\n\n&nbsp\;\n[midbox]Guarda qui tutti gli eventi serate Halloween Milan
 oLo staff di Milanoindiscoteca ti consiglia ben 21 feste di Halloween nei 
 più bei locali della città di Milano.[/midbox]\n&nbsp\;\nInfo line / Inf
 o tavoli Fabrique Milano milano: + 39 3282345620  (anche whatsapp)\nInfo S
 erata Halloween 2014 Fabrique Milano:\n&nbsp\;\nAMNESIA MILANO & DUDE pres
 entano IL GRAN BALLO DI HALLOWEEN\n \nGuest dj\nMARCEL DETTMANN\n(Ostgut T
 on - MDR)\nNINA KRAVIZ\n(Underground Quality\, Rekids\, Naif)\nNATHAN FAKE
 \n(Border Community\, Cambria Instruments)\nTHE ELECTRICALZ\n(Thisorder Re
 cods)\n&nbsp\;\nObbligo di maschera alla Freddy Krueger\, scenografie ispi
 rate al Joker\, zucche ovunque\, trucco e parrucco da film dell’orrore? 
 Niente di tutto questo\, venerdì 31 ottobre al neonato Fabrique di Milano
 \, dove va in scena Il Grande Ballo di Halloween\, dove non esiste dress c
 ode\, ma esclusivamente un dress code musicale garantito da un dream team 
 di djs e produttori di alto profilo internazionale: Marcel Detmann\, Nina 
 Kraviz\, Nathan Fake e The Electricalz.\n \nIl tedesco Marcel Detmann\, re
 sident al Berghain di Berlino e convinto sostenitore delle boiler room\, h
 a appena firmato la compilation numero 77 (!) del Fabric di Londra\, così
  come negli anni passati aveva realizzato analoghe raccolte per Cocoon. De
 tmann arriverà a Milano dopo aver suonato proprio al Fabric di Londra nel
  suo party per il quindicesimo compleanno. La russa Nina Kraviz\, cresciut
 a grazie al padre ascoltando le composizioni di Nino Rota\, è prossima al
  lancio del suo nuovo album e della sua nuova label\; uno dei rari casi di
  deejay la cui bellezza non offusca il talento. Nathan Fake fa sventolare 
 alta la bandiera britannica\, grazie ad un approccio alla musica che gli c
 onsente di alternare techno e ambient e di suscitare l’interesse di grup
 pi di culto quali i Radiohead. L’Italia non poteva stare a guardare in q
 uesto autentico melting pot musicale\, e demanda al duo The Electricalz il
  compito di rappresentare il tricolore come si deve.\n\nIl Grande Ballo di
  Halloween è organizzato da Dude Club\, Amnesia Milano\, Sincronie Milano
 \, Funk You e Fabrique Milano\, a conferma che i grandi successi derivano 
 soltanto dalle grandi sinergie.\n
ATTACH;FMTTYPE=image/jpeg:https://www.milanoindiscoteca.it/wp-content/uplo
 ads/2014/10/Halloween-2014-Nina-Kraviz-Nathan-Fake-Fabrique-Milano.jpg
CATEGORIES:Evento con prevendita,Evento in homepage,Serate Elettroniche
LOCATION:Fabrique Milano\, Via Fantoli 9\, Milano\, 20100\, Italia
GEO:45.452271;9.252526
X-APPLE-STRUCTURED-LOCATION;VALUE=URI;X-ADDRESS=Via Fantoli 9\, Milano\, 20
 100\, Italia;X-APPLE-RADIUS=100;X-TITLE=Fabrique Milano:geo:45.452271,9.25
 2526
END:VEVENT
END:VCALENDAR