BEGIN:VCALENDAR
VERSION:2.0
PRODID:-//wp-events-plugin.com//7.2.3.1//EN
TZID:Europe/Rome
X-WR-TIMEZONE:Europe/Rome
BEGIN:VEVENT
UID:16476@milanoindiscoteca.it
DTSTART:20150429T230000Z
DTEND:20150429T230000Z
DTSTAMP:20150428T190702Z
URL:https://www.milanoindiscoteca.it/eventi-milano/giovedi-opening-party-e
 xpo-the-club-milano/
SUMMARY:Giovedì Opening Party Expo The Club Milano
DESCRIPTION:[pinkbox]\n\nPrezzi Giovedì Opening Party Expo The Club Milano
 :\nIngresso in lista Milanoindiscoteca (23.30 - 01.00):\nDonna omaggio ent
 ro mezzanotte / Uomo 10€\nTavoli:\nDancefloor &amp\; Privè Gold: 160€
  con 1 bottiglia ogni 6 persone\nSuperprivè: 200€ con 1 bottiglia ogni 
 6 persone\nPRENOTA\nPer essere inseriti nella lista NOMINALE di MILANOINDI
 SCOTECA:\nscrivere sms (anche whatsapp) al +39 328 2345620 con: Opening Pa
 rty Expo The Club + nome e cognome + numero persone\nes: in 8 persone scri
 vere: Opening Party Expo The Club Francesco Verdi\, 8 persone\nSi ricorda 
 che è sempre vigente la selezione all’ingresso. Abbigliamento curato è
  sempre gradito.\nPer informazioni e prenotazioni contattare il +393282345
 620 (anche whatsapp)\n[/pinkbox]\nGiovedi 30 Aprile 2015 - Dalle ore 23.30
 \nTHE CLUB MILANO presenta:\nDay One - Opening Party EXPO MILANO 2015\nRes
 ident Djs: Ale Bucci aka Muthafunk\n\nIl 1° Giorno dell'attesissimo Expo 
 2015\nLa Serata prefestiva del 1° Maggio\nIl Giovedi Notte N°1 di Milano
 \nUna combinazione di Numeri PRIMI per una delle notti più attese dell'an
 no!\nL'Evento di Apertura che The Club Milano dedica all'Expo 2015\, duran
 te la sua serata da sempre più internazionale\, anche questa notte siamo 
 pronti a stupirvi!\n\nIL Giovedi Notte di Milano - The Club come ogni sett
 imana vi invita al suo spettacolo di Suoni-Luci-Colori - Emozioni\, fate s
 pazio nella vostra memoria perchè stanotte dovrete riempirla di ricordi!\
 n\nPer informazioni e prenotazioni contattare il +393282345620 (anche what
 sapp)
CATEGORIES:Evento con ingresso omaggio
LOCATION:The Club Milano\, Largo La Foppa - Corso Garibaldi\, 97\, Milano\,
  Italia
GEO:45.465454;9.186516
X-APPLE-STRUCTURED-LOCATION;VALUE=URI;X-ADDRESS=Largo La Foppa - Corso Gari
 baldi\, 97\, Milano\, Italia;X-APPLE-RADIUS=100;X-TITLE=The Club Milano:ge
 o:45.465454,9.186516
END:VEVENT
END:VCALENDAR