BEGIN:VCALENDAR
VERSION:2.0
PRODID:-//wp-events-plugin.com//7.2.3.1//EN
TZID:Europe/Rome
X-WR-TIMEZONE:Europe/Rome
BEGIN:VEVENT
UID:13088@milanoindiscoteca.it
DTSTART:20141022T230000Z
DTEND:20141022T230000Z
DTSTAMP:20141015T172629Z
URL:https://www.milanoindiscoteca.it/eventi-milano/giovedi-16-ottobre-supa
 lova-on-tour-amnesia-milano/
SUMMARY:Giovedì 23 Ottobre Supalova On Tour Amnesia Milano
DESCRIPTION:[pinkbox]Prezzi Giovedì 23 Ottobre Supalova On Tour Amnesia Mi
 lano:\nINGRESSO OMAGGIO PER TUTTI ENTRO LE 00.30\nRidotto Donna 10€ CON 
 CONSUMAZIONE(liste fino alla 1.15)\nRidotto Uomo 15€ CON CONSUMAZIONE(li
 ste fino alla 1.15)\n&nbsp\;\nTavoli:\nPrivè 180€ x 6 persone con 1 bot
 tiglia\nPista 150€ x 6 persone con 1 bottiglia\nN.B. I tavoli per essere
  prenotati devono essere prepagati al 50%\n[/pinkbox]\n&nbsp\;\nPer essere
  inseriti nella lista NOMINALE di MILANOINDISCOTECA:\nscrivere sms (anche 
 whatsapp) al +39 328 2345620 con: Amnesia Supalova + nome e cognome + nume
 ro persone\n\nes: in 8 persone scrivere: Amnesia Supalova Francesco Verdi\
 , 8 persone\n\nSi ricorda che è sempre vigente la selezione all’ingress
 o. Abbigliamento curato è sempre gradito.\n&nbsp\;\nInfo line / Info tavo
 li amnesia milano: + 39 3282345620  (anche whatsapp)\nInfo Serata Sabato 1
 8 Ottobre Karotte Amnesia Milano:\n&nbsp\;\nMain Room:\nJOE T VANNELLI\n\n
 VANNELLI BROS - MC CODY -ANIA J\nALA BERHT - DAVIDESSA - TANGHETTI\n\n&nbs
 p\;\nEffetto domino per Supalova. La one-night house del dj guru Joe T Van
 nelli (così lo ha definito a più riprese il critico musicale  Mario Luzz
 atto Fegiz) torna da giovedì 23 ottobre\, con un progetto che la porterà
  a coinvolgere diverse location milanesi. Un autentico tour\, un concept c
 he si ispira alle serate ibizenche\, capaci di modularsi ogni volta in man
 iera differente\, ma allo stesso tempo di mantenere intatta la sua essenza
 .\n\nL’esordio è fissato per giovedì 23 ottobre all’Amnesia Milano\,
  che con Supalova e Vannelli impreziosisce in maniera definitiva una progr
 ammazione che la vede sempre più protagonista nella realtà italiana ed i
 nternazionale del clubbing. Le tappe successive sono già state fissate: g
 iovedì 6 novembre al Grey’s Room\, giovedì 13 novembre di nuovo all’
 Amnesia\, giovedì 20 novembre all’Hollywood.\n\nConfermatissimo altres
 ì il cast artistico di Supalova\, composto da Joe T Vannelli e Vannelli B
 ros (djs)\, Mc Cody\, Anja J e Ala Berht (vocalist e performer)\, Davidess
 a (animazione) e Tanghetti (percussioni).\n\nUlteriore e fondamentale conf
 erma\, la diretta radiofonica di Supalova\, in programma ogni giovedì not
 te dall’1 alle 3 su m2o\, la più importante radio dance italiana. Sempr
 e su m2o\, Vannelli va in ogni sabato\, dalle 7 alle 8 di sera con Slave T
 o The Rhythm\, il suo programma dedicato alle migliori anteprime di musica
  house. Slave To The Rhythm è il radio-show house italiano più important
 e\, trasmesso in versione inglese da emittenti radiofoniche di tutto il mo
 ndo. Fra pochi giorni entrerà ufficialmente nel circuito mondiale di Dash
  Radio. Sempre all’insegna del più celebre slogan vannelliano\, “Hous
 e Forever”.\n
ATTACH;FMTTYPE=image/jpeg:https://www.milanoindiscoteca.it/wp-content/uplo
 ads/2014/10/Giovedì-23-Ottobre-Supalova-On-Tour-Amnesia-Milano.jpg
CATEGORIES:Evento con ingresso omaggio,Evento in homepage,Serate
 Elettroniche
LOCATION:Amnesia Milano\, Via Alfonso Gatto (angolo Forlanini)\, Milano\, I
 talia
GEO:45.465454;9.186516
X-APPLE-STRUCTURED-LOCATION;VALUE=URI;X-ADDRESS=Via Alfonso Gatto (angolo F
 orlanini)\, Milano\, Italia;X-APPLE-RADIUS=100;X-TITLE=Amnesia Milano:geo:
 45.465454,9.186516
END:VEVENT
END:VCALENDAR