BEGIN:VCALENDAR
VERSION:2.0
PRODID:-//wp-events-plugin.com//7.2.3.1//EN
TZID:Europe/Rome
X-WR-TIMEZONE:Europe/Rome
BEGIN:VEVENT
UID:15973@milanoindiscoteca.it
DTSTART:20150307T230000Z
DTEND:20150307T230000Z
DTSTAMP:20150301T193614Z
URL:https://www.milanoindiscoteca.it/eventi-milano/festa-della-donna-the-c
 lub-milano/
SUMMARY:Festa della Donna The Club Milano
DESCRIPTION:Se la tua idea è quella di festeggiare la Festa della donna a 
 Milano\, insieme alle tue amiche\, in un locale a Milano\, la tua scelta n
 on può che ricadere sulla discoteca The Club di Piazza della Moscova.\n\n
 La discoteca The Club Milano\, infatti\, propone una Festa della donna al
 l’insegna del buon vino. Tutte le donne potranno usufruire della formula
  OPEN WINE\; open bar di vino!\n\n[pinkbox]\nPrezzi Festa della donna The 
 Club Milano\nOpen Wine Festa Della Donna The Club\n(solo per donne)\n[dal
 le 20 alle 23]\nIngresso NOMINALE in Lista Milanoindiscoteca:\n15€ con 
 Open Wine + Buffet\nIngresso Serata Festa Della Donna The Club Milano:\nIn
 gresso ridotto in Lista Milanoindiscoteca:\n10€ Donna / 15€ Uomo\ncon 
 un drink\n(ingresso dalle ore 23.30)\nTavoli in discoteca Festa Della Donn
 a The Club Milano:\nda 150€ per 6 ingressi\nPRENOTA\nPer maggiori info
 rmazioni e prenotazioni:\n+39 333 3355536 (anche whatsapp)\nPer essere ins
 eriti nella lista NOMINALE di MILANOINDISCOTECA:\nscrivere sms (anche what
 sapp) al +39 328 2345620 con: Donna the club + nome e cognome + numero per
 sone\nes: in 8 persone scrivere: Donna The Club Francesco Verdi\, 8 perso
 ne\nSi ricorda che è sempre vigente la selezione all’ingresso. abbiglia
 mento curato e ingresso a coppie è sempre gradito.\n[/pinkbox]\n\n[captio
 n id="attachment_22812" align="aligncenter" width="500"] Festa della donna
  discoteca The Club Milano[/caption]\nInformazioni Festa della donna The 
 Club Milano\nFino alle 23 la serata sarà dedicata ad un pubblico femminil
 e e caratterizzata da un aperitivo a buffet Open Wine. E non vini qualunqu
 e ma:\nBianco: Trebbiano “In Purezza”\nRosso: Chianti dei Colli Senesi
  “Colli Alberti”\nBollicine: Superbrut “Diamond” \,il 1° spumante
  al mondo aromatizzato alla Vodka\nRosè Fountain: preparatevi per un gran
 de spettacolo con litri di Rosè pronti a straripare dalla nostra fontana\
 n\nOltre il buon vino ed un ottimo e curato buffet non mancherà lo show d
 ei ragazzi di Hollister Milano!\n\nPer maggiori informazioni e prenotazion
 i:\n+39 333 3355536 (anche whatsapp)
ATTACH;FMTTYPE=image/jpeg:https://www.milanoindiscoteca.it/wp-content/uplo
 ads/2015/03/Festa-della-donna-The-Club-Milano.jpg
CATEGORIES:Evento in homepage
LOCATION:The Club Milano\, Largo La Foppa - Corso Garibaldi\, 97\, Milano\,
  Italia
GEO:45.465454;9.186516
X-APPLE-STRUCTURED-LOCATION;VALUE=URI;X-ADDRESS=Largo La Foppa - Corso Gari
 baldi\, 97\, Milano\, Italia;X-APPLE-RADIUS=100;X-TITLE=The Club Milano:ge
 o:45.465454,9.186516
END:VEVENT
END:VCALENDAR