BEGIN:VCALENDAR
VERSION:2.0
PRODID:-//wp-events-plugin.com//7.2.3.1//EN
TZID:Europe/Rome
X-WR-TIMEZONE:Europe/Rome
BEGIN:VEVENT
UID:15981@milanoindiscoteca.it
DTSTART:20150307T231500Z
DTEND:20150307T231500Z
DTSTAMP:20150302T165331Z
URL:https://www.milanoindiscoteca.it/eventi-milano/festa-della-donna-just-
 cavalli-milano/
SUMMARY:Festa della donna Just Cavalli Milano
DESCRIPTION:[pinkbox]\nPrezzi Festa della donna Just Cavalli Milano\nAperi
 tivo Festa Della Donna Just Cavalli Milano:\n[dalle 20 alle 22.30]\nIngre
 sso NOMINALE in Lista Milanoindiscoteca:\n10€\n\nCena Festa Della Donn
 a Just Cavalli Milano:\nIngresso NOMINALE in Lista Milanoindiscoteca:\n50
 € \n\nIngresso Serata Festa Della Donna Just Cavalli Milano:\nIngresso
  ridotto in Lista Milanoindiscoteca:\n15€\n(ingresso dalle ore 23)\n\nTa
 voli in discoteca Festa Della Donna Just Cavalli Milano:\na partire da 3
 00€ per 5 ingressi\nPRENOTA\nPer maggiori informazioni e prenotazioni:\n
 +39 333 3355536 (anche whatsapp)\nPer essere inseriti nella lista NOMINALE
  di MILANOINDISCOTECA:\nscrivere sms (anche whatsapp) al +39 328 2345620 c
 on: Donna the club + nome e cognome + numero persone\nes: in 8 persone scr
 ivere: Donna The Club Francesco Verdi\, 8 persone\nSi ricorda che è semp
 re vigente la selezione all’ingresso. abbigliamento curato e ingresso a 
 coppie è sempre gradito.\n[/pinkbox]\n\nPer maggiori informazioni e preno
 tazioni:\n+39 333 3355536 (anche whatsapp)
ATTACH;FMTTYPE=image/jpeg:https://www.milanoindiscoteca.it/wp-content/uplo
 ads/2015/03/Festa-della-donna-just-cavalli-Milano.jpg
CATEGORIES:Evento in homepage
LOCATION:Just Cavalli Milano\, Via Luigi Camoens\, Milano\, 20121\, Italia
GEO:45.47297;9.172896
X-APPLE-STRUCTURED-LOCATION;VALUE=URI;X-ADDRESS=Via Luigi Camoens\, Milano\
 , 20121\, Italia;X-APPLE-RADIUS=100;X-TITLE=Just Cavalli Milano:geo:45.472
 97,9.172896
END:VEVENT
END:VCALENDAR